Workbook

Sheet akt
E1: =COUNT(E34:E159) -> 58 | F1: =COUNT(F34:F159) -> 81 | G1: =COUNT(G34:G159) -> 80 | H1: =COUNT(H34:H159) -> 76 | I1: =COUNT(I34:I159) -> 72 | J1: =COUNT(J34:J159) -> 60 | K1: =COUNT(K34:K159) -> 58 | L1: =COUNT(L34:L159) -> 49 | ... N1: =COUNT(N34:N159) -> 37
B2: Full Name | C2: Ime i prezime | D2: index | E2: 1t 2.3.21 | F2: 2t 9.3.21 | G2: 3t 16.3.21 | H2: 4t 23.3.21 | I2: 5t 30.3.21 | J2: 6t 6.4.21 | K2: 7t 13.4.21 | L2: 9t 27.4.21 | M2: 10t 11.5.21 | N2: 11t 18.5.22 | O2: ukupno
A3: 1 | B3: Aleksa Mirković | 2020/1011 | C3: =LEFT(B3,LEN(B3)-12) -> Aleksa Mirković | D3: =RIGHT(B3,9) -> 2020/1011 | E3: 1 | F3: =IF(_xlfn.IFNA(MATCH(B:B,'Prisustvo 09_03'!$A:$A,0),0)=0,"",1) -> 1 | G3: =IF(_xlfn.IFNA(MATCH(B:B,Prisustvo_16_03!$A:$A,0),0)=0,"",1) -> 1 | H3: =IF(_xlfn.IFNA(MATCH(B:B,'Prisustvo 23_03'!$A:$A,0),0)=0,"",1) | I3: =IF(_xlfn.IFNA(MATCH(B:B,'Prisustvo 30_03'!$A:$A,0),0)=0,"",1) -> 1 | J3: =IF(_xlfn.IFNA(MATCH(B:B,'Prisustvo 06_04'!$A:$A,0),0)=0,"",1) -> 1 | K3: =IF(_xlfn.IFNA(MATCH(B:B,'Prisustvo 13_04'!$A:$A,0),0)=0,"",1) | L3: =IF(_xlfn.IFNA(MATCH(B:B,'Prisustvo 27_04'!$A:$A,0),0)=0,"",1) -> 1 | M3: =IF(_xlfn.IFNA(MATCH(B:B,'Prisustvo 11_05'!$A:$A,0),0)=0,"",1) -> 1 | N3: =IF(_xlfn.IFNA(MATCH(B:B,'Prisustvo 18_05'!$A:$A,0),0)=0,"",1) | O3: =SUM(E3:N3) -> 7
A4: 2 | B4: Aleksa Radojičić | 2019/0165 | C4: =LEFT(B4,LEN(B4)-12) -> Aleksa Radojičić | D4: =RIGHT(B4,9) -> 2019/0165 | E4: 1 | F4: =IF(_xlfn.IFNA(MATCH(B:B,'Prisustvo 09_03'!$A:$A,0),0)=0,"",1) | G4: =IF(_xlfn.IFNA(MATCH(B:B,Prisustvo_16_03!$A:$A,0),0)=0,"",1) -> 1 | H4: =IF(_xlfn.IFNA(MATCH(B:B,'Prisustvo 23_03'!$A:$A,0),0)=0,"",1) -> 1 | I4: =IF(_xlfn.IFNA(MATCH(B:B,'Prisustvo 30_03'!$A:$A,0),0)=0,"",1) -> 1 | J4: =IF(_xlfn.IFNA(MATCH(B:B,'Prisustvo 06_04'!$A:$A,0),0)=0,"",1) -> 1 | K4: =IF(_xlfn.IFNA(MATCH(B:B,'Prisustvo 13_04'!$A:$A,0),0)=0,"",1) -> 1 | L4: =IF(_xlfn.IFNA(MATCH(B:B,'Prisustvo 27_04'!$A:$A,0),0)=0,"",1) -> 1 | M4: =IF(_xlfn.IFNA(MATCH(B:B,'Prisustvo 11_05'!$A:$A,0),0)=0,"",1) -> 1 | N4: =IF(_xlfn.IFNA(MATCH(B:B,'Prisustvo 18_05'!$A:$A,0),0)=0,"",1) -> 1 | O4: =SUM(E4:N4) -> 9
A5: 3 | B5: Aleksa Vukosavljević | 2018/0341 | C5: =LEFT(B5,LEN(B5)-12) -> Aleksa Vukosavljević | D5: =RIGHT(B5,9) -> 2018/0341 | E5: =IF(_xlfn.IFNA(MATCH(B:B,'Prisustvo 02_03_21'!$A:$A,0),0)=0,"",1) | F5: =IF(_xlfn.IFNA(MATCH(B:B,'Prisustvo 09_03'!$A:$A,0),0)=0,"",1) | G5: =IF(_xlfn.IFNA(MATCH(B:B,Prisustvo_16_03!$A:$A,0),0)=0,"",1) | H5: =IF(_xlfn.IFNA(MATCH(B:B,'Prisustvo 23_03'!$A:$A,0),0)=0,"",1) -> 1 | I5: =IF(_xlfn.IFNA(MATCH(B:B,'Prisustvo 30_03'!$A:$A,0),0)=0,"",1) | J5: =IF(_xlfn.IFNA(MATCH(B:B,'Prisustvo 06_04'!$A:$A,0),0)=0,"",1) | K5: =IF(_xlfn.IFNA(MATCH(B:B,'Prisustvo 13_04'!$A:$A,0),0)=0,"",1) | L5: =IF(_xlfn.IFNA(MATCH(B:B,'Prisustvo 27_04'!$A:$A,0),0)=0,"",1) | M5: =IF(_xlfn.IFNA(MATCH(B:B,'Prisustvo 11_05'!$A:$A,0),0)=0,"",1) | N5: =IF(_xlfn.IFNA(MATCH(B:B,'Prisustvo 18_05'!$A:$A,0),0)=0,"",1) | O5: =SUM(E5:N5) -> 1
A6: 4 | B6: Aleksa Vuruna | 2019/0363 | C6: =LEFT(B6,LEN(B6)-12) -> Aleksa Vuruna | D6: =RIGHT(B6,9) -> 2019/0363 | E6: =IF(_xlfn.IFNA(MATCH(B:B,'Prisustvo 02_03_21'!$A:$A,0),0)=0,"",1) | F6: =IF(_xlfn.IFNA(MATCH(B:B,'Prisustvo 09_03'!$A:$A,0),0)=0,"",1) | G6: =IF(_xlfn.IFNA(MATCH(B:B,Prisustvo_16_03!$A:$A,0),0)=0,"",1) | H6: =IF(_xlfn.IFNA(MATCH(B:B,'Prisustvo 23_03'!$A:$A,0),0)=0,"",1) | I6: =IF(_xlfn.IFNA(MATCH(B:B,'Prisustvo 30_03'!$A:$A,0),0)=0,"",1) -> 1 | J6: =IF(_xlfn.IFNA(MATCH(B:B,'Prisustvo 06_04'!$A:$A,0),0)=0,"",1) | K6: =IF(_xlfn.IFNA(MATCH(B:B,'Prisustvo 13_04'!$A:$A,0),0)=0,"",1) | L6: =IF(_xlfn.IFNA(MATCH(B:B,'Prisustvo 27_04'!$A:$A,0),0)=0,"",1) | M6: =IF(_xlfn.IFNA(MATCH(B:B,'Prisustvo 11_05'!$A:$A,0),0)=0,"",1) | N6: =IF(_xlfn.IFNA(MATCH(B:B,'Prisustvo 18_05'!$A:$A,0),0)=0,"",1) | O6: =SUM(E6:N6) -> 1
A7: 5 | B7: Aleksandra Mitić | 2019/0044 | C7: =LEFT(B7,LEN(B7)-12) -> Aleksandra Mitić | D7: =RIGHT(B7,9) -> 2019/0044 | E7: 1 | F7: =IF(_xlfn.IFNA(MATCH(B:B,'Prisustvo 09_03'!$A:$A,0),0)=0,"",1) -> 1 | G7: =IF(_xlfn.IFNA(MATCH(B:B,Prisustvo_16_03!$A:$A,0),0)=0,"",1) -> 1 | H7: =IF(_xlfn.IFNA(MATCH(B:B,'Prisustvo 23_03'!$A:$A,0),0)=0,"",1) -> 1 | I7: =IF(_xlfn.IFNA(MATCH(B:B,'Prisustvo 30_03'!$A:$A,0),0)=0,"",1) | J7: =IF(_xlfn.IFNA(MATCH(B:B,'Prisustvo 06_04'!$A:$A,0),0)=0,"",1) -> 1 | K7: =IF(_xlfn.IFNA(MATCH(B:B,'Prisustvo 13_04'!$A:$A,0),0)=0,"",1) -> 1 | L7: =IF(_xlfn.IFNA(MATCH(B:B,'Prisustvo 27_04'!$A:$A,0),0)=0,"",1) -> 1 | M7: =IF(_xlfn.IFNA(MATCH(B:B,'Prisustvo 11_05'!$A:$A,0),0)=0,"",1) -> 1 | N7: =IF(_xlfn.IFNA(MATCH(B:B,'Prisustvo 18_05'!$A:$A,0),0)=0,"",1) | O7: =SUM(E7:N7) -> 8
A8: 6 | B8: Aleksandra Tanović | 2019/0187 | C8: =LEFT(B8,LEN(B8)-12) -> Aleksandra Tanović | D8: =RIGHT(B8,9) -> 2019/0187 | E8: =IF(_xlfn.IFNA(MATCH(B:B,'Prisustvo 02_03_21'!$A:$A,0),0)=0,"",1) | F8: =IF(_xlfn.IFNA(MATCH(B:B,'Prisustvo 09_03'!$A:$A,0),0)=0,"",1) -> 1 | G8: =IF(_xlfn.IFNA(MATCH(B:B,Prisustvo_16_03!$A:$A,0),0)=0,"",1) -> 1 | H8: =IF(_xlfn.IFNA(MATCH(B:B,'Prisustvo 23_03'!$A:$A,0),0)=0,"",1) -> 1 | I8: =IF(_xlfn.IFNA(MATCH(B:B,'Prisustvo 30_03'!$A:$A,0),0)=0,"",1) -> 1 | J8: =IF(_xlfn.IFNA(MATCH(B:B,'Prisustvo 06_04'!$A:$A,0),0)=0,"",1) -> 1 | K8: =IF(_xlfn.IFNA(MATCH(B:B,'Prisustvo 13_04'!$A:$A,0),0)=0,"",1) -> 1 | L8: =IF(_xlfn.IFNA(MATCH(B:B,'Prisustvo 27_04'!$A:$A,0),0)=0,"",1) -> 1 | M8: =IF(_xlfn.IFNA(MATCH(B:B,'Prisustvo 11_05'!$A:$A,0),0)=0,"",1) -> 1 | N8: =IF(_xlfn.IFNA(MATCH(B:B,'Prisustvo 18_05'!$A:$A,0),0)=0,"",1) | O8: =SUM(E8:N8) -> 8
A9: 7 | B9: Ana Bulatović | 2018/0424 | C9: =LEFT(B9,LEN(B9)-12) -> Ana Bulatović | D9: =RIGHT(B9,9) -> 2018/0424 | E9: 1 | F9: =IF(_xlfn.IFNA(MATCH(B:B,'Prisustvo 09_03'!$A:$A,0),0)=0,"",1) -> 1 | G9: =IF(_xlfn.IFNA(MATCH(B:B,Prisustvo_16_03!$A:$A,0),0)=0,"",1) | H9: =IF(_xlfn.IFNA(MATCH(B:B,'Prisustvo 23_03'!$A:$A,0),0)=0,"",1) -> 1 | I9: =IF(_xlfn.IFNA(MATCH(B:B,'Prisustvo 30_03'!$A:$A,0),0)=0,"",1) -> 1 | J9: =IF(_xlfn.IFNA(MATCH(B:B,'Prisustvo 06_04'!$A:$A,0),0)=0,"",1) -> 1 | K9: =IF(_xlfn.IFNA(MATCH(B:B,'Prisustvo 13_04'!$A:$A,0),0)=0,"",1) -> 1 | L9: =IF(_xlfn.IFNA(MATCH(B:B,'Prisustvo 27_04'!$A:$A,0),0)=0,"",1) -> 1 | M9: =IF(_xlfn.IFNA(MATCH(B:B,'Prisustvo 11_05'!$A:$A,0),0)=0,"",1) -> 1 | N9: =IF(_xlfn.IFNA(MATCH(B:B,'Prisustvo 18_05'!$A:$A,0),0)=0,"",1) | O9: =SUM(E9:N9) -> 8
A10: 8 | B10: Ana Stojić | 2020/1042 | C10: =LEFT(B10,LEN(B10)-12) -> Ana Stojić | D10: =RIGHT(B10,9) -> 2020/1042 | E10: 1 | F10: =IF(_xlfn.IFNA(MATCH(B:B,'Prisustvo 09_03'!$A:$A,0),0)=0,"",1) -> 1 | G10: =IF(_xlfn.IFNA(MATCH(B:B,Prisustvo_16_03!$A:$A,0),0)=0,"",1) -> 1 | H10: =IF(_xlfn.IFNA(MATCH(B:B,'Prisustvo 23_03'!$A:$A,0),0)=0,"",1) -> 1 | I10: =IF(_xlfn.IFNA(MATCH(B:B,'Prisustvo 30_03'!$A:$A,0),0)=0,"",1) -> 1 | J10: =IF(_xlfn.IFNA(MATCH(B:B,'Prisustvo 06_04'!$A:$A,0),0)=0,"",1) -> 1 | K10: =IF(_xlfn.IFNA(MATCH(B:B,'Prisustvo 13_04'!$A:$A,0),0)=0,"",1) -> 1 | L10: =IF(_xlfn.IFNA(MATCH(B:B,'Prisustvo 27_04'!$A:$A,0),0)=0,"",1) | M10: =IF(_xlfn.IFNA(MATCH(B:B,'Prisustvo 11_05'!$A:$A,0),0)=0,"",1) -> 1 | N10: =IF(_xlfn.IFNA(MATCH(B:B,'Prisustvo 18_05'!$A:$A,0),0)=0,"",1) -> 1 | O10: =SUM(E10:N10) -> 9
A11: 9 | B11: Anastasija Golijanin | 2019/0301 | C11: =LEFT(B11,LEN(B11)-12) -> Anastasija Golijanin | D11: =RIGHT(B11,9) -> 2019/0301 | E11: =IF(_xlfn.IFNA(MATCH(B:B,'Prisustvo 02_03_21'!$A:$A,0),0)=0,"",1) | F11: =IF(_xlfn.IFNA(MATCH(B:B,'Prisustvo 09_03'!$A:$A,0),0)=0,"",1) -> 1 | G11: =IF(_xlfn.IFNA(MATCH(B:B,Prisustvo_16_03!$A:$A,0),0)=0,"",1) -> 1 | H11: =IF(_xlfn.IFNA(MATCH(B:B,'Prisustvo 23_03'!$A:$A,0),0)=0,"",1) -> 1 | I11: =IF(_xlfn.IFNA(MATCH(B:B,'Prisustvo 30_03'!$A:$A,0),0)=0,"",1) -> 1 | J11: =IF(_xlfn.IFNA(MATCH(B:B,'Prisustvo 06_04'!$A:$A,0),0)=0,"",1) -> 1 | K11: =IF(_xlfn.IFNA(MATCH(B:B,'Prisustvo 13_04'!$A:$A,0),0)=0,"",1) -> 1 | L11: =IF(_xlfn.IFNA(MATCH(B:B,'Prisustvo 27_04'!$A:$A,0),0)=0,"",1) -> 1 | M11: =IF(_xlfn.IFNA(MATCH(B:B,'Prisustvo 11_05'!$A:$A,0),0)=0,"",1) | N11: =IF(_xlfn.IFNA(MATCH(B:B,'Prisustvo 18_05'!$A:$A,0),0)=0,"",1) -> 1 | O11: =SUM(E11:N11) -> 8
A12: 10 | B12: Anđela Beloševac | 2019/0118 | C12: =LEFT(B12,LEN(B12)-12) -> Anđela Beloševac | D12: =RIGHT(B12,9) -> 2019/0118 | E12: 1 | F12: =IF(_xlfn.IFNA(MATCH(B:B,'Prisustvo 09_03'!$A:$A,0),0)=0,"",1) -> 1 | G12: =IF(_xlfn.IFNA(MATCH(B:B,Prisustvo_16_03!$A:$A,0),0)=0,"",1) -> 1 | H12: =IF(_xlfn.IFNA(MATCH(B:B,'Prisustvo 23_03'!$A:$A,0),0)=0,"",1) -> 1 | I12: =IF(_xlfn.IFNA(MATCH(B:B,'Prisustvo 30_03'!$A:$A,0),0)=0,"",1) -> 1 | J12: =IF(_xlfn.IFNA(MATCH(B:B,'Prisustvo 06_04'!$A:$A,0),0)=0,"",1) -> 1 | K12: =IF(_xlfn.IFNA(MATCH(B:B,'Prisustvo 13_04'!$A:$A,0),0)=0,"",1) -> 1 | L12: =IF(_xlfn.IFNA(MATCH(B:B,'Prisustvo 27_04'!$A:$A,0),0)=0,"",1) -> 1 | M12: =IF(_xlfn.IFNA(MATCH(B:B,'Prisustvo 11_05'!$A:$A,0),0)=0,"",1) | N12: =IF(_xlfn.IFNA(MATCH(B:B,'Prisustvo 18_05'!$A:$A,0),0)=0,"",1) -> 1 | O12: =SUM(E12:N12) -> 9
A13: 11 | B13: Anđela Jovanović | 2020/1046 | C13: =LEFT(B13,LEN(B13)-12) -> Anđela Jovanović | D13: =RIGHT(B13,9) -> 2020/1046 | E13: 1 | F13: =IF(_xlfn.IFNA(MATCH(B:B,'Prisustvo 09_03'!$A:$A,0),0)=0,"",1) -> 1 | G13: =IF(_xlfn.IFNA(MATCH(B:B,Prisustvo_16_03!$A:$A,0),0)=0,"",1) | H13: =IF(_xlfn.IFNA(MATCH(B:B,'Prisustvo 23_03'!$A:$A,0),0)=0,"",1) -> 1 | I13: =IF(_xlfn.IFNA(MATCH(B:B,'Prisustvo 30_03'!$A:$A,0),0)=0,"",1) -> 1 | J13: =IF(_xlfn.IFNA(MATCH(B:B,'Prisustvo 06_04'!$A:$A,0),0)=0,"",1) -> 1 | K13: =IF(_xlfn.IFNA(MATCH(B:B,'Prisustvo 13_04'!$A:$A,0),0)=0,"",1) | L13: =IF(_xlfn.IFNA(MATCH(B:B,'Prisustvo 27_04'!$A:$A,0),0)=0,"",1) -> 1 | M13: =IF(_xlfn.IFNA(MATCH(B:B,'Prisustvo 11_05'!$A:$A,0),0)=0,"",1) | N13: =IF(_xlfn.IFNA(MATCH(B:B,'Prisustvo 18_05'!$A:$A,0),0)=0,"",1) | O13: =SUM(E13:N13) -> 6
A14: 12 | B14: Anđela Petrović | 2020/1040 | C14: =LEFT(B14,LEN(B14)-12) -> Anđela Petrović | D14: =RIGHT(B14,9) -> 2020/1040 | E14: 1 | F14: =IF(_xlfn.IFNA(MATCH(B:B,'Prisustvo 09_03'!$A:$A,0),0)=0,"",1) -> 1 | G14: =IF(_xlfn.IFNA(MATCH(B:B,Prisustvo_16_03!$A:$A,0),0)=0,"",1) -> 1 | H14: =IF(_xlfn.IFNA(MATCH(B:B,'Prisustvo 23_03'!$A:$A,0),0)=0,"",1) -> 1 | I14: =IF(_xlfn.IFNA(MATCH(B:B,'Prisustvo 30_03'!$A:$A,0),0)=0,"",1) | J14: =IF(_xlfn.IFNA(MATCH(B:B,'Prisustvo 06_04'!$A:$A,0),0)=0,"",1) -> 1 | K14: =IF(_xlfn.IFNA(MATCH(B:B,'Prisustvo 13_04'!$A:$A,0),0)=0,"",1) -> 1 | L14: =IF(_xlfn.IFNA(MATCH(B:B,'Prisustvo 27_04'!$A:$A,0),0)=0,"",1) | M14: =IF(_xlfn.IFNA(MATCH(B:B,'Prisustvo 11_05'!$A:$A,0),0)=0,"",1) | N14: =IF(_xlfn.IFNA(MATCH(B:B,'Prisustvo 18_05'!$A:$A,0),0)=0,"",1) | O14: =SUM(E14:N14) -> 6
A15: 13 | B15: Anđela Stojanović | 2019/0345 | C15: =LEFT(B15,LEN(B15)-12) -> Anđela Stojanović | D15: =RIGHT(B15,9) -> 2019/0345 | E15: =IF(_xlfn.IFNA(MATCH(B:B,'Prisustvo 02_03_21'!$A:$A,0),0)=0,"",1) | F15: =IF(_xlfn.IFNA(MATCH(B:B,'Prisustvo 09_03'!$A:$A,0),0)=0,"",1) -> 1 | G15: =IF(_xlfn.IFNA(MATCH(B:B,Prisustvo_16_03!$A:$A,0),0)=0,"",1) -> 1 | H15: =IF(_xlfn.IFNA(MATCH(B:B,'Prisustvo 23_03'!$A:$A,0),0)=0,"",1) -> 1 | I15: =IF(_xlfn.IFNA(MATCH(B:B,'Prisustvo 30_03'!$A:$A,0),0)=0,"",1) | J15: =IF(_xlfn.IFNA(MATCH(B:B,'Prisustvo 06_04'!$A:$A,0),0)=0,"",1) -> 1 | K15: =IF(_xlfn.IFNA(MATCH(B:B,'Prisustvo 13_04'!$A:$A,0),0)=0,"",1) | L15: =IF(_xlfn.IFNA(MATCH(B:B,'Prisustvo 27_04'!$A:$A,0),0)=0,"",1) | M15: =IF(_xlfn.IFNA(MATCH(B:B,'Prisustvo 11_05'!$A:$A,0),0)=0,"",1) | N15: =IF(_xlfn.IFNA(MATCH(B:B,'Prisustvo 18_05'!$A:$A,0),0)=0,"",1) | O15: =SUM(E15:N15) -> 4
A16: 14 | B16: Anđela Trkulja | 2019/0219 | C16: =LEFT(B16,LEN(B16)-12) -> Anđela Trkulja | D16: =RIGHT(B16,9) -> 2019/0219 | E16: =IF(_xlfn.IFNA(MATCH(B:B,'Prisustvo 02_03_21'!$A:$A,0),0)=0,"",1) | F16: =IF(_xlfn.IFNA(MATCH(B:B,'Prisustvo 09_03'!$A:$A,0),0)=0,"",1) -> 1 | G16: =IF(_xlfn.IFNA(MATCH(B:B,Prisustvo_16_03!$A:$A,0),0)=0,"",1) | H16: =IF(_xlfn.IFNA(MATCH(B:B,'Prisustvo 23_03'!$A:$A,0),0)=0,"",1) | I16: =IF(_xlfn.IFNA(MATCH(B:B,'Prisustvo 30_03'!$A:$A,0),0)=0,"",1) | J16: =IF(_xlfn.IFNA(MATCH(B:B,'Prisustvo 06_04'!$A:$A,0),0)=0,"",1) | K16: =IF(_xlfn.IFNA(MATCH(B:B,'Prisustvo 13_04'!$A:$A,0),0)=0,"",1) | L16: =IF(_xlfn.IFNA(MATCH(B:B,'Prisustvo 27_04'!$A:$A,0),0)=0,"",1) | M16: =IF(_xlfn.IFNA(MATCH(B:B,'Prisustvo 11_05'!$A:$A,0),0)=0,"",1) | N16: =IF(_xlfn.IFNA(MATCH(B:B,'Prisustvo 18_05'!$A:$A,0),0)=0,"",1) | O16: =SUM(E16:N16) -> 1
A17: 15 | B17: Andrea Filipović | 2019/0292 | C17: =LEFT(B17,LEN(B17)-12) -> Andrea Filipović | D17: =RIGHT(B17,9) -> 2019/0292 | E17: =IF(_xlfn.IFNA(MATCH(B:B,'Prisustvo 02_03_21'!$A:$A,0),0)=0,"",1) | F17: =IF(_xlfn.IFNA(MATCH(B:B,'Prisustvo 09_03'!$A:$A,0),0)=0,"",1) -> 1 | G17: =IF(_xlfn.IFNA(MATCH(B:B,Prisustvo_16_03!$A:$A,0),0)=0,"",1) -> 1 | H17: =IF(_xlfn.IFNA(MATCH(B:B,'Prisustvo 23_03'!$A:$A,0),0)=0,"",1) -> 1 | I17: =IF(_xlfn.IFNA(MATCH(B:B,'Prisustvo 30_03'!$A:$A,0),0)=0,"",1) -> 1 | J17: =IF(_xlfn.IFNA(MATCH(B:B,'Prisustvo 06_04'!$A:$A,0),0)=0,"",1) -> 1 | K17: =IF(_xlfn.IFNA(MATCH(B:B,'Prisustvo 13_04'!$A:$A,0),0)=0,"",1) -> 1 | L17: =IF(_xlfn.IFNA(MATCH(B:B,'Prisustvo 27_04'!$A:$A,0),0)=0,"",1) | M17: =IF(_xlfn.IFNA(MATCH(B:B,'Prisustvo 11_05'!$A:$A,0),0)=0,"",1) -> 1 | N17: =IF(_xlfn.IFNA(MATCH(B:B,'Prisustvo 18_05'!$A:$A,0),0)=0,"",1) | O17: =SUM(E17:N17) -> 7
A18: 16 | B18: Andrej Pavlović | 2019/0233 | C18: =LEFT(B18,LEN(B18)-12) -> Andrej Pavlović | D18: =RIGHT(B18,9) -> 2019/0233 | E18: =IF(_xlfn.IFNA(MATCH(B:B,'Prisustvo 02_03_21'!$A:$A,0),0)=0,"",1) | F18: =IF(_xlfn.IFNA(MATCH(B:B,'Prisustvo 09_03'!$A:$A,0),0)=0,"",1) -> 1 | G18: =IF(_xlfn.IFNA(MATCH(B:B,Prisustvo_16_03!$A:$A,0),0)=0,"",1) -> 1 | H18: =IF(_xlfn.IFNA(MATCH(B:B,'Prisustvo 23_03'!$A:$A,0),0)=0,"",1) -> 1 | I18: =IF(_xlfn.IFNA(MATCH(B:B,'Prisustvo 30_03'!$A:$A,0),0)=0,"",1) -> 1 | J18: =IF(_xlfn.IFNA(MATCH(B:B,'Prisustvo 06_04'!$A:$A,0),0)=0,"",1) -> 1 | K18: =IF(_xlfn.IFNA(MATCH(B:B,'Prisustvo 13_04'!$A:$A,0),0)=0,"",1) -> 1 | L18: =IF(_xlfn.IFNA(MATCH(B:B,'Prisustvo 27_04'!$A:$A,0),0)=0,"",1) -> 1 | M18: =IF(_xlfn.IFNA(MATCH(B:B,'Prisustvo 11_05'!$A:$A,0),0)=0,"",1) -> 1 | N18: =IF(_xlfn.IFNA(MATCH(B:B,'Prisustvo 18_05'!$A:$A,0),0)=0,"",1) -> 1 | O18: =SUM(E18:N18) -> 9
A19: 17 | B19: Andrijana Čanić | 2019/0296 | C19: =LEFT(B19,LEN(B19)-12) -> Andrijana Čanić | D19: =RIGHT(B19,9) -> 2019/0296 | E19: 1 | F19: =IF(_xlfn.IFNA(MATCH(B:B,'Prisustvo 09_03'!$A:$A,0),0)=0,"",1) -> 1 | G19: =IF(_xlfn.IFNA(MATCH(B:B,Prisustvo_16_03!$A:$A,0),0)=0,"",1) -> 1 | H19: =IF(_xlfn.IFNA(MATCH(B:B,'Prisustvo 23_03'!$A:$A,0),0)=0,"",1) -> 1 | I19: =IF(_xlfn.IFNA(MATCH(B:B,'Prisustvo 30_03'!$A:$A,0),0)=0,"",1) -> 1 | J19: =IF(_xlfn.IFNA(MATCH(B:B,'Prisustvo 06_04'!$A:$A,0),0)=0,"",1) | K19: =IF(_xlfn.IFNA(MATCH(B:B,'Prisustvo 13_04'!$A:$A,0),0)=0,"",1) -> 1 | L19: =IF(_xlfn.IFNA(MATCH(B:B,'Prisustvo 27_04'!$A:$A,0),0)=0,"",1) | M19: =IF(_xlfn.IFNA(MATCH(B:B,'Prisustvo 11_05'!$A:$A,0),0)=0,"",1) -> 1 | N19: =IF(_xlfn.IFNA(MATCH(B:B,'Prisustvo 18_05'!$A:$A,0),0)=0,"",1) -> 1 | O19: =SUM(E19:N19) -> 8
A20: 18 | B20: Andrijana Mitić | 2018/0360 | C20: =LEFT(B20,LEN(B20)-12) -> Andrijana Mitić | D20: =RIGHT(B20,9) -> 2018/0360 | E20: =IF(_xlfn.IFNA(MATCH(B:B,'Prisustvo 02_03_21'!$A:$A,0),0)=0,"",1) | F20: =IF(_xlfn.IFNA(MATCH(B:B,'Prisustvo 09_03'!$A:$A,0),0)=0,"",1) -> 1 | G20: =IF(_xlfn.IFNA(MATCH(B:B,Prisustvo_16_03!$A:$A,0),0)=0,"",1) -> 1 | H20: =IF(_xlfn.IFNA(MATCH(B:B,'Prisustvo 23_03'!$A:$A,0),0)=0,"",1) -> 1 | I20: =IF(_xlfn.IFNA(MATCH(B:B,'Prisustvo 30_03'!$A:$A,0),0)=0,"",1) -> 1 | J20: =IF(_xlfn.IFNA(MATCH(B:B,'Prisustvo 06_04'!$A:$A,0),0)=0,"",1) -> 1 | K20: =IF(_xlfn.IFNA(MATCH(B:B,'Prisustvo 13_04'!$A:$A,0),0)=0,"",1) -> 1 | L20: =IF(_xlfn.IFNA(MATCH(B:B,'Prisustvo 27_04'!$A:$A,0),0)=0,"",1) -> 1 | M20: =IF(_xlfn.IFNA(MATCH(B:B,'Prisustvo 11_05'!$A:$A,0),0)=0,"",1) -> 1 | N20: =IF(_xlfn.IFNA(MATCH(B:B,'Prisustvo 18_05'!$A:$A,0),0)=0,"",1) -> 1 | O20: =SUM(E20:N20) -> 9
A21: 19 | B21: Andrijana Pantić | 2020/1036 | C21: =LEFT(B21,LEN(B21)-12) -> Andrijana Pantić | D21: =RIGHT(B21,9) -> 2020/1036 | E21: 1 | F21: =IF(_xlfn.IFNA(MATCH(B:B,'Prisustvo 09_03'!$A:$A,0),0)=0,"",1) -> 1 | G21: =IF(_xlfn.IFNA(MATCH(B:B,Prisustvo_16_03!$A:$A,0),0)=0,"",1) -> 1 | H21: =IF(_xlfn.IFNA(MATCH(B:B,'Prisustvo 23_03'!$A:$A,0),0)=0,"",1) -> 1 | I21: =IF(_xlfn.IFNA(MATCH(B:B,'Prisustvo 30_03'!$A:$A,0),0)=0,"",1) -> 1 | J21: =IF(_xlfn.IFNA(MATCH(B:B,'Prisustvo 06_04'!$A:$A,0),0)=0,"",1) -> 1 | K21: =IF(_xlfn.IFNA(MATCH(B:B,'Prisustvo 13_04'!$A:$A,0),0)=0,"",1) | L21: =IF(_xlfn.IFNA(MATCH(B:B,'Prisustvo 27_04'!$A:$A,0),0)=0,"",1) -> 1 | M21: =IF(_xlfn.IFNA(MATCH(B:B,'Prisustvo 11_05'!$A:$A,0),0)=0,"",1) -> 1 | N21: =IF(_xlfn.IFNA(MATCH(B:B,'Prisustvo 18_05'!$A:$A,0),0)=0,"",1) -> 1 | O21: =SUM(E21:N21) -> 9
A22: 20 | B22: Anja Čabarkapa | 2020/1091 | C22: =LEFT(B22,LEN(B22)-12) -> Anja Čabarkapa | D22: =RIGHT(B22,9) -> 2020/1091 | E22: 1 | F22: =IF(_xlfn.IFNA(MATCH(B:B,'Prisustvo 09_03'!$A:$A,0),0)=0,"",1) -> 1 | G22: =IF(_xlfn.IFNA(MATCH(B:B,Prisustvo_16_03!$A:$A,0),0)=0,"",1) -> 1 | H22: =IF(_xlfn.IFNA(MATCH(B:B,'Prisustvo 23_03'!$A:$A,0),0)=0,"",1) -> 1 | I22: =IF(_xlfn.IFNA(MATCH(B:B,'Prisustvo 30_03'!$A:$A,0),0)=0,"",1) -> 1 | J22: =IF(_xlfn.IFNA(MATCH(B:B,'Prisustvo 06_04'!$A:$A,0),0)=0,"",1) -> 1 | K22: =IF(_xlfn.IFNA(MATCH(B:B,'Prisustvo 13_04'!$A:$A,0),0)=0,"",1) -> 1 | L22: =IF(_xlfn.IFNA(MATCH(B:B,'Prisustvo 27_04'!$A:$A,0),0)=0,"",1) -> 1 | M22: =IF(_xlfn.IFNA(MATCH(B:B,'Prisustvo 11_05'!$A:$A,0),0)=0,"",1) -> 1 | N22: =IF(_xlfn.IFNA(MATCH(B:B,'Prisustvo 18_05'!$A:$A,0),0)=0,"",1) -> 1 | O22: =SUM(E22:N22) -> 10
A23: 21 | B23: Anja Đorđević | 2019/0030 | C23: =LEFT(B23,LEN(B23)-12) -> Anja Đorđević | D23: =RIGHT(B23,9) -> 2019/0030 | E23: 1 | F23: =IF(_xlfn.IFNA(MATCH(B:B,'Prisustvo 09_03'!$A:$A,0),0)=0,"",1) -> 1 | G23: =IF(_xlfn.IFNA(MATCH(B:B,Prisustvo_16_03!$A:$A,0),0)=0,"",1) -> 1 | H23: =IF(_xlfn.IFNA(MATCH(B:B,'Prisustvo 23_03'!$A:$A,0),0)=0,"",1) -> 1 | I23: =IF(_xlfn.IFNA(MATCH(B:B,'Prisustvo 30_03'!$A:$A,0),0)=0,"",1) -> 1 | J23: =IF(_xlfn.IFNA(MATCH(B:B,'Prisustvo 06_04'!$A:$A,0),0)=0,"",1) -> 1 | K23: =IF(_xlfn.IFNA(MATCH(B:B,'Prisustvo 13_04'!$A:$A,0),0)=0,"",1) -> 1 | L23: =IF(_xlfn.IFNA(MATCH(B:B,'Prisustvo 27_04'!$A:$A,0),0)=0,"",1) -> 1 | M23: =IF(_xlfn.IFNA(MATCH(B:B,'Prisustvo 11_05'!$A:$A,0),0)=0,"",1) -> 1 | N23: =IF(_xlfn.IFNA(MATCH(B:B,'Prisustvo 18_05'!$A:$A,0),0)=0,"",1) -> 1 | O23: =SUM(E23:N23) -> 10
A24: 22 | B24: Anja Drobnjak | 2018/0366 | C24: =LEFT(B24,LEN(B24)-12) -> Anja Drobnjak | D24: =RIGHT(B24,9) -> 2018/0366 | E24: 1 | F24: =IF(_xlfn.IFNA(MATCH(B:B,'Prisustvo 09_03'!$A:$A,0),0)=0,"",1) -> 1 | G24: =IF(_xlfn.IFNA(MATCH(B:B,Prisustvo_16_03!$A:$A,0),0)=0,"",1) -> 1 | H24: =IF(_xlfn.IFNA(MATCH(B:B,'Prisustvo 23_03'!$A:$A,0),0)=0,"",1) -> 1 | I24: =IF(_xlfn.IFNA(MATCH(B:B,'Prisustvo 30_03'!$A:$A,0),0)=0,"",1) | J24: =IF(_xlfn.IFNA(MATCH(B:B,'Prisustvo 06_04'!$A:$A,0),0)=0,"",1) -> 1 | K24: =IF(_xlfn.IFNA(MATCH(B:B,'Prisustvo 13_04'!$A:$A,0),0)=0,"",1) | L24: =IF(_xlfn.IFNA(MATCH(B:B,'Prisustvo 27_04'!$A:$A,0),0)=0,"",1) -> 1 | M24: =IF(_xlfn.IFNA(MATCH(B:B,'Prisustvo 11_05'!$A:$A,0),0)=0,"",1) -> 1 | N24: =IF(_xlfn.IFNA(MATCH(B:B,'Prisustvo 18_05'!$A:$A,0),0)=0,"",1) -> 1 | O24: =SUM(E24:N24) -> 8
A25: 23 | B25: Anja Mitrović | 2019/0368 | C25: =LEFT(B25,LEN(B25)-12) -> Anja Mitrović | D25: =RIGHT(B25,9) -> 2019/0368 | E25: 1 | F25: =IF(_xlfn.IFNA(MATCH(B:B,'Prisustvo 09_03'!$A:$A,0),0)=0,"",1) -> 1 | G25: =IF(_xlfn.IFNA(MATCH(B:B,Prisustvo_16_03!$A:$A,0),0)=0,"",1) -> 1 | H25: =IF(_xlfn.IFNA(MATCH(B:B,'Prisustvo 23_03'!$A:$A,0),0)=0,"",1) -> 1 | I25: =IF(_xlfn.IFNA(MATCH(B:B,'Prisustvo 30_03'!$A:$A,0),0)=0,"",1) -> 1 | J25: =IF(_xlfn.IFNA(MATCH(B:B,'Prisustvo 06_04'!$A:$A,0),0)=0,"",1) -> 1 | K25: =IF(_xlfn.IFNA(MATCH(B:B,'Prisustvo 13_04'!$A:$A,0),0)=0,"",1) -> 1 | L25: =IF(_xlfn.IFNA(MATCH(B:B,'Prisustvo 27_04'!$A:$A,0),0)=0,"",1) -> 1 | M25: =IF(_xlfn.IFNA(MATCH(B:B,'Prisustvo 11_05'!$A:$A,0),0)=0,"",1) | N25: =IF(_xlfn.IFNA(MATCH(B:B,'Prisustvo 18_05'!$A:$A,0),0)=0,"",1) -> 1 | O25: =SUM(E25:N25) -> 9
A26: 24 | B26: Anja Stojanović | 2019/0052 | C26: =LEFT(B26,LEN(B26)-12) -> Anja Stojanović | D26: =RIGHT(B26,9) -> 2019/0052 | E26: 1 | F26: =IF(_xlfn.IFNA(MATCH(B:B,'Prisustvo 09_03'!$A:$A,0),0)=0,"",1) -> 1 | G26: =IF(_xlfn.IFNA(MATCH(B:B,Prisustvo_16_03!$A:$A,0),0)=0,"",1) -> 1 | H26: =IF(_xlfn.IFNA(MATCH(B:B,'Prisustvo 23_03'!$A:$A,0),0)=0,"",1) -> 1 | I26: =IF(_xlfn.IFNA(MATCH(B:B,'Prisustvo 30_03'!$A:$A,0),0)=0,"",1) -> 1 | J26: =IF(_xlfn.IFNA(MATCH(B:B,'Prisustvo 06_04'!$A:$A,0),0)=0,"",1) -> 1 | K26: =IF(_xlfn.IFNA(MATCH(B:B,'Prisustvo 13_04'!$A:$A,0),0)=0,"",1) | L26: =IF(_xlfn.IFNA(MATCH(B:B,'Prisustvo 27_04'!$A:$A,0),0)=0,"",1) | M26: =IF(_xlfn.IFNA(MATCH(B:B,'Prisustvo 11_05'!$A:$A,0),0)=0,"",1) | N26: =IF(_xlfn.IFNA(MATCH(B:B,'Prisustvo 18_05'!$A:$A,0),0)=0,"",1) | O26: =SUM(E26:N26) -> 6
A27: 25 | B27: Anja Tomović | 2019/0295 | C27: =LEFT(B27,LEN(B27)-12) -> Anja Tomović | D27: =RIGHT(B27,9) -> 2019/0295 | E27: 1 | F27: =IF(_xlfn.IFNA(MATCH(B:B,'Prisustvo 09_03'!$A:$A,0),0)=0,"",1) -> 1 | G27: =IF(_xlfn.IFNA(MATCH(B:B,Prisustvo_16_03!$A:$A,0),0)=0,"",1) -> 1 | H27: =IF(_xlfn.IFNA(MATCH(B:B,'Prisustvo 23_03'!$A:$A,0),0)=0,"",1) -> 1 | I27: =IF(_xlfn.IFNA(MATCH(B:B,'Prisustvo 30_03'!$A:$A,0),0)=0,"",1) | J27: =IF(_xlfn.IFNA(MATCH(B:B,'Prisustvo 06_04'!$A:$A,0),0)=0,"",1) -> 1 | K27: =IF(_xlfn.IFNA(MATCH(B:B,'Prisustvo 13_04'!$A:$A,0),0)=0,"",1) | L27: =IF(_xlfn.IFNA(MATCH(B:B,'Prisustvo 27_04'!$A:$A,0),0)=0,"",1) | M27: =IF(_xlfn.IFNA(MATCH(B:B,'Prisustvo 11_05'!$A:$A,0),0)=0,"",1) | N27: =IF(_xlfn.IFNA(MATCH(B:B,'Prisustvo 18_05'!$A:$A,0),0)=0,"",1) | O27: =SUM(E27:N27) -> 5
A28: 26 | B28: Danijela Krstić | 2019/0455 | C28: =LEFT(B28,LEN(B28)-12) -> Danijela Krstić | D28: =RIGHT(B28,9) -> 2019/0455 | E28: =IF(_xlfn.IFNA(MATCH(B:B,'Prisustvo 02_03_21'!$A:$A,0),0)=0,"",1) | F28: =IF(_xlfn.IFNA(MATCH(B:B,'Prisustvo 09_03'!$A:$A,0),0)=0,"",1) -> 1 | G28: =IF(_xlfn.IFNA(MATCH(B:B,Prisustvo_16_03!$A:$A,0),0)=0,"",1) | H28: =IF(_xlfn.IFNA(MATCH(B:B,'Prisustvo 23_03'!$A:$A,0),0)=0,"",1) | I28: =IF(_xlfn.IFNA(MATCH(B:B,'Prisustvo 30_03'!$A:$A,0),0)=0,"",1) | J28: =IF(_xlfn.IFNA(MATCH(B:B,'Prisustvo 06_04'!$A:$A,0),0)=0,"",1) | K28: =IF(_xlfn.IFNA(MATCH(B:B,'Prisustvo 13_04'!$A:$A,0),0)=0,"",1) | L28: =IF(_xlfn.IFNA(MATCH(B:B,'Prisustvo 27_04'!$A:$A,0),0)=0,"",1) | M28: =IF(_xlfn.IFNA(MATCH(B:B,'Prisustvo 11_05'!$A:$A,0),0)=0,"",1) | N28: =IF(_xlfn.IFNA(MATCH(B:B,'Prisustvo 18_05'!$A:$A,0),0)=0,"",1) | O28: =SUM(E28:N28) -> 1
A29: 27 | B29: Danilo Rakić | 2019/0425 | C29: =LEFT(B29,LEN(B29)-12) -> Danilo Rakić | D29: =RIGHT(B29,9) -> 2019/0425 | E29: =IF(_xlfn.IFNA(MATCH(B:B,'Prisustvo 02_03_21'!$A:$A,0),0)=0,"",1) | F29: =IF(_xlfn.IFNA(MATCH(B:B,'Prisustvo 09_03'!$A:$A,0),0)=0,"",1) | G29: =IF(_xlfn.IFNA(MATCH(B:B,Prisustvo_16_03!$A:$A,0),0)=0,"",1) -> 1 | H29: =IF(_xlfn.IFNA(MATCH(B:B,'Prisustvo 23_03'!$A:$A,0),0)=0,"",1) -> 1 | I29: =IF(_xlfn.IFNA(MATCH(B:B,'Prisustvo 30_03'!$A:$A,0),0)=0,"",1) -> 1 | J29: =IF(_xlfn.IFNA(MATCH(B:B,'Prisustvo 06_04'!$A:$A,0),0)=0,"",1) | K29: =IF(_xlfn.IFNA(MATCH(B:B,'Prisustvo 13_04'!$A:$A,0),0)=0,"",1) -> 1 | L29: =IF(_xlfn.IFNA(MATCH(B:B,'Prisustvo 27_04'!$A:$A,0),0)=0,"",1) -> 1 | M29: =IF(_xlfn.IFNA(MATCH(B:B,'Prisustvo 11_05'!$A:$A,0),0)=0,"",1) -> 1 | N29: =IF(_xlfn.IFNA(MATCH(B:B,'Prisustvo 18_05'!$A:$A,0),0)=0,"",1) | O29: =SUM(E29:N29) -> 6
A30: 28 | B30: Dragana Momirski | 2019/0379 | C30: =LEFT(B30,LEN(B30)-12) -> Dragana Momirski | D30: =RIGHT(B30,9) -> 2019/0379 | E30: 1 | F30: =IF(_xlfn.IFNA(MATCH(B:B,'Prisustvo 09_03'!$A:$A,0),0)=0,"",1) -> 1 | G30: =IF(_xlfn.IFNA(MATCH(B:B,Prisustvo_16_03!$A:$A,0),0)=0,"",1) -> 1 | H30: =IF(_xlfn.IFNA(MATCH(B:B,'Prisustvo 23_03'!$A:$A,0),0)=0,"",1) -> 1 | I30: =IF(_xlfn.IFNA(MATCH(B:B,'Prisustvo 30_03'!$A:$A,0),0)=0,"",1) -> 1 | J30: =IF(_xlfn.IFNA(MATCH(B:B,'Prisustvo 06_04'!$A:$A,0),0)=0,"",1) -> 1 | K30: =IF(_xlfn.IFNA(MATCH(B:B,'Prisustvo 13_04'!$A:$A,0),0)=0,"",1) -> 1 | L30: =IF(_xlfn.IFNA(MATCH(B:B,'Prisustvo 27_04'!$A:$A,0),0)=0,"",1) -> 1 | M30: =IF(_xlfn.IFNA(MATCH(B:B,'Prisustvo 11_05'!$A:$A,0),0)=0,"",1) -> 1 | N30: =IF(_xlfn.IFNA(MATCH(B:B,'Prisustvo 18_05'!$A:$A,0),0)=0,"",1) -> 1 | O30: =SUM(E30:N30) -> 10
A31: 29 | B31: Đurđica Krsmanović | 2016/0252 | C31: =LEFT(B31,LEN(B31)-12) -> Đurđica Krsmanović | D31: =RIGHT(B31,9) -> 2016/0252 | E31: =IF(_xlfn.IFNA(MATCH(B:B,'Prisustvo 02_03_21'!$A:$A,0),0)=0,"",1) | F31: =IF(_xlfn.IFNA(MATCH(B:B,'Prisustvo 09_03'!$A:$A,0),0)=0,"",1) | G31: =IF(_xlfn.IFNA(MATCH(B:B,Prisustvo_16_03!$A:$A,0),0)=0,"",1) | H31: =IF(_xlfn.IFNA(MATCH(B:B,'Prisustvo 23_03'!$A:$A,0),0)=0,"",1) -> 1 | I31: =IF(_xlfn.IFNA(MATCH(B:B,'Prisustvo 30_03'!$A:$A,0),0)=0,"",1) | J31: =IF(_xlfn.IFNA(MATCH(B:B,'Prisustvo 06_04'!$A:$A,0),0)=0,"",1) | K31: =IF(_xlfn.IFNA(MATCH(B:B,'Prisustvo 13_04'!$A:$A,0),0)=0,"",1) | L31: =IF(_xlfn.IFNA(MATCH(B:B,'Prisustvo 27_04'!$A:$A,0),0)=0,"",1) | M31: =IF(_xlfn.IFNA(MATCH(B:B,'Prisustvo 11_05'!$A:$A,0),0)=0,"",1) | N31: =IF(_xlfn.IFNA(MATCH(B:B,'Prisustvo 18_05'!$A:$A,0),0)=0,"",1) | O31: =SUM(E31:N31) -> 1
A32: 30 | B32: Dušan Stoimenović | 2019/0102 | C32: =LEFT(B32,LEN(B32)-12) -> Dušan Stoimenović | D32: =RIGHT(B32,9) -> 2019/0102 | E32: =IF(_xlfn.IFNA(MATCH(B:B,'Prisustvo 02_03_21'!$A:$A,0),0)=0,"",1) | F32: =IF(_xlfn.IFNA(MATCH(B:B,'Prisustvo 09_03'!$A:$A,0),0)=0,"",1) -> 1 | G32: =IF(_xlfn.IFNA(MATCH(B:B,Prisustvo_16_03!$A:$A,0),0)=0,"",1) -> 1 | H32: =IF(_xlfn.IFNA(MATCH(B:B,'Prisustvo 23_03'!$A:$A,0),0)=0,"",1) -> 1 | I32: =IF(_xlfn.IFNA(MATCH(B:B,'Prisustvo 30_03'!$A:$A,0),0)=0,"",1) -> 1 | J32: =IF(_xlfn.IFNA(MATCH(B:B,'Prisustvo 06_04'!$A:$A,0),0)=0,"",1) -> 1 | K32: =IF(_xlfn.IFNA(MATCH(B:B,'Prisustvo 13_04'!$A:$A,0),0)=0,"",1) -> 1 | L32: =IF(_xlfn.IFNA(MATCH(B:B,'Prisustvo 27_04'!$A:$A,0),0)=0,"",1) | M32: =IF(_xlfn.IFNA(MATCH(B:B,'Prisustvo 11_05'!$A:$A,0),0)=0,"",1) | N32: =IF(_xlfn.IFNA(MATCH(B:B,'Prisustvo 18_05'!$A:$A,0),0)=0,"",1) | O32: =SUM(E32:N32) -> 6
A33: 31 | B33: Filip Petković | 2013/0182 | C33: =LEFT(B33,LEN(B33)-12) -> Filip Petković | D33: =RIGHT(B33,9) -> 2013/0182 | E33: =IF(_xlfn.IFNA(MATCH(B:B,'Prisustvo 02_03_21'!$A:$A,0),0)=0,"",1) | F33: =IF(_xlfn.IFNA(MATCH(B:B,'Prisustvo 09_03'!$A:$A,0),0)=0,"",1) -> 1 | G33: =IF(_xlfn.IFNA(MATCH(B:B,Prisustvo_16_03!$A:$A,0),0)=0,"",1) | H33: =IF(_xlfn.IFNA(MATCH(B:B,'Prisustvo 23_03'!$A:$A,0),0)=0,"",1) | I33: =IF(_xlfn.IFNA(MATCH(B:B,'Prisustvo 30_03'!$A:$A,0),0)=0,"",1) | J33: =IF(_xlfn.IFNA(MATCH(B:B,'Prisustvo 06_04'!$A:$A,0),0)=0,"",1) | K33: =IF(_xlfn.IFNA(MATCH(B:B,'Prisustvo 13_04'!$A:$A,0),0)=0,"",1) | L33: =IF(_xlfn.IFNA(MATCH(B:B,'Prisustvo 27_04'!$A:$A,0),0)=0,"",1) | M33: =IF(_xlfn.IFNA(MATCH(B:B,'Prisustvo 11_05'!$A:$A,0),0)=0,"",1) | N33: =IF(_xlfn.IFNA(MATCH(B:B,'Prisustvo 18_05'!$A:$A,0),0)=0,"",1) | O33: =SUM(E33:N33) -> 1
A34: 32 | B34: Gorana Milošević | 2019/0481 | C34: =LEFT(B34,LEN(B34)-12) -> Gorana Milošević | D34: =RIGHT(B34,9) -> 2019/0481 | E34: =IF(_xlfn.IFNA(MATCH(B:B,'Prisustvo 02_03_21'!$A:$A,0),0)=0,"",1) | F34: =IF(_xlfn.IFNA(MATCH(B:B,'Prisustvo 09_03'!$A:$A,0),0)=0,"",1) -> 1 | G34: =IF(_xlfn.IFNA(MATCH(B:B,Prisustvo_16_03!$A:$A,0),0)=0,"",1) -> 1 | H34: =IF(_xlfn.IFNA(MATCH(B:B,'Prisustvo 23_03'!$A:$A,0),0)=0,"",1) -> 1 | I34: =IF(_xlfn.IFNA(MATCH(B:B,'Prisustvo 30_03'!$A:$A,0),0)=0,"",1) | J34: =IF(_xlfn.IFNA(MATCH(B:B,'Prisustvo 06_04'!$A:$A,0),0)=0,"",1) -> 1 | K34: =IF(_xlfn.IFNA(MATCH(B:B,'Prisustvo 13_04'!$A:$A,0),0)=0,"",1) -> 1 | L34: =IF(_xlfn.IFNA(MATCH(B:B,'Prisustvo 27_04'!$A:$A,0),0)=0,"",1) | M34: =IF(_xlfn.IFNA(MATCH(B:B,'Prisustvo 11_05'!$A:$A,0),0)=0,"",1) | N34: =IF(_xlfn.IFNA(MATCH(B:B,'Prisustvo 18_05'!$A:$A,0),0)=0,"",1) | O34: =SUM(E34:N34) -> 5
A35: 33 | B35: Igor Trivić | 2019/0099 | C35: =LEFT(B35,LEN(B35)-12) -> Igor Trivić | D35: =RIGHT(B35,9) -> 2019/0099 | E35: 1 | F35: =IF(_xlfn.IFNA(MATCH(B:B,'Prisustvo 09_03'!$A:$A,0),0)=0,"",1) -> 1 | G35: =IF(_xlfn.IFNA(MATCH(B:B,Prisustvo_16_03!$A:$A,0),0)=0,"",1) -> 1 | H35: =IF(_xlfn.IFNA(MATCH(B:B,'Prisustvo 23_03'!$A:$A,0),0)=0,"",1) -> 1 | I35: =IF(_xlfn.IFNA(MATCH(B:B,'Prisustvo 30_03'!$A:$A,0),0)=0,"",1) -> 1 | J35: =IF(_xlfn.IFNA(MATCH(B:B,'Prisustvo 06_04'!$A:$A,0),0)=0,"",1) | K35: =IF(_xlfn.IFNA(MATCH(B:B,'Prisustvo 13_04'!$A:$A,0),0)=0,"",1) | L35: =IF(_xlfn.IFNA(MATCH(B:B,'Prisustvo 27_04'!$A:$A,0),0)=0,"",1) | M35: =IF(_xlfn.IFNA(MATCH(B:B,'Prisustvo 11_05'!$A:$A,0),0)=0,"",1) | N35: =IF(_xlfn.IFNA(MATCH(B:B,'Prisustvo 18_05'!$A:$A,0),0)=0,"",1) | O35: =SUM(E35:N35) -> 5
A36: 34 | B36: Ilija Dumanović | 2019/0105 | C36: =LEFT(B36,LEN(B36)-12) -> Ilija Dumanović | D36: =RIGHT(B36,9) -> 2019/0105 | E36: 1 | F36: =IF(_xlfn.IFNA(MATCH(B:B,'Prisustvo 09_03'!$A:$A,0),0)=0,"",1) -> 1 | G36: =IF(_xlfn.IFNA(MATCH(B:B,Prisustvo_16_03!$A:$A,0),0)=0,"",1) -> 1 | H36: =IF(_xlfn.IFNA(MATCH(B:B,'Prisustvo 23_03'!$A:$A,0),0)=0,"",1) -> 1 | I36: =IF(_xlfn.IFNA(MATCH(B:B,'Prisustvo 30_03'!$A:$A,0),0)=0,"",1) -> 1 | J36: =IF(_xlfn.IFNA(MATCH(B:B,'Prisustvo 06_04'!$A:$A,0),0)=0,"",1) -> 1 | K36: =IF(_xlfn.IFNA(MATCH(B:B,'Prisustvo 13_04'!$A:$A,0),0)=0,"",1) -> 1 | L36: =IF(_xlfn.IFNA(MATCH(B:B,'Prisustvo 27_04'!$A:$A,0),0)=0,"",1) -> 1 | M36: =IF(_xlfn.IFNA(MATCH(B:B,'Prisustvo 11_05'!$A:$A,0),0)=0,"",1) -> 1 | N36: =IF(_xlfn.IFNA(MATCH(B:B,'Prisustvo 18_05'!$A:$A,0),0)=0,"",1) -> 1 | O36: =SUM(E36:N36) -> 10
A37: 35 | B37: Ilija Milić | 2018/0251 | C37: =LEFT(B37,LEN(B37)-12) -> Ilija Milić | D37: =RIGHT(B37,9) -> 2018/0251 | E37: 1 | F37: =IF(_xlfn.IFNA(MATCH(B:B,'Prisustvo 09_03'!$A:$A,0),0)=0,"",1) -> 1 | G37: =IF(_xlfn.IFNA(MATCH(B:B,Prisustvo_16_03!$A:$A,0),0)=0,"",1) -> 1 | H37: =IF(_xlfn.IFNA(MATCH(B:B,'Prisustvo 23_03'!$A:$A,0),0)=0,"",1) -> 1 | I37: =IF(_xlfn.IFNA(MATCH(B:B,'Prisustvo 30_03'!$A:$A,0),0)=0,"",1) -> 1 | J37: =IF(_xlfn.IFNA(MATCH(B:B,'Prisustvo 06_04'!$A:$A,0),0)=0,"",1) | K37: =IF(_xlfn.IFNA(MATCH(B:B,'Prisustvo 13_04'!$A:$A,0),0)=0,"",1) | L37: =IF(_xlfn.IFNA(MATCH(B:B,'Prisustvo 27_04'!$A:$A,0),0)=0,"",1) | M37: =IF(_xlfn.IFNA(MATCH(B:B,'Prisustvo 11_05'!$A:$A,0),0)=0,"",1) | N37: =IF(_xlfn.IFNA(MATCH(B:B,'Prisustvo 18_05'!$A:$A,0),0)=0,"",1) | O37: =SUM(E37:N37) -> 5
A38: 36 | B38: Irena Živković | 2019/0082 | C38: =LEFT(B38,LEN(B38)-12) -> Irena Živković | D38: =RIGHT(B38,9) -> 2019/0082 | E38: 1 | F38: =IF(_xlfn.IFNA(MATCH(B:B,'Prisustvo 09_03'!$A:$A,0),0)=0,"",1) -> 1 | G38: =IF(_xlfn.IFNA(MATCH(B:B,Prisustvo_16_03!$A:$A,0),0)=0,"",1) -> 1 | H38: =IF(_xlfn.IFNA(MATCH(B:B,'Prisustvo 23_03'!$A:$A,0),0)=0,"",1) -> 1 | I38: =IF(_xlfn.IFNA(MATCH(B:B,'Prisustvo 30_03'!$A:$A,0),0)=0,"",1) -> 1 | J38: =IF(_xlfn.IFNA(MATCH(B:B,'Prisustvo 06_04'!$A:$A,0),0)=0,"",1) -> 1 | K38: =IF(_xlfn.IFNA(MATCH(B:B,'Prisustvo 13_04'!$A:$A,0),0)=0,"",1) | L38: =IF(_xlfn.IFNA(MATCH(B:B,'Prisustvo 27_04'!$A:$A,0),0)=0,"",1) -> 1 | M38: =IF(_xlfn.IFNA(MATCH(B:B,'Prisustvo 11_05'!$A:$A,0),0)=0,"",1) | N38: =IF(_xlfn.IFNA(MATCH(B:B,'Prisustvo 18_05'!$A:$A,0),0)=0,"",1) -> 1 | O38: =SUM(E38:N38) -> 8
A39: 37 | B39: Isidora Bašić | 2019/0260 | C39: =LEFT(B39,LEN(B39)-12) -> Isidora Bašić | D39: =RIGHT(B39,9) -> 2019/0260 | E39: 1 | F39: =IF(_xlfn.IFNA(MATCH(B:B,'Prisustvo 09_03'!$A:$A,0),0)=0,"",1) -> 1 | G39: =IF(_xlfn.IFNA(MATCH(B:B,Prisustvo_16_03!$A:$A,0),0)=0,"",1) -> 1 | H39: =IF(_xlfn.IFNA(MATCH(B:B,'Prisustvo 23_03'!$A:$A,0),0)=0,"",1) -> 1 | I39: =IF(_xlfn.IFNA(MATCH(B:B,'Prisustvo 30_03'!$A:$A,0),0)=0,"",1) -> 1 | J39: =IF(_xlfn.IFNA(MATCH(B:B,'Prisustvo 06_04'!$A:$A,0),0)=0,"",1) -> 1 | K39: =IF(_xlfn.IFNA(MATCH(B:B,'Prisustvo 13_04'!$A:$A,0),0)=0,"",1) -> 1 | L39: =IF(_xlfn.IFNA(MATCH(B:B,'Prisustvo 27_04'!$A:$A,0),0)=0,"",1) -> 1 | M39: =IF(_xlfn.IFNA(MATCH(B:B,'Prisustvo 11_05'!$A:$A,0),0)=0,"",1) | N39: =IF(_xlfn.IFNA(MATCH(B:B,'Prisustvo 18_05'!$A:$A,0),0)=0,"",1) -> 1 | O39: =SUM(E39:N39) -> 9
A40: 38 | B40: Isidora Bojanić | 2019/0230 | C40: =LEFT(B40,LEN(B40)-12) -> Isidora Bojanić | D40: =RIGHT(B40,9) -> 2019/0230 | E40: 1 | F40: =IF(_xlfn.IFNA(MATCH(B:B,'Prisustvo 09_03'!$A:$A,0),0)=0,"",1) -> 1 | G40: =IF(_xlfn.IFNA(MATCH(B:B,Prisustvo_16_03!$A:$A,0),0)=0,"",1) -> 1 | H40: =IF(_xlfn.IFNA(MATCH(B:B,'Prisustvo 23_03'!$A:$A,0),0)=0,"",1) -> 1 | I40: =IF(_xlfn.IFNA(MATCH(B:B,'Prisustvo 30_03'!$A:$A,0),0)=0,"",1) -> 1 | J40: =IF(_xlfn.IFNA(MATCH(B:B,'Prisustvo 06_04'!$A:$A,0),0)=0,"",1) -> 1 | K40: =IF(_xlfn.IFNA(MATCH(B:B,'Prisustvo 13_04'!$A:$A,0),0)=0,"",1) -> 1 | L40: =IF(_xlfn.IFNA(MATCH(B:B,'Prisustvo 27_04'!$A:$A,0),0)=0,"",1) -> 1 | M40: =IF(_xlfn.IFNA(MATCH(B:B,'Prisustvo 11_05'!$A:$A,0),0)=0,"",1) -> 1 | N40: =IF(_xlfn.IFNA(MATCH(B:B,'Prisustvo 18_05'!$A:$A,0),0)=0,"",1) -> 1 | O40: =SUM(E40:N40) -> 10
A41: 39 | B41: Isidora Vulić | 2019/0143 | C41: =LEFT(B41,LEN(B41)-12) -> Isidora Vulić | D41: =RIGHT(B41,9) -> 2019/0143 | E41: 1 | F41: =IF(_xlfn.IFNA(MATCH(B:B,'Prisustvo 09_03'!$A:$A,0),0)=0,"",1) -> 1 | G41: =IF(_xlfn.IFNA(MATCH(B:B,Prisustvo_16_03!$A:$A,0),0)=0,"",1) -> 1 | H41: =IF(_xlfn.IFNA(MATCH(B:B,'Prisustvo 23_03'!$A:$A,0),0)=0,"",1) -> 1 | I41: =IF(_xlfn.IFNA(MATCH(B:B,'Prisustvo 30_03'!$A:$A,0),0)=0,"",1) -> 1 | J41: =IF(_xlfn.IFNA(MATCH(B:B,'Prisustvo 06_04'!$A:$A,0),0)=0,"",1) -> 1 | K41: =IF(_xlfn.IFNA(MATCH(B:B,'Prisustvo 13_04'!$A:$A,0),0)=0,"",1) -> 1 | L41: =IF(_xlfn.IFNA(MATCH(B:B,'Prisustvo 27_04'!$A:$A,0),0)=0,"",1) -> 1 | M41: =IF(_xlfn.IFNA(MATCH(B:B,'Prisustvo 11_05'!$A:$A,0),0)=0,"",1) -> 1 | N41: =IF(_xlfn.IFNA(MATCH(B:B,'Prisustvo 18_05'!$A:$A,0),0)=0,"",1) -> 1 | O41: =SUM(E41:N41) -> 10
A42: 40 | B42: Iva Mijailović | 2018/0490 | C42: =LEFT(B42,LEN(B42)-12) -> Iva Mijailović | D42: =RIGHT(B42,9) -> 2018/0490 | E42: =IF(_xlfn.IFNA(MATCH(B:B,'Prisustvo 02_03_21'!$A:$A,0),0)=0,"",1) | F42: =IF(_xlfn.IFNA(MATCH(B:B,'Prisustvo 09_03'!$A:$A,0),0)=0,"",1) -> 1 | G42: =IF(_xlfn.IFNA(MATCH(B:B,Prisustvo_16_03!$A:$A,0),0)=0,"",1) -> 1 | H42: =IF(_xlfn.IFNA(MATCH(B:B,'Prisustvo 23_03'!$A:$A,0),0)=0,"",1) -> 1 | I42: =IF(_xlfn.IFNA(MATCH(B:B,'Prisustvo 30_03'!$A:$A,0),0)=0,"",1) -> 1 | J42: =IF(_xlfn.IFNA(MATCH(B:B,'Prisustvo 06_04'!$A:$A,0),0)=0,"",1) -> 1 | K42: =IF(_xlfn.IFNA(MATCH(B:B,'Prisustvo 13_04'!$A:$A,0),0)=0,"",1) -> 1 | L42: =IF(_xlfn.IFNA(MATCH(B:B,'Prisustvo 27_04'!$A:$A,0),0)=0,"",1) -> 1 | M42: =IF(_xlfn.IFNA(MATCH(B:B,'Prisustvo 11_05'!$A:$A,0),0)=0,"",1) -> 1 | N42: =IF(_xlfn.IFNA(MATCH(B:B,'Prisustvo 18_05'!$A:$A,0),0)=0,"",1) | O42: =SUM(E42:N42) -> 8
A43: 41 | B43: Ivan Đorđević | 2018/0421 | C43: =LEFT(B43,LEN(B43)-12) -> Ivan Đorđević | D43: =RIGHT(B43,9) -> 2018/0421 | E43: 1 | F43: =IF(_xlfn.IFNA(MATCH(B:B,'Prisustvo 09_03'!$A:$A,0),0)=0,"",1) -> 1 | G43: =IF(_xlfn.IFNA(MATCH(B:B,Prisustvo_16_03!$A:$A,0),0)=0,"",1) -> 1 | H43: =IF(_xlfn.IFNA(MATCH(B:B,'Prisustvo 23_03'!$A:$A,0),0)=0,"",1) -> 1 | I43: =IF(_xlfn.IFNA(MATCH(B:B,'Prisustvo 30_03'!$A:$A,0),0)=0,"",1) -> 1 | J43: =IF(_xlfn.IFNA(MATCH(B:B,'Prisustvo 06_04'!$A:$A,0),0)=0,"",1) -> 1 | K43: =IF(_xlfn.IFNA(MATCH(B:B,'Prisustvo 13_04'!$A:$A,0),0)=0,"",1) -> 1 | L43: =IF(_xlfn.IFNA(MATCH(B:B,'Prisustvo 27_04'!$A:$A,0),0)=0,"",1) -> 1 | M43: =IF(_xlfn.IFNA(MATCH(B:B,'Prisustvo 11_05'!$A:$A,0),0)=0,"",1) -> 1 | N43: =IF(_xlfn.IFNA(MATCH(B:B,'Prisustvo 18_05'!$A:$A,0),0)=0,"",1) -> 1 | O43: =SUM(E43:N43) -> 10
A44: 42 | B44: Ivan Rešetar | 2017/0453 | C44: =LEFT(B44,LEN(B44)-12) -> Ivan Rešetar | D44: =RIGHT(B44,9) -> 2017/0453 | E44: 1 | F44: =IF(_xlfn.IFNA(MATCH(B:B,'Prisustvo 09_03'!$A:$A,0),0)=0,"",1) -> 1 | G44: =IF(_xlfn.IFNA(MATCH(B:B,Prisustvo_16_03!$A:$A,0),0)=0,"",1) -> 1 | H44: =IF(_xlfn.IFNA(MATCH(B:B,'Prisustvo 23_03'!$A:$A,0),0)=0,"",1) -> 1 | I44: =IF(_xlfn.IFNA(MATCH(B:B,'Prisustvo 30_03'!$A:$A,0),0)=0,"",1) -> 1 | J44: =IF(_xlfn.IFNA(MATCH(B:B,'Prisustvo 06_04'!$A:$A,0),0)=0,"",1) -> 1 | K44: =IF(_xlfn.IFNA(MATCH(B:B,'Prisustvo 13_04'!$A:$A,0),0)=0,"",1) -> 1 | L44: =IF(_xlfn.IFNA(MATCH(B:B,'Prisustvo 27_04'!$A:$A,0),0)=0,"",1) -> 1 | M44: =IF(_xlfn.IFNA(MATCH(B:B,'Prisustvo 11_05'!$A:$A,0),0)=0,"",1) -> 1 | N44: =IF(_xlfn.IFNA(MATCH(B:B,'Prisustvo 18_05'!$A:$A,0),0)=0,"",1) -> 1 | O44: =SUM(E44:N44) -> 10
A45: 43 | B45: Ivana Bojović | 2019/0265 | C45: =LEFT(B45,LEN(B45)-12) -> Ivana Bojović | D45: =RIGHT(B45,9) -> 2019/0265 | E45: =IF(_xlfn.IFNA(MATCH(B:B,'Prisustvo 02_03_21'!$A:$A,0),0)=0,"",1) | F45: =IF(_xlfn.IFNA(MATCH(B:B,'Prisustvo 09_03'!$A:$A,0),0)=0,"",1) | G45: =IF(_xlfn.IFNA(MATCH(B:B,Prisustvo_16_03!$A:$A,0),0)=0,"",1) -> 1 | H45: =IF(_xlfn.IFNA(MATCH(B:B,'Prisustvo 23_03'!$A:$A,0),0)=0,"",1) -> 1 | I45: =IF(_xlfn.IFNA(MATCH(B:B,'Prisustvo 30_03'!$A:$A,0),0)=0,"",1) -> 1 | J45: =IF(_xlfn.IFNA(MATCH(B:B,'Prisustvo 06_04'!$A:$A,0),0)=0,"",1) -> 1 | K45: =IF(_xlfn.IFNA(MATCH(B:B,'Prisustvo 13_04'!$A:$A,0),0)=0,"",1) -> 1 | L45: =IF(_xlfn.IFNA(MATCH(B:B,'Prisustvo 27_04'!$A:$A,0),0)=0,"",1) | M45: =IF(_xlfn.IFNA(MATCH(B:B,'Prisustvo 11_05'!$A:$A,0),0)=0,"",1) | N45: =IF(_xlfn.IFNA(MATCH(B:B,'Prisustvo 18_05'!$A:$A,0),0)=0,"",1) | O45: =SUM(E45:N45) -> 5
A46: 44 | B46: Ivana Milidragović | 2019/0434 | C46: =LEFT(B46,LEN(B46)-12) -> Ivana Milidragović | D46: =RIGHT(B46,9) -> 2019/0434 | E46: =IF(_xlfn.IFNA(MATCH(B:B,'Prisustvo 02_03_21'!$A:$A,0),0)=0,"",1) | F46: =IF(_xlfn.IFNA(MATCH(B:B,'Prisustvo 09_03'!$A:$A,0),0)=0,"",1) | G46: =IF(_xlfn.IFNA(MATCH(B:B,Prisustvo_16_03!$A:$A,0),0)=0,"",1) -> 1 | H46: =IF(_xlfn.IFNA(MATCH(B:B,'Prisustvo 23_03'!$A:$A,0),0)=0,"",1) | I46: =IF(_xlfn.IFNA(MATCH(B:B,'Prisustvo 30_03'!$A:$A,0),0)=0,"",1) | J46: =IF(_xlfn.IFNA(MATCH(B:B,'Prisustvo 06_04'!$A:$A,0),0)=0,"",1) | K46: =IF(_xlfn.IFNA(MATCH(B:B,'Prisustvo 13_04'!$A:$A,0),0)=0,"",1) | L46: =IF(_xlfn.IFNA(MATCH(B:B,'Prisustvo 27_04'!$A:$A,0),0)=0,"",1) | M46: =IF(_xlfn.IFNA(MATCH(B:B,'Prisustvo 11_05'!$A:$A,0),0)=0,"",1) | N46: =IF(_xlfn.IFNA(MATCH(B:B,'Prisustvo 18_05'!$A:$A,0),0)=0,"",1) | O46: =SUM(E46:N46) -> 1
A47: 45 | B47: Jelena Delić | 2019/0391 | C47: =LEFT(B47,LEN(B47)-12) -> Jelena Delić | D47: =RIGHT(B47,9) -> 2019/0391 | E47: 1 | F47: =IF(_xlfn.IFNA(MATCH(B:B,'Prisustvo 09_03'!$A:$A,0),0)=0,"",1) -> 1 | G47: =IF(_xlfn.IFNA(MATCH(B:B,Prisustvo_16_03!$A:$A,0),0)=0,"",1) -> 1 | H47: =IF(_xlfn.IFNA(MATCH(B:B,'Prisustvo 23_03'!$A:$A,0),0)=0,"",1) -> 1 | I47: =IF(_xlfn.IFNA(MATCH(B:B,'Prisustvo 30_03'!$A:$A,0),0)=0,"",1) -> 1 | J47: =IF(_xlfn.IFNA(MATCH(B:B,'Prisustvo 06_04'!$A:$A,0),0)=0,"",1) -> 1 | K47: =IF(_xlfn.IFNA(MATCH(B:B,'Prisustvo 13_04'!$A:$A,0),0)=0,"",1) -> 1 | L47: =IF(_xlfn.IFNA(MATCH(B:B,'Prisustvo 27_04'!$A:$A,0),0)=0,"",1) -> 1 | M47: =IF(_xlfn.IFNA(MATCH(B:B,'Prisustvo 11_05'!$A:$A,0),0)=0,"",1) -> 1 | N47: =IF(_xlfn.IFNA(MATCH(B:B,'Prisustvo 18_05'!$A:$A,0),0)=0,"",1) | O47: =SUM(E47:N47) -> 9
A48: 46 | B48: Jelena Janaćković | 2017/0283 | C48: =LEFT(B48,LEN(B48)-12) -> Jelena Janaćković | D48: =RIGHT(B48,9) -> 2017/0283 | E48: =IF(_xlfn.IFNA(MATCH(B:B,'Prisustvo 02_03_21'!$A:$A,0),0)=0,"",1) | F48: =IF(_xlfn.IFNA(MATCH(B:B,'Prisustvo 09_03'!$A:$A,0),0)=0,"",1) | G48: =IF(_xlfn.IFNA(MATCH(B:B,Prisustvo_16_03!$A:$A,0),0)=0,"",1) -> 1 | H48: =IF(_xlfn.IFNA(MATCH(B:B,'Prisustvo 23_03'!$A:$A,0),0)=0,"",1) | I48: =IF(_xlfn.IFNA(MATCH(B:B,'Prisustvo 30_03'!$A:$A,0),0)=0,"",1) | J48: =IF(_xlfn.IFNA(MATCH(B:B,'Prisustvo 06_04'!$A:$A,0),0)=0,"",1) | K48: =IF(_xlfn.IFNA(MATCH(B:B,'Prisustvo 13_04'!$A:$A,0),0)=0,"",1) | L48: =IF(_xlfn.IFNA(MATCH(B:B,'Prisustvo 27_04'!$A:$A,0),0)=0,"",1) | M48: =IF(_xlfn.IFNA(MATCH(B:B,'Prisustvo 11_05'!$A:$A,0),0)=0,"",1) | N48: =IF(_xlfn.IFNA(MATCH(B:B,'Prisustvo 18_05'!$A:$A,0),0)=0,"",1) | O48: =SUM(E48:N48) -> 1
A49: 47 | B49: Jelena Matović | 2019/0279 | C49: =LEFT(B49,LEN(B49)-12) -> Jelena Matović | D49: =RIGHT(B49,9) -> 2019/0279 | E49: 1 | F49: =IF(_xlfn.IFNA(MATCH(B:B,'Prisustvo 09_03'!$A:$A,0),0)=0,"",1) -> 1 | G49: =IF(_xlfn.IFNA(MATCH(B:B,Prisustvo_16_03!$A:$A,0),0)=0,"",1) -> 1 | H49: =IF(_xlfn.IFNA(MATCH(B:B,'Prisustvo 23_03'!$A:$A,0),0)=0,"",1) -> 1 | I49: =IF(_xlfn.IFNA(MATCH(B:B,'Prisustvo 30_03'!$A:$A,0),0)=0,"",1) | J49: =IF(_xlfn.IFNA(MATCH(B:B,'Prisustvo 06_04'!$A:$A,0),0)=0,"",1) -> 1 | K49: =IF(_xlfn.IFNA(MATCH(B:B,'Prisustvo 13_04'!$A:$A,0),0)=0,"",1) | L49: =IF(_xlfn.IFNA(MATCH(B:B,'Prisustvo 27_04'!$A:$A,0),0)=0,"",1) -> 1 | M49: =IF(_xlfn.IFNA(MATCH(B:B,'Prisustvo 11_05'!$A:$A,0),0)=0,"",1) -> 1 | N49: =IF(_xlfn.IFNA(MATCH(B:B,'Prisustvo 18_05'!$A:$A,0),0)=0,"",1) -> 1 | O49: =SUM(E49:N49) -> 8
A50: 48 | B50: Jelena Živanov | 2019/0458 | C50: =LEFT(B50,LEN(B50)-12) -> Jelena Živanov | D50: =RIGHT(B50,9) -> 2019/0458 | E50: 1 | F50: =IF(_xlfn.IFNA(MATCH(B:B,'Prisustvo 09_03'!$A:$A,0),0)=0,"",1) -> 1 | G50: =IF(_xlfn.IFNA(MATCH(B:B,Prisustvo_16_03!$A:$A,0),0)=0,"",1) -> 1 | H50: =IF(_xlfn.IFNA(MATCH(B:B,'Prisustvo 23_03'!$A:$A,0),0)=0,"",1) -> 1 | I50: =IF(_xlfn.IFNA(MATCH(B:B,'Prisustvo 30_03'!$A:$A,0),0)=0,"",1) -> 1 | J50: =IF(_xlfn.IFNA(MATCH(B:B,'Prisustvo 06_04'!$A:$A,0),0)=0,"",1) -> 1 | K50: =IF(_xlfn.IFNA(MATCH(B:B,'Prisustvo 13_04'!$A:$A,0),0)=0,"",1) -> 1 | L50: =IF(_xlfn.IFNA(MATCH(B:B,'Prisustvo 27_04'!$A:$A,0),0)=0,"",1) -> 1 | M50: =IF(_xlfn.IFNA(MATCH(B:B,'Prisustvo 11_05'!$A:$A,0),0)=0,"",1) -> 1 | N50: =IF(_xlfn.IFNA(MATCH(B:B,'Prisustvo 18_05'!$A:$A,0),0)=0,"",1) -> 1 | O50: =SUM(E50:N50) -> 10
A51: 49 | B51: Jovana Dosković | 2020/1019 | C51: =LEFT(B51,LEN(B51)-12) -> Jovana Dosković | D51: =RIGHT(B51,9) -> 2020/1019 | E51: =IF(_xlfn.IFNA(MATCH(B:B,'Prisustvo 02_03_21'!$A:$A,0),0)=0,"",1) | F51: =IF(_xlfn.IFNA(MATCH(B:B,'Prisustvo 09_03'!$A:$A,0),0)=0,"",1) -> 1 | G51: =IF(_xlfn.IFNA(MATCH(B:B,Prisustvo_16_03!$A:$A,0),0)=0,"",1) -> 1 | H51: =IF(_xlfn.IFNA(MATCH(B:B,'Prisustvo 23_03'!$A:$A,0),0)=0,"",1) -> 1 | I51: =IF(_xlfn.IFNA(MATCH(B:B,'Prisustvo 30_03'!$A:$A,0),0)=0,"",1) -> 1 | J51: =IF(_xlfn.IFNA(MATCH(B:B,'Prisustvo 06_04'!$A:$A,0),0)=0,"",1) -> 1 | K51: =IF(_xlfn.IFNA(MATCH(B:B,'Prisustvo 13_04'!$A:$A,0),0)=0,"",1) -> 1 | L51: =IF(_xlfn.IFNA(MATCH(B:B,'Prisustvo 27_04'!$A:$A,0),0)=0,"",1) -> 1 | M51: =IF(_xlfn.IFNA(MATCH(B:B,'Prisustvo 11_05'!$A:$A,0),0)=0,"",1) -> 1 | N51: =IF(_xlfn.IFNA(MATCH(B:B,'Prisustvo 18_05'!$A:$A,0),0)=0,"",1) -> 1 | O51: =SUM(E51:N51) -> 9
A52: 50 | B52: Jovana Pavlović | 2018/0295 | C52: =LEFT(B52,LEN(B52)-12) -> Jovana Pavlović | D52: =RIGHT(B52,9) -> 2018/0295 | E52: 1 | F52: =IF(_xlfn.IFNA(MATCH(B:B,'Prisustvo 09_03'!$A:$A,0),0)=0,"",1) -> 1 | G52: =IF(_xlfn.IFNA(MATCH(B:B,Prisustvo_16_03!$A:$A,0),0)=0,"",1) -> 1 | H52: =IF(_xlfn.IFNA(MATCH(B:B,'Prisustvo 23_03'!$A:$A,0),0)=0,"",1) | I52: =IF(_xlfn.IFNA(MATCH(B:B,'Prisustvo 30_03'!$A:$A,0),0)=0,"",1) -> 1 | J52: =IF(_xlfn.IFNA(MATCH(B:B,'Prisustvo 06_04'!$A:$A,0),0)=0,"",1) -> 1 | K52: =IF(_xlfn.IFNA(MATCH(B:B,'Prisustvo 13_04'!$A:$A,0),0)=0,"",1) -> 1 | L52: =IF(_xlfn.IFNA(MATCH(B:B,'Prisustvo 27_04'!$A:$A,0),0)=0,"",1) -> 1 | M52: =IF(_xlfn.IFNA(MATCH(B:B,'Prisustvo 11_05'!$A:$A,0),0)=0,"",1) -> 1 | N52: =IF(_xlfn.IFNA(MATCH(B:B,'Prisustvo 18_05'!$A:$A,0),0)=0,"",1) -> 1 | O52: =SUM(E52:N52) -> 9
A53: 51 | B53: Katarina Borjan | 2019/0234 | C53: =LEFT(B53,LEN(B53)-12) -> Katarina Borjan | D53: =RIGHT(B53,9) -> 2019/0234 | E53: 1 | F53: =IF(_xlfn.IFNA(MATCH(B:B,'Prisustvo 09_03'!$A:$A,0),0)=0,"",1) -> 1 | G53: =IF(_xlfn.IFNA(MATCH(B:B,Prisustvo_16_03!$A:$A,0),0)=0,"",1) -> 1 | H53: =IF(_xlfn.IFNA(MATCH(B:B,'Prisustvo 23_03'!$A:$A,0),0)=0,"",1) -> 1 | I53: =IF(_xlfn.IFNA(MATCH(B:B,'Prisustvo 30_03'!$A:$A,0),0)=0,"",1) -> 1 | J53: =IF(_xlfn.IFNA(MATCH(B:B,'Prisustvo 06_04'!$A:$A,0),0)=0,"",1) -> 1 | K53: =IF(_xlfn.IFNA(MATCH(B:B,'Prisustvo 13_04'!$A:$A,0),0)=0,"",1) -> 1 | L53: =IF(_xlfn.IFNA(MATCH(B:B,'Prisustvo 27_04'!$A:$A,0),0)=0,"",1) -> 1 | M53: =IF(_xlfn.IFNA(MATCH(B:B,'Prisustvo 11_05'!$A:$A,0),0)=0,"",1) -> 1 | N53: =IF(_xlfn.IFNA(MATCH(B:B,'Prisustvo 18_05'!$A:$A,0),0)=0,"",1) -> 1 | O53: =SUM(E53:N53) -> 10
A54: 52 | B54: Katarina Nešovanović | 2018/0482 | C54: =LEFT(B54,LEN(B54)-12) -> Katarina Nešovanović | D54: =RIGHT(B54,9) -> 2018/0482 | E54: 1 | F54: =IF(_xlfn.IFNA(MATCH(B:B,'Prisustvo 09_03'!$A:$A,0),0)=0,"",1) | G54: =IF(_xlfn.IFNA(MATCH(B:B,Prisustvo_16_03!$A:$A,0),0)=0,"",1) -> 1 | H54: =IF(_xlfn.IFNA(MATCH(B:B,'Prisustvo 23_03'!$A:$A,0),0)=0,"",1) -> 1 | I54: =IF(_xlfn.IFNA(MATCH(B:B,'Prisustvo 30_03'!$A:$A,0),0)=0,"",1) -> 1 | J54: =IF(_xlfn.IFNA(MATCH(B:B,'Prisustvo 06_04'!$A:$A,0),0)=0,"",1) -> 1 | K54: =IF(_xlfn.IFNA(MATCH(B:B,'Prisustvo 13_04'!$A:$A,0),0)=0,"",1) -> 1 | L54: =IF(_xlfn.IFNA(MATCH(B:B,'Prisustvo 27_04'!$A:$A,0),0)=0,"",1) -> 1 | M54: =IF(_xlfn.IFNA(MATCH(B:B,'Prisustvo 11_05'!$A:$A,0),0)=0,"",1) -> 1 | N54: =IF(_xlfn.IFNA(MATCH(B:B,'Prisustvo 18_05'!$A:$A,0),0)=0,"",1) -> 1 | O54: =SUM(E54:N54) -> 9
A55: 53 | B55: Katarina Ninković | 2019/0442 | C55: =LEFT(B55,LEN(B55)-12) -> Katarina Ninković | D55: =RIGHT(B55,9) -> 2019/0442 | E55: 1 | F55: =IF(_xlfn.IFNA(MATCH(B:B,'Prisustvo 09_03'!$A:$A,0),0)=0,"",1) -> 1 | G55: =IF(_xlfn.IFNA(MATCH(B:B,Prisustvo_16_03!$A:$A,0),0)=0,"",1) | H55: =IF(_xlfn.IFNA(MATCH(B:B,'Prisustvo 23_03'!$A:$A,0),0)=0,"",1) -> 1 | I55: =IF(_xlfn.IFNA(MATCH(B:B,'Prisustvo 30_03'!$A:$A,0),0)=0,"",1) -> 1 | J55: =IF(_xlfn.IFNA(MATCH(B:B,'Prisustvo 06_04'!$A:$A,0),0)=0,"",1) | K55: =IF(_xlfn.IFNA(MATCH(B:B,'Prisustvo 13_04'!$A:$A,0),0)=0,"",1) -> 1 | L55: =IF(_xlfn.IFNA(MATCH(B:B,'Prisustvo 27_04'!$A:$A,0),0)=0,"",1) -> 1 | M55: =IF(_xlfn.IFNA(MATCH(B:B,'Prisustvo 11_05'!$A:$A,0),0)=0,"",1) | N55: =IF(_xlfn.IFNA(MATCH(B:B,'Prisustvo 18_05'!$A:$A,0),0)=0,"",1) | O55: =SUM(E55:N55) -> 6
A56: 54 | B56: Katarina Vujičić | 2019/1022 | C56: =LEFT(B56,LEN(B56)-12) -> Katarina Vujičić | D56: =RIGHT(B56,9) -> 2019/1022 | E56: 1 | F56: =IF(_xlfn.IFNA(MATCH(B:B,'Prisustvo 09_03'!$A:$A,0),0)=0,"",1) -> 1 | G56: =IF(_xlfn.IFNA(MATCH(B:B,Prisustvo_16_03!$A:$A,0),0)=0,"",1) | H56: =IF(_xlfn.IFNA(MATCH(B:B,'Prisustvo 23_03'!$A:$A,0),0)=0,"",1) -> 1 | I56: =IF(_xlfn.IFNA(MATCH(B:B,'Prisustvo 30_03'!$A:$A,0),0)=0,"",1) -> 1 | J56: =IF(_xlfn.IFNA(MATCH(B:B,'Prisustvo 06_04'!$A:$A,0),0)=0,"",1) -> 1 | K56: =IF(_xlfn.IFNA(MATCH(B:B,'Prisustvo 13_04'!$A:$A,0),0)=0,"",1) -> 1 | L56: =IF(_xlfn.IFNA(MATCH(B:B,'Prisustvo 27_04'!$A:$A,0),0)=0,"",1) | M56: =IF(_xlfn.IFNA(MATCH(B:B,'Prisustvo 11_05'!$A:$A,0),0)=0,"",1) | N56: =IF(_xlfn.IFNA(MATCH(B:B,'Prisustvo 18_05'!$A:$A,0),0)=0,"",1) | O56: =SUM(E56:N56) -> 6
A57: 55 | B57: Kosta Aćimović | 2019/0362 | C57: =LEFT(B57,LEN(B57)-12) -> Kosta Aćimović | D57: =RIGHT(B57,9) -> 2019/0362 | E57: 1 | F57: =IF(_xlfn.IFNA(MATCH(B:B,'Prisustvo 09_03'!$A:$A,0),0)=0,"",1) -> 1 | G57: =IF(_xlfn.IFNA(MATCH(B:B,Prisustvo_16_03!$A:$A,0),0)=0,"",1) -> 1 | H57: =IF(_xlfn.IFNA(MATCH(B:B,'Prisustvo 23_03'!$A:$A,0),0)=0,"",1) -> 1 | I57: =IF(_xlfn.IFNA(MATCH(B:B,'Prisustvo 30_03'!$A:$A,0),0)=0,"",1) -> 1 | J57: =IF(_xlfn.IFNA(MATCH(B:B,'Prisustvo 06_04'!$A:$A,0),0)=0,"",1) -> 1 | K57: =IF(_xlfn.IFNA(MATCH(B:B,'Prisustvo 13_04'!$A:$A,0),0)=0,"",1) | L57: =IF(_xlfn.IFNA(MATCH(B:B,'Prisustvo 27_04'!$A:$A,0),0)=0,"",1) | M57: =IF(_xlfn.IFNA(MATCH(B:B,'Prisustvo 11_05'!$A:$A,0),0)=0,"",1) -> 1 | N57: =IF(_xlfn.IFNA(MATCH(B:B,'Prisustvo 18_05'!$A:$A,0),0)=0,"",1) | O57: =SUM(E57:N57) -> 7
A58: 56 | B58: Kristijan Crnoglavac | 2019/0387 | C58: =LEFT(B58,LEN(B58)-12) -> Kristijan Crnoglavac | D58: =RIGHT(B58,9) -> 2019/0387 | E58: 1 | F58: =IF(_xlfn.IFNA(MATCH(B:B,'Prisustvo 09_03'!$A:$A,0),0)=0,"",1) -> 1 | G58: =IF(_xlfn.IFNA(MATCH(B:B,Prisustvo_16_03!$A:$A,0),0)=0,"",1) -> 1 | H58: =IF(_xlfn.IFNA(MATCH(B:B,'Prisustvo 23_03'!$A:$A,0),0)=0,"",1) -> 1 | I58: =IF(_xlfn.IFNA(MATCH(B:B,'Prisustvo 30_03'!$A:$A,0),0)=0,"",1) -> 1 | J58: =IF(_xlfn.IFNA(MATCH(B:B,'Prisustvo 06_04'!$A:$A,0),0)=0,"",1) -> 1 | K58: =IF(_xlfn.IFNA(MATCH(B:B,'Prisustvo 13_04'!$A:$A,0),0)=0,"",1) -> 1 | L58: =IF(_xlfn.IFNA(MATCH(B:B,'Prisustvo 27_04'!$A:$A,0),0)=0,"",1) -> 1 | M58: =IF(_xlfn.IFNA(MATCH(B:B,'Prisustvo 11_05'!$A:$A,0),0)=0,"",1) -> 1 | N58: =IF(_xlfn.IFNA(MATCH(B:B,'Prisustvo 18_05'!$A:$A,0),0)=0,"",1) | O58: =SUM(E58:N58) -> 9
A59: 57 | B59: Kristina Barzetović | 2020/1013 | C59: =LEFT(B59,LEN(B59)-12) -> Kristina Barzetović | D59: =RIGHT(B59,9) -> 2020/1013 | E59: 1 | F59: =IF(_xlfn.IFNA(MATCH(B:B,'Prisustvo 09_03'!$A:$A,0),0)=0,"",1) -> 1 | G59: =IF(_xlfn.IFNA(MATCH(B:B,Prisustvo_16_03!$A:$A,0),0)=0,"",1) -> 1 | H59: =IF(_xlfn.IFNA(MATCH(B:B,'Prisustvo 23_03'!$A:$A,0),0)=0,"",1) -> 1 | I59: =IF(_xlfn.IFNA(MATCH(B:B,'Prisustvo 30_03'!$A:$A,0),0)=0,"",1) -> 1 | J59: =IF(_xlfn.IFNA(MATCH(B:B,'Prisustvo 06_04'!$A:$A,0),0)=0,"",1) -> 1 | K59: =IF(_xlfn.IFNA(MATCH(B:B,'Prisustvo 13_04'!$A:$A,0),0)=0,"",1) -> 1 | L59: =IF(_xlfn.IFNA(MATCH(B:B,'Prisustvo 27_04'!$A:$A,0),0)=0,"",1) | M59: =IF(_xlfn.IFNA(MATCH(B:B,'Prisustvo 11_05'!$A:$A,0),0)=0,"",1) -> 1 | N59: =IF(_xlfn.IFNA(MATCH(B:B,'Prisustvo 18_05'!$A:$A,0),0)=0,"",1) | O59: =SUM(E59:N59) -> 8
A60: 58 | B60: Lana Radmilović | 2019/0131 | C60: =LEFT(B60,LEN(B60)-12) -> Lana Radmilović | D60: =RIGHT(B60,9) -> 2019/0131 | E60: =IF(_xlfn.IFNA(MATCH(B:B,'Prisustvo 02_03_21'!$A:$A,0),0)=0,"",1) | F60: =IF(_xlfn.IFNA(MATCH(B:B,'Prisustvo 09_03'!$A:$A,0),0)=0,"",1) -> 1 | G60: =IF(_xlfn.IFNA(MATCH(B:B,Prisustvo_16_03!$A:$A,0),0)=0,"",1) -> 1 | H60: =IF(_xlfn.IFNA(MATCH(B:B,'Prisustvo 23_03'!$A:$A,0),0)=0,"",1) -> 1 | I60: =IF(_xlfn.IFNA(MATCH(B:B,'Prisustvo 30_03'!$A:$A,0),0)=0,"",1) -> 1 | J60: =IF(_xlfn.IFNA(MATCH(B:B,'Prisustvo 06_04'!$A:$A,0),0)=0,"",1) | K60: =IF(_xlfn.IFNA(MATCH(B:B,'Prisustvo 13_04'!$A:$A,0),0)=0,"",1) | L60: =IF(_xlfn.IFNA(MATCH(B:B,'Prisustvo 27_04'!$A:$A,0),0)=0,"",1) | M60: =IF(_xlfn.IFNA(MATCH(B:B,'Prisustvo 11_05'!$A:$A,0),0)=0,"",1) | N60: =IF(_xlfn.IFNA(MATCH(B:B,'Prisustvo 18_05'!$A:$A,0),0)=0,"",1) | O60: =SUM(E60:N60) -> 4
A61: 59 | B61: Lazar Đorđević | 2018/0059 | C61: =LEFT(B61,LEN(B61)-12) -> Lazar Đorđević | D61: =RIGHT(B61,9) -> 2018/0059 | E61: 1 | F61: =IF(_xlfn.IFNA(MATCH(B:B,'Prisustvo 09_03'!$A:$A,0),0)=0,"",1) -> 1 | G61: =IF(_xlfn.IFNA(MATCH(B:B,Prisustvo_16_03!$A:$A,0),0)=0,"",1) -> 1 | H61: =IF(_xlfn.IFNA(MATCH(B:B,'Prisustvo 23_03'!$A:$A,0),0)=0,"",1) -> 1 | I61: =IF(_xlfn.IFNA(MATCH(B:B,'Prisustvo 30_03'!$A:$A,0),0)=0,"",1) -> 1 | J61: =IF(_xlfn.IFNA(MATCH(B:B,'Prisustvo 06_04'!$A:$A,0),0)=0,"",1) | K61: =IF(_xlfn.IFNA(MATCH(B:B,'Prisustvo 13_04'!$A:$A,0),0)=0,"",1) | L61: =IF(_xlfn.IFNA(MATCH(B:B,'Prisustvo 27_04'!$A:$A,0),0)=0,"",1) | M61: =IF(_xlfn.IFNA(MATCH(B:B,'Prisustvo 11_05'!$A:$A,0),0)=0,"",1) -> 1 | N61: =IF(_xlfn.IFNA(MATCH(B:B,'Prisustvo 18_05'!$A:$A,0),0)=0,"",1) | O61: =SUM(E61:N61) -> 6
A62: 60 | B62: Lazar Grebović | 2019/0407 | C62: =LEFT(B62,LEN(B62)-12) -> Lazar Grebović | D62: =RIGHT(B62,9) -> 2019/0407 | E62: 1 | F62: =IF(_xlfn.IFNA(MATCH(B:B,'Prisustvo 09_03'!$A:$A,0),0)=0,"",1) -> 1 | G62: =IF(_xlfn.IFNA(MATCH(B:B,Prisustvo_16_03!$A:$A,0),0)=0,"",1) -> 1 | H62: =IF(_xlfn.IFNA(MATCH(B:B,'Prisustvo 23_03'!$A:$A,0),0)=0,"",1) -> 1 | I62: =IF(_xlfn.IFNA(MATCH(B:B,'Prisustvo 30_03'!$A:$A,0),0)=0,"",1) -> 1 | J62: =IF(_xlfn.IFNA(MATCH(B:B,'Prisustvo 06_04'!$A:$A,0),0)=0,"",1) -> 1 | K62: =IF(_xlfn.IFNA(MATCH(B:B,'Prisustvo 13_04'!$A:$A,0),0)=0,"",1) -> 1 | L62: =IF(_xlfn.IFNA(MATCH(B:B,'Prisustvo 27_04'!$A:$A,0),0)=0,"",1) -> 1 | M62: =IF(_xlfn.IFNA(MATCH(B:B,'Prisustvo 11_05'!$A:$A,0),0)=0,"",1) -> 1 | N62: =IF(_xlfn.IFNA(MATCH(B:B,'Prisustvo 18_05'!$A:$A,0),0)=0,"",1) -> 1 | O62: =SUM(E62:N62) -> 10
A63: 61 | B63: Lazar Simović | 2019/0093 | C63: =LEFT(B63,LEN(B63)-12) -> Lazar Simović | D63: =RIGHT(B63,9) -> 2019/0093 | E63: =IF(_xlfn.IFNA(MATCH(B:B,'Prisustvo 02_03_21'!$A:$A,0),0)=0,"",1) | F63: =IF(_xlfn.IFNA(MATCH(B:B,'Prisustvo 09_03'!$A:$A,0),0)=0,"",1) -> 1 | G63: =IF(_xlfn.IFNA(MATCH(B:B,Prisustvo_16_03!$A:$A,0),0)=0,"",1) -> 1 | H63: =IF(_xlfn.IFNA(MATCH(B:B,'Prisustvo 23_03'!$A:$A,0),0)=0,"",1) -> 1 | I63: =IF(_xlfn.IFNA(MATCH(B:B,'Prisustvo 30_03'!$A:$A,0),0)=0,"",1) -> 1 | J63: =IF(_xlfn.IFNA(MATCH(B:B,'Prisustvo 06_04'!$A:$A,0),0)=0,"",1) | K63: =IF(_xlfn.IFNA(MATCH(B:B,'Prisustvo 13_04'!$A:$A,0),0)=0,"",1) | L63: =IF(_xlfn.IFNA(MATCH(B:B,'Prisustvo 27_04'!$A:$A,0),0)=0,"",1) | M63: =IF(_xlfn.IFNA(MATCH(B:B,'Prisustvo 11_05'!$A:$A,0),0)=0,"",1) | N63: =IF(_xlfn.IFNA(MATCH(B:B,'Prisustvo 18_05'!$A:$A,0),0)=0,"",1) | O63: =SUM(E63:N63) -> 4
A64: 62 | B64: Lena Ljubojević | 2019/0264 | C64: =LEFT(B64,LEN(B64)-12) -> Lena Ljubojević | D64: =RIGHT(B64,9) -> 2019/0264 | E64: =IF(_xlfn.IFNA(MATCH(B:B,'Prisustvo 02_03_21'!$A:$A,0),0)=0,"",1) | F64: =IF(_xlfn.IFNA(MATCH(B:B,'Prisustvo 09_03'!$A:$A,0),0)=0,"",1) -> 1 | G64: =IF(_xlfn.IFNA(MATCH(B:B,Prisustvo_16_03!$A:$A,0),0)=0,"",1) -> 1 | H64: =IF(_xlfn.IFNA(MATCH(B:B,'Prisustvo 23_03'!$A:$A,0),0)=0,"",1) -> 1 | I64: =IF(_xlfn.IFNA(MATCH(B:B,'Prisustvo 30_03'!$A:$A,0),0)=0,"",1) -> 1 | J64: =IF(_xlfn.IFNA(MATCH(B:B,'Prisustvo 06_04'!$A:$A,0),0)=0,"",1) -> 1 | K64: =IF(_xlfn.IFNA(MATCH(B:B,'Prisustvo 13_04'!$A:$A,0),0)=0,"",1) -> 1 | L64: =IF(_xlfn.IFNA(MATCH(B:B,'Prisustvo 27_04'!$A:$A,0),0)=0,"",1) -> 1 | M64: =IF(_xlfn.IFNA(MATCH(B:B,'Prisustvo 11_05'!$A:$A,0),0)=0,"",1) -> 1 | N64: =IF(_xlfn.IFNA(MATCH(B:B,'Prisustvo 18_05'!$A:$A,0),0)=0,"",1) -> 1 | O64: =SUM(E64:N64) -> 9
A65: 63 | B65: Lola Medenica | 2019/0428 | C65: =LEFT(B65,LEN(B65)-12) -> Lola Medenica | D65: =RIGHT(B65,9) -> 2019/0428 | E65: =IF(_xlfn.IFNA(MATCH(B:B,'Prisustvo 02_03_21'!$A:$A,0),0)=0,"",1) | F65: =IF(_xlfn.IFNA(MATCH(B:B,'Prisustvo 09_03'!$A:$A,0),0)=0,"",1) -> 1 | G65: =IF(_xlfn.IFNA(MATCH(B:B,Prisustvo_16_03!$A:$A,0),0)=0,"",1) -> 1 | H65: =IF(_xlfn.IFNA(MATCH(B:B,'Prisustvo 23_03'!$A:$A,0),0)=0,"",1) | I65: =IF(_xlfn.IFNA(MATCH(B:B,'Prisustvo 30_03'!$A:$A,0),0)=0,"",1) -> 1 | J65: =IF(_xlfn.IFNA(MATCH(B:B,'Prisustvo 06_04'!$A:$A,0),0)=0,"",1) | K65: =IF(_xlfn.IFNA(MATCH(B:B,'Prisustvo 13_04'!$A:$A,0),0)=0,"",1) -> 1 | L65: =IF(_xlfn.IFNA(MATCH(B:B,'Prisustvo 27_04'!$A:$A,0),0)=0,"",1) | M65: =IF(_xlfn.IFNA(MATCH(B:B,'Prisustvo 11_05'!$A:$A,0),0)=0,"",1) | N65: =IF(_xlfn.IFNA(MATCH(B:B,'Prisustvo 18_05'!$A:$A,0),0)=0,"",1) | O65: =SUM(E65:N65) -> 4
A66: 64 | B66: Lucija Matović | 2019/0223 | C66: =LEFT(B66,LEN(B66)-12) -> Lucija Matović | D66: =RIGHT(B66,9) -> 2019/0223 | E66: 1 | F66: =IF(_xlfn.IFNA(MATCH(B:B,'Prisustvo 09_03'!$A:$A,0),0)=0,"",1) -> 1 | G66: =IF(_xlfn.IFNA(MATCH(B:B,Prisustvo_16_03!$A:$A,0),0)=0,"",1) -> 1 | H66: =IF(_xlfn.IFNA(MATCH(B:B,'Prisustvo 23_03'!$A:$A,0),0)=0,"",1) | I66: =IF(_xlfn.IFNA(MATCH(B:B,'Prisustvo 30_03'!$A:$A,0),0)=0,"",1) -> 1 | J66: =IF(_xlfn.IFNA(MATCH(B:B,'Prisustvo 06_04'!$A:$A,0),0)=0,"",1) | K66: =IF(_xlfn.IFNA(MATCH(B:B,'Prisustvo 13_04'!$A:$A,0),0)=0,"",1) -> 1 | L66: =IF(_xlfn.IFNA(MATCH(B:B,'Prisustvo 27_04'!$A:$A,0),0)=0,"",1) -> 1 | M66: =IF(_xlfn.IFNA(MATCH(B:B,'Prisustvo 11_05'!$A:$A,0),0)=0,"",1) -> 1 | N66: =IF(_xlfn.IFNA(MATCH(B:B,'Prisustvo 18_05'!$A:$A,0),0)=0,"",1) -> 1 | O66: =SUM(E66:N66) -> 8
A67: 65 | B67: Luka Mijović | 2019/0280 | C67: =LEFT(B67,LEN(B67)-12) -> Luka Mijović | D67: =RIGHT(B67,9) -> 2019/0280 | E67: 1 | F67: =IF(_xlfn.IFNA(MATCH(B:B,'Prisustvo 09_03'!$A:$A,0),0)=0,"",1) -> 1 | G67: =IF(_xlfn.IFNA(MATCH(B:B,Prisustvo_16_03!$A:$A,0),0)=0,"",1) -> 1 | H67: =IF(_xlfn.IFNA(MATCH(B:B,'Prisustvo 23_03'!$A:$A,0),0)=0,"",1) -> 1 | I67: =IF(_xlfn.IFNA(MATCH(B:B,'Prisustvo 30_03'!$A:$A,0),0)=0,"",1) -> 1 | J67: =IF(_xlfn.IFNA(MATCH(B:B,'Prisustvo 06_04'!$A:$A,0),0)=0,"",1) -> 1 | K67: =IF(_xlfn.IFNA(MATCH(B:B,'Prisustvo 13_04'!$A:$A,0),0)=0,"",1) -> 1 | L67: =IF(_xlfn.IFNA(MATCH(B:B,'Prisustvo 27_04'!$A:$A,0),0)=0,"",1) -> 1 | M67: =IF(_xlfn.IFNA(MATCH(B:B,'Prisustvo 11_05'!$A:$A,0),0)=0,"",1) -> 1 | N67: =IF(_xlfn.IFNA(MATCH(B:B,'Prisustvo 18_05'!$A:$A,0),0)=0,"",1) -> 1 | O67: =SUM(E67:N67) -> 10
A68: 66 | B68: Luna Kureš | 2018/0417 | C68: =LEFT(B68,LEN(B68)-12) -> Luna Kureš | D68: =RIGHT(B68,9) -> 2018/0417 | E68: =IF(_xlfn.IFNA(MATCH(B:B,'Prisustvo 02_03_21'!$A:$A,0),0)=0,"",1) | F68: =IF(_xlfn.IFNA(MATCH(B:B,'Prisustvo 09_03'!$A:$A,0),0)=0,"",1) -> 1 | G68: =IF(_xlfn.IFNA(MATCH(B:B,Prisustvo_16_03!$A:$A,0),0)=0,"",1) -> 1 | H68: =IF(_xlfn.IFNA(MATCH(B:B,'Prisustvo 23_03'!$A:$A,0),0)=0,"",1) | I68: =IF(_xlfn.IFNA(MATCH(B:B,'Prisustvo 30_03'!$A:$A,0),0)=0,"",1) | J68: =IF(_xlfn.IFNA(MATCH(B:B,'Prisustvo 06_04'!$A:$A,0),0)=0,"",1) | K68: =IF(_xlfn.IFNA(MATCH(B:B,'Prisustvo 13_04'!$A:$A,0),0)=0,"",1) | L68: =IF(_xlfn.IFNA(MATCH(B:B,'Prisustvo 27_04'!$A:$A,0),0)=0,"",1) | M68: =IF(_xlfn.IFNA(MATCH(B:B,'Prisustvo 11_05'!$A:$A,0),0)=0,"",1) | N68: =IF(_xlfn.IFNA(MATCH(B:B,'Prisustvo 18_05'!$A:$A,0),0)=0,"",1) | O68: =SUM(E68:N68) -> 2
A69: 67 | B69: Maja Radoičić | 2019/0325 | C69: =LEFT(B69,LEN(B69)-12) -> Maja Radoičić | D69: =RIGHT(B69,9) -> 2019/0325 | E69: 1 | F69: =IF(_xlfn.IFNA(MATCH(B:B,'Prisustvo 09_03'!$A:$A,0),0)=0,"",1) | G69: =IF(_xlfn.IFNA(MATCH(B:B,Prisustvo_16_03!$A:$A,0),0)=0,"",1) | H69: =IF(_xlfn.IFNA(MATCH(B:B,'Prisustvo 23_03'!$A:$A,0),0)=0,"",1) -> 1 | I69: =IF(_xlfn.IFNA(MATCH(B:B,'Prisustvo 30_03'!$A:$A,0),0)=0,"",1) | J69: =IF(_xlfn.IFNA(MATCH(B:B,'Prisustvo 06_04'!$A:$A,0),0)=0,"",1) | K69: =IF(_xlfn.IFNA(MATCH(B:B,'Prisustvo 13_04'!$A:$A,0),0)=0,"",1) | L69: =IF(_xlfn.IFNA(MATCH(B:B,'Prisustvo 27_04'!$A:$A,0),0)=0,"",1) | M69: =IF(_xlfn.IFNA(MATCH(B:B,'Prisustvo 11_05'!$A:$A,0),0)=0,"",1) | N69: =IF(_xlfn.IFNA(MATCH(B:B,'Prisustvo 18_05'!$A:$A,0),0)=0,"",1) | O69: =SUM(E69:N69) -> 2
A70: 68 | B70: Marija Bakić | 2017/0476 | C70: =LEFT(B70,LEN(B70)-12) -> Marija Bakić | D70: =RIGHT(B70,9) -> 2017/0476 | E70: 1 | F70: =IF(_xlfn.IFNA(MATCH(B:B,'Prisustvo 09_03'!$A:$A,0),0)=0,"",1) -> 1 | G70: =IF(_xlfn.IFNA(MATCH(B:B,Prisustvo_16_03!$A:$A,0),0)=0,"",1) | H70: =IF(_xlfn.IFNA(MATCH(B:B,'Prisustvo 23_03'!$A:$A,0),0)=0,"",1) -> 1 | I70: =IF(_xlfn.IFNA(MATCH(B:B,'Prisustvo 30_03'!$A:$A,0),0)=0,"",1) -> 1 | J70: =IF(_xlfn.IFNA(MATCH(B:B,'Prisustvo 06_04'!$A:$A,0),0)=0,"",1) -> 1 | K70: =IF(_xlfn.IFNA(MATCH(B:B,'Prisustvo 13_04'!$A:$A,0),0)=0,"",1) -> 1 | L70: =IF(_xlfn.IFNA(MATCH(B:B,'Prisustvo 27_04'!$A:$A,0),0)=0,"",1) -> 1 | M70: =IF(_xlfn.IFNA(MATCH(B:B,'Prisustvo 11_05'!$A:$A,0),0)=0,"",1) -> 1 | N70: =IF(_xlfn.IFNA(MATCH(B:B,'Prisustvo 18_05'!$A:$A,0),0)=0,"",1) -> 1 | O70: =SUM(E70:N70) -> 9
A71: 69 | B71: Marija Bešević | 2019/0050 | C71: =LEFT(B71,LEN(B71)-12) -> Marija Bešević | D71: =RIGHT(B71,9) -> 2019/0050 | E71: =IF(_xlfn.IFNA(MATCH(B:B,'Prisustvo 02_03_21'!$A:$A,0),0)=0,"",1) | F71: =IF(_xlfn.IFNA(MATCH(B:B,'Prisustvo 09_03'!$A:$A,0),0)=0,"",1) | G71: =IF(_xlfn.IFNA(MATCH(B:B,Prisustvo_16_03!$A:$A,0),0)=0,"",1) -> 1 | H71: =IF(_xlfn.IFNA(MATCH(B:B,'Prisustvo 23_03'!$A:$A,0),0)=0,"",1) | I71: =IF(_xlfn.IFNA(MATCH(B:B,'Prisustvo 30_03'!$A:$A,0),0)=0,"",1) | J71: =IF(_xlfn.IFNA(MATCH(B:B,'Prisustvo 06_04'!$A:$A,0),0)=0,"",1) | K71: =IF(_xlfn.IFNA(MATCH(B:B,'Prisustvo 13_04'!$A:$A,0),0)=0,"",1) | L71: =IF(_xlfn.IFNA(MATCH(B:B,'Prisustvo 27_04'!$A:$A,0),0)=0,"",1) | M71: =IF(_xlfn.IFNA(MATCH(B:B,'Prisustvo 11_05'!$A:$A,0),0)=0,"",1) | N71: =IF(_xlfn.IFNA(MATCH(B:B,'Prisustvo 18_05'!$A:$A,0),0)=0,"",1) | O71: =SUM(E71:N71) -> 1
A72: 70 | B72: Marija Jakšić | 2019/0160 | C72: =LEFT(B72,LEN(B72)-12) -> Marija Jakšić | D72: =RIGHT(B72,9) -> 2019/0160 | E72: 1 | F72: =IF(_xlfn.IFNA(MATCH(B:B,'Prisustvo 09_03'!$A:$A,0),0)=0,"",1) -> 1 | G72: =IF(_xlfn.IFNA(MATCH(B:B,Prisustvo_16_03!$A:$A,0),0)=0,"",1) -> 1 | H72: =IF(_xlfn.IFNA(MATCH(B:B,'Prisustvo 23_03'!$A:$A,0),0)=0,"",1) -> 1 | I72: =IF(_xlfn.IFNA(MATCH(B:B,'Prisustvo 30_03'!$A:$A,0),0)=0,"",1) -> 1 | J72: =IF(_xlfn.IFNA(MATCH(B:B,'Prisustvo 06_04'!$A:$A,0),0)=0,"",1) -> 1 | K72: =IF(_xlfn.IFNA(MATCH(B:B,'Prisustvo 13_04'!$A:$A,0),0)=0,"",1) -> 1 | L72: =IF(_xlfn.IFNA(MATCH(B:B,'Prisustvo 27_04'!$A:$A,0),0)=0,"",1) -> 1 | M72: =IF(_xlfn.IFNA(MATCH(B:B,'Prisustvo 11_05'!$A:$A,0),0)=0,"",1) -> 1 | N72: =IF(_xlfn.IFNA(MATCH(B:B,'Prisustvo 18_05'!$A:$A,0),0)=0,"",1) -> 1 | O72: =SUM(E72:N72) -> 10
A73: 71 | B73: Marija Milić | 2020/1007 | C73: =LEFT(B73,LEN(B73)-12) -> Marija Milić | D73: =RIGHT(B73,9) -> 2020/1007 | E73: 1 | F73: =IF(_xlfn.IFNA(MATCH(B:B,'Prisustvo 09_03'!$A:$A,0),0)=0,"",1) -> 1 | G73: =IF(_xlfn.IFNA(MATCH(B:B,Prisustvo_16_03!$A:$A,0),0)=0,"",1) -> 1 | H73: =IF(_xlfn.IFNA(MATCH(B:B,'Prisustvo 23_03'!$A:$A,0),0)=0,"",1) -> 1 | I73: =IF(_xlfn.IFNA(MATCH(B:B,'Prisustvo 30_03'!$A:$A,0),0)=0,"",1) -> 1 | J73: =IF(_xlfn.IFNA(MATCH(B:B,'Prisustvo 06_04'!$A:$A,0),0)=0,"",1) -> 1 | K73: =IF(_xlfn.IFNA(MATCH(B:B,'Prisustvo 13_04'!$A:$A,0),0)=0,"",1) -> 1 | L73: =IF(_xlfn.IFNA(MATCH(B:B,'Prisustvo 27_04'!$A:$A,0),0)=0,"",1) | M73: =IF(_xlfn.IFNA(MATCH(B:B,'Prisustvo 11_05'!$A:$A,0),0)=0,"",1) | N73: =IF(_xlfn.IFNA(MATCH(B:B,'Prisustvo 18_05'!$A:$A,0),0)=0,"",1) -> 1 | O73: =SUM(E73:N73) -> 8
A74: 72 | B74: Marija Radić | 2019/0193 | C74: =LEFT(B74,LEN(B74)-12) -> Marija Radić | D74: =RIGHT(B74,9) -> 2019/0193 | E74: =IF(_xlfn.IFNA(MATCH(B:B,'Prisustvo 02_03_21'!$A:$A,0),0)=0,"",1) | F74: =IF(_xlfn.IFNA(MATCH(B:B,'Prisustvo 09_03'!$A:$A,0),0)=0,"",1) -> 1 | G74: =IF(_xlfn.IFNA(MATCH(B:B,Prisustvo_16_03!$A:$A,0),0)=0,"",1) -> 1 | H74: =IF(_xlfn.IFNA(MATCH(B:B,'Prisustvo 23_03'!$A:$A,0),0)=0,"",1) | I74: =IF(_xlfn.IFNA(MATCH(B:B,'Prisustvo 30_03'!$A:$A,0),0)=0,"",1) -> 1 | J74: =IF(_xlfn.IFNA(MATCH(B:B,'Prisustvo 06_04'!$A:$A,0),0)=0,"",1) | K74: =IF(_xlfn.IFNA(MATCH(B:B,'Prisustvo 13_04'!$A:$A,0),0)=0,"",1) | L74: =IF(_xlfn.IFNA(MATCH(B:B,'Prisustvo 27_04'!$A:$A,0),0)=0,"",1) | M74: =IF(_xlfn.IFNA(MATCH(B:B,'Prisustvo 11_05'!$A:$A,0),0)=0,"",1) | N74: =IF(_xlfn.IFNA(MATCH(B:B,'Prisustvo 18_05'!$A:$A,0),0)=0,"",1) | O74: =SUM(E74:N74) -> 3
A75: 73 | B75: Marija Vrljanac | 2018/0047 | C75: =LEFT(B75,LEN(B75)-12) -> Marija Vrljanac | D75: =RIGHT(B75,9) -> 2018/0047 | E75: 1 | F75: =IF(_xlfn.IFNA(MATCH(B:B,'Prisustvo 09_03'!$A:$A,0),0)=0,"",1) -> 1 | G75: =IF(_xlfn.IFNA(MATCH(B:B,Prisustvo_16_03!$A:$A,0),0)=0,"",1) -> 1 | H75: =IF(_xlfn.IFNA(MATCH(B:B,'Prisustvo 23_03'!$A:$A,0),0)=0,"",1) -> 1 | I75: =IF(_xlfn.IFNA(MATCH(B:B,'Prisustvo 30_03'!$A:$A,0),0)=0,"",1) -> 1 | J75: =IF(_xlfn.IFNA(MATCH(B:B,'Prisustvo 06_04'!$A:$A,0),0)=0,"",1) -> 1 | K75: =IF(_xlfn.IFNA(MATCH(B:B,'Prisustvo 13_04'!$A:$A,0),0)=0,"",1) -> 1 | L75: =IF(_xlfn.IFNA(MATCH(B:B,'Prisustvo 27_04'!$A:$A,0),0)=0,"",1) -> 1 | M75: =IF(_xlfn.IFNA(MATCH(B:B,'Prisustvo 11_05'!$A:$A,0),0)=0,"",1) -> 1 | N75: =IF(_xlfn.IFNA(MATCH(B:B,'Prisustvo 18_05'!$A:$A,0),0)=0,"",1) -> 1 | O75: =SUM(E75:N75) -> 10
A76: 74 | B76: Marijana Rakić | 2019/0463 | C76: =LEFT(B76,LEN(B76)-12) -> Marijana Rakić | D76: =RIGHT(B76,9) -> 2019/0463 | E76: 1 | F76: =IF(_xlfn.IFNA(MATCH(B:B,'Prisustvo 09_03'!$A:$A,0),0)=0,"",1) | G76: =IF(_xlfn.IFNA(MATCH(B:B,Prisustvo_16_03!$A:$A,0),0)=0,"",1) -> 1 | H76: =IF(_xlfn.IFNA(MATCH(B:B,'Prisustvo 23_03'!$A:$A,0),0)=0,"",1) | I76: =IF(_xlfn.IFNA(MATCH(B:B,'Prisustvo 30_03'!$A:$A,0),0)=0,"",1) -> 1 | J76: =IF(_xlfn.IFNA(MATCH(B:B,'Prisustvo 06_04'!$A:$A,0),0)=0,"",1) | K76: =IF(_xlfn.IFNA(MATCH(B:B,'Prisustvo 13_04'!$A:$A,0),0)=0,"",1) -> 1 | L76: =IF(_xlfn.IFNA(MATCH(B:B,'Prisustvo 27_04'!$A:$A,0),0)=0,"",1) | M76: =IF(_xlfn.IFNA(MATCH(B:B,'Prisustvo 11_05'!$A:$A,0),0)=0,"",1) | N76: =IF(_xlfn.IFNA(MATCH(B:B,'Prisustvo 18_05'!$A:$A,0),0)=0,"",1) -> 1 | O76: =SUM(E76:N76) -> 5
A77: 75 | B77: Marijana Zarić | 2019/0344 | C77: =LEFT(B77,LEN(B77)-12) -> Marijana Zarić | D77: =RIGHT(B77,9) -> 2019/0344 | E77: =IF(_xlfn.IFNA(MATCH(B:B,'Prisustvo 02_03_21'!$A:$A,0),0)=0,"",1) | F77: =IF(_xlfn.IFNA(MATCH(B:B,'Prisustvo 09_03'!$A:$A,0),0)=0,"",1) | G77: =IF(_xlfn.IFNA(MATCH(B:B,Prisustvo_16_03!$A:$A,0),0)=0,"",1) -> 1 | H77: =IF(_xlfn.IFNA(MATCH(B:B,'Prisustvo 23_03'!$A:$A,0),0)=0,"",1) -> 1 | I77: =IF(_xlfn.IFNA(MATCH(B:B,'Prisustvo 30_03'!$A:$A,0),0)=0,"",1) -> 1 | J77: =IF(_xlfn.IFNA(MATCH(B:B,'Prisustvo 06_04'!$A:$A,0),0)=0,"",1) -> 1 | K77: =IF(_xlfn.IFNA(MATCH(B:B,'Prisustvo 13_04'!$A:$A,0),0)=0,"",1) -> 1 | L77: =IF(_xlfn.IFNA(MATCH(B:B,'Prisustvo 27_04'!$A:$A,0),0)=0,"",1) | M77: =IF(_xlfn.IFNA(MATCH(B:B,'Prisustvo 11_05'!$A:$A,0),0)=0,"",1) -> 1 | N77: =IF(_xlfn.IFNA(MATCH(B:B,'Prisustvo 18_05'!$A:$A,0),0)=0,"",1) | O77: =SUM(E77:N77) -> 6
A78: 76 | B78: Marko Pantelić | 2019/0051 | C78: =LEFT(B78,LEN(B78)-12) -> Marko Pantelić | D78: =RIGHT(B78,9) -> 2019/0051 | E78: =IF(_xlfn.IFNA(MATCH(B:B,'Prisustvo 02_03_21'!$A:$A,0),0)=0,"",1) | F78: =IF(_xlfn.IFNA(MATCH(B:B,'Prisustvo 09_03'!$A:$A,0),0)=0,"",1) | G78: =IF(_xlfn.IFNA(MATCH(B:B,Prisustvo_16_03!$A:$A,0),0)=0,"",1) | H78: =IF(_xlfn.IFNA(MATCH(B:B,'Prisustvo 23_03'!$A:$A,0),0)=0,"",1) -> 1 | I78: =IF(_xlfn.IFNA(MATCH(B:B,'Prisustvo 30_03'!$A:$A,0),0)=0,"",1) | J78: =IF(_xlfn.IFNA(MATCH(B:B,'Prisustvo 06_04'!$A:$A,0),0)=0,"",1) -> 1 | K78: =IF(_xlfn.IFNA(MATCH(B:B,'Prisustvo 13_04'!$A:$A,0),0)=0,"",1) -> 1 | L78: =IF(_xlfn.IFNA(MATCH(B:B,'Prisustvo 27_04'!$A:$A,0),0)=0,"",1) -> 1 | M78: =IF(_xlfn.IFNA(MATCH(B:B,'Prisustvo 11_05'!$A:$A,0),0)=0,"",1) | N78: =IF(_xlfn.IFNA(MATCH(B:B,'Prisustvo 18_05'!$A:$A,0),0)=0,"",1) -> 1 | O78: =SUM(E78:N78) -> 5
A79: 77 | B79: Marko Ružić | 2019/1021 | C79: =LEFT(B79,LEN(B79)-12) -> Marko Ružić | D79: =RIGHT(B79,9) -> 2019/1021 | E79: 1 | F79: =IF(_xlfn.IFNA(MATCH(B:B,'Prisustvo 09_03'!$A:$A,0),0)=0,"",1) -> 1 | G79: =IF(_xlfn.IFNA(MATCH(B:B,Prisustvo_16_03!$A:$A,0),0)=0,"",1) -> 1 | H79: =IF(_xlfn.IFNA(MATCH(B:B,'Prisustvo 23_03'!$A:$A,0),0)=0,"",1) -> 1 | I79: =IF(_xlfn.IFNA(MATCH(B:B,'Prisustvo 30_03'!$A:$A,0),0)=0,"",1) -> 1 | J79: =IF(_xlfn.IFNA(MATCH(B:B,'Prisustvo 06_04'!$A:$A,0),0)=0,"",1) | K79: =IF(_xlfn.IFNA(MATCH(B:B,'Prisustvo 13_04'!$A:$A,0),0)=0,"",1) -> 1 | L79: =IF(_xlfn.IFNA(MATCH(B:B,'Prisustvo 27_04'!$A:$A,0),0)=0,"",1) -> 1 | M79: =IF(_xlfn.IFNA(MATCH(B:B,'Prisustvo 11_05'!$A:$A,0),0)=0,"",1) -> 1 | N79: =IF(_xlfn.IFNA(MATCH(B:B,'Prisustvo 18_05'!$A:$A,0),0)=0,"",1) -> 1 | O79: =SUM(E79:N79) -> 9
A80: 78 | B80: Mihailo Aleksić | 2019/0147 | C80: =LEFT(B80,LEN(B80)-12) -> Mihailo Aleksić | D80: =RIGHT(B80,9) -> 2019/0147 | E80: =IF(_xlfn.IFNA(MATCH(B:B,'Prisustvo 02_03_21'!$A:$A,0),0)=0,"",1) | F80: =IF(_xlfn.IFNA(MATCH(B:B,'Prisustvo 09_03'!$A:$A,0),0)=0,"",1) | G80: =IF(_xlfn.IFNA(MATCH(B:B,Prisustvo_16_03!$A:$A,0),0)=0,"",1) -> 1 | H80: =IF(_xlfn.IFNA(MATCH(B:B,'Prisustvo 23_03'!$A:$A,0),0)=0,"",1) -> 1 | I80: =IF(_xlfn.IFNA(MATCH(B:B,'Prisustvo 30_03'!$A:$A,0),0)=0,"",1) | J80: =IF(_xlfn.IFNA(MATCH(B:B,'Prisustvo 06_04'!$A:$A,0),0)=0,"",1) | K80: =IF(_xlfn.IFNA(MATCH(B:B,'Prisustvo 13_04'!$A:$A,0),0)=0,"",1) -> 1 | L80: =IF(_xlfn.IFNA(MATCH(B:B,'Prisustvo 27_04'!$A:$A,0),0)=0,"",1) | M80: =IF(_xlfn.IFNA(MATCH(B:B,'Prisustvo 11_05'!$A:$A,0),0)=0,"",1) | N80: =IF(_xlfn.IFNA(MATCH(B:B,'Prisustvo 18_05'!$A:$A,0),0)=0,"",1) | O80: =SUM(E80:N80) -> 3
A81: 79 | B81: Mila Mijailović | 2019/0327 | C81: =LEFT(B81,LEN(B81)-12) -> Mila Mijailović | D81: =RIGHT(B81,9) -> 2019/0327 | E81: 1 | F81: =IF(_xlfn.IFNA(MATCH(B:B,'Prisustvo 09_03'!$A:$A,0),0)=0,"",1) -> 1 | G81: =IF(_xlfn.IFNA(MATCH(B:B,Prisustvo_16_03!$A:$A,0),0)=0,"",1) -> 1 | H81: =IF(_xlfn.IFNA(MATCH(B:B,'Prisustvo 23_03'!$A:$A,0),0)=0,"",1) -> 1 | I81: =IF(_xlfn.IFNA(MATCH(B:B,'Prisustvo 30_03'!$A:$A,0),0)=0,"",1) -> 1 | J81: =IF(_xlfn.IFNA(MATCH(B:B,'Prisustvo 06_04'!$A:$A,0),0)=0,"",1) -> 1 | K81: =IF(_xlfn.IFNA(MATCH(B:B,'Prisustvo 13_04'!$A:$A,0),0)=0,"",1) -> 1 | L81: =IF(_xlfn.IFNA(MATCH(B:B,'Prisustvo 27_04'!$A:$A,0),0)=0,"",1) -> 1 | M81: =IF(_xlfn.IFNA(MATCH(B:B,'Prisustvo 11_05'!$A:$A,0),0)=0,"",1) -> 1 | N81: =IF(_xlfn.IFNA(MATCH(B:B,'Prisustvo 18_05'!$A:$A,0),0)=0,"",1) -> 1 | O81: =SUM(E81:N81) -> 10
A82: 80 | B82: Milan Mirković | 2019/0009 | C82: =LEFT(B82,LEN(B82)-12) -> Milan Mirković | D82: =RIGHT(B82,9) -> 2019/0009 | E82: 1 | F82: =IF(_xlfn.IFNA(MATCH(B:B,'Prisustvo 09_03'!$A:$A,0),0)=0,"",1) -> 1 | G82: =IF(_xlfn.IFNA(MATCH(B:B,Prisustvo_16_03!$A:$A,0),0)=0,"",1) -> 1 | H82: =IF(_xlfn.IFNA(MATCH(B:B,'Prisustvo 23_03'!$A:$A,0),0)=0,"",1) -> 1 | I82: =IF(_xlfn.IFNA(MATCH(B:B,'Prisustvo 30_03'!$A:$A,0),0)=0,"",1) -> 1 | J82: =IF(_xlfn.IFNA(MATCH(B:B,'Prisustvo 06_04'!$A:$A,0),0)=0,"",1) -> 1 | K82: =IF(_xlfn.IFNA(MATCH(B:B,'Prisustvo 13_04'!$A:$A,0),0)=0,"",1) -> 1 | L82: =IF(_xlfn.IFNA(MATCH(B:B,'Prisustvo 27_04'!$A:$A,0),0)=0,"",1) -> 1 | M82: =IF(_xlfn.IFNA(MATCH(B:B,'Prisustvo 11_05'!$A:$A,0),0)=0,"",1) -> 1 | N82: =IF(_xlfn.IFNA(MATCH(B:B,'Prisustvo 18_05'!$A:$A,0),0)=0,"",1) -> 1 | O82: =SUM(E82:N82) -> 10
A83: 81 | B83: Milena Živković | 2019/0208 | C83: =LEFT(B83,LEN(B83)-12) -> Milena Živković | D83: =RIGHT(B83,9) -> 2019/0208 | E83: 1 | F83: =IF(_xlfn.IFNA(MATCH(B:B,'Prisustvo 09_03'!$A:$A,0),0)=0,"",1) -> 1 | G83: =IF(_xlfn.IFNA(MATCH(B:B,Prisustvo_16_03!$A:$A,0),0)=0,"",1) -> 1 | H83: =IF(_xlfn.IFNA(MATCH(B:B,'Prisustvo 23_03'!$A:$A,0),0)=0,"",1) -> 1 | I83: =IF(_xlfn.IFNA(MATCH(B:B,'Prisustvo 30_03'!$A:$A,0),0)=0,"",1) -> 1 | J83: =IF(_xlfn.IFNA(MATCH(B:B,'Prisustvo 06_04'!$A:$A,0),0)=0,"",1) -> 1 | K83: =IF(_xlfn.IFNA(MATCH(B:B,'Prisustvo 13_04'!$A:$A,0),0)=0,"",1) -> 1 | L83: =IF(_xlfn.IFNA(MATCH(B:B,'Prisustvo 27_04'!$A:$A,0),0)=0,"",1) -> 1 | M83: =IF(_xlfn.IFNA(MATCH(B:B,'Prisustvo 11_05'!$A:$A,0),0)=0,"",1) -> 1 | N83: =IF(_xlfn.IFNA(MATCH(B:B,'Prisustvo 18_05'!$A:$A,0),0)=0,"",1) | O83: =SUM(E83:N83) -> 9
A84: 82 | B84: Milica Marinković | 2019/0474 | C84: =LEFT(B84,LEN(B84)-12) -> Milica Marinković | D84: =RIGHT(B84,9) -> 2019/0474 | E84: =IF(_xlfn.IFNA(MATCH(B:B,'Prisustvo 02_03_21'!$A:$A,0),0)=0,"",1) | F84: =IF(_xlfn.IFNA(MATCH(B:B,'Prisustvo 09_03'!$A:$A,0),0)=0,"",1) -> 1 | G84: =IF(_xlfn.IFNA(MATCH(B:B,Prisustvo_16_03!$A:$A,0),0)=0,"",1) -> 1 | H84: =IF(_xlfn.IFNA(MATCH(B:B,'Prisustvo 23_03'!$A:$A,0),0)=0,"",1) -> 1 | I84: =IF(_xlfn.IFNA(MATCH(B:B,'Prisustvo 30_03'!$A:$A,0),0)=0,"",1) -> 1 | J84: =IF(_xlfn.IFNA(MATCH(B:B,'Prisustvo 06_04'!$A:$A,0),0)=0,"",1) | K84: =IF(_xlfn.IFNA(MATCH(B:B,'Prisustvo 13_04'!$A:$A,0),0)=0,"",1) | L84: =IF(_xlfn.IFNA(MATCH(B:B,'Prisustvo 27_04'!$A:$A,0),0)=0,"",1) | M84: =IF(_xlfn.IFNA(MATCH(B:B,'Prisustvo 11_05'!$A:$A,0),0)=0,"",1) | N84: =IF(_xlfn.IFNA(MATCH(B:B,'Prisustvo 18_05'!$A:$A,0),0)=0,"",1) | O84: =SUM(E84:N84) -> 4
A85: 83 | B85: Milica Milovanović | 2020/1017 | C85: =LEFT(B85,LEN(B85)-12) -> Milica Milovanović | D85: =RIGHT(B85,9) -> 2020/1017 | E85: 1 | F85: =IF(_xlfn.IFNA(MATCH(B:B,'Prisustvo 09_03'!$A:$A,0),0)=0,"",1) -> 1 | G85: =IF(_xlfn.IFNA(MATCH(B:B,Prisustvo_16_03!$A:$A,0),0)=0,"",1) -> 1 | H85: =IF(_xlfn.IFNA(MATCH(B:B,'Prisustvo 23_03'!$A:$A,0),0)=0,"",1) -> 1 | I85: =IF(_xlfn.IFNA(MATCH(B:B,'Prisustvo 30_03'!$A:$A,0),0)=0,"",1) | J85: =IF(_xlfn.IFNA(MATCH(B:B,'Prisustvo 06_04'!$A:$A,0),0)=0,"",1) -> 1 | K85: =IF(_xlfn.IFNA(MATCH(B:B,'Prisustvo 13_04'!$A:$A,0),0)=0,"",1) -> 1 | L85: =IF(_xlfn.IFNA(MATCH(B:B,'Prisustvo 27_04'!$A:$A,0),0)=0,"",1) -> 1 | M85: =IF(_xlfn.IFNA(MATCH(B:B,'Prisustvo 11_05'!$A:$A,0),0)=0,"",1) | N85: =IF(_xlfn.IFNA(MATCH(B:B,'Prisustvo 18_05'!$A:$A,0),0)=0,"",1) | O85: =SUM(E85:N85) -> 7
A86: 84 | B86: Milica Tomašević | 2019/0422 | C86: =LEFT(B86,LEN(B86)-12) -> Milica Tomašević | D86: =RIGHT(B86,9) -> 2019/0422 | E86: 1 | F86: =IF(_xlfn.IFNA(MATCH(B:B,'Prisustvo 09_03'!$A:$A,0),0)=0,"",1) -> 1 | G86: =IF(_xlfn.IFNA(MATCH(B:B,Prisustvo_16_03!$A:$A,0),0)=0,"",1) -> 1 | H86: =IF(_xlfn.IFNA(MATCH(B:B,'Prisustvo 23_03'!$A:$A,0),0)=0,"",1) | I86: =IF(_xlfn.IFNA(MATCH(B:B,'Prisustvo 30_03'!$A:$A,0),0)=0,"",1) -> 1 | J86: =IF(_xlfn.IFNA(MATCH(B:B,'Prisustvo 06_04'!$A:$A,0),0)=0,"",1) | K86: =IF(_xlfn.IFNA(MATCH(B:B,'Prisustvo 13_04'!$A:$A,0),0)=0,"",1) -> 1 | L86: =IF(_xlfn.IFNA(MATCH(B:B,'Prisustvo 27_04'!$A:$A,0),0)=0,"",1) | M86: =IF(_xlfn.IFNA(MATCH(B:B,'Prisustvo 11_05'!$A:$A,0),0)=0,"",1) -> 1 | N86: =IF(_xlfn.IFNA(MATCH(B:B,'Prisustvo 18_05'!$A:$A,0),0)=0,"",1) -> 1 | O86: =SUM(E86:N86) -> 7
A87: 85 | B87: Miljana Bogić | 2019/0273 | C87: =LEFT(B87,LEN(B87)-12) -> Miljana Bogić | D87: =RIGHT(B87,9) -> 2019/0273 | E87: 1 | F87: =IF(_xlfn.IFNA(MATCH(B:B,'Prisustvo 09_03'!$A:$A,0),0)=0,"",1) -> 1 | G87: =IF(_xlfn.IFNA(MATCH(B:B,Prisustvo_16_03!$A:$A,0),0)=0,"",1) -> 1 | H87: =IF(_xlfn.IFNA(MATCH(B:B,'Prisustvo 23_03'!$A:$A,0),0)=0,"",1) -> 1 | I87: =IF(_xlfn.IFNA(MATCH(B:B,'Prisustvo 30_03'!$A:$A,0),0)=0,"",1) | J87: =IF(_xlfn.IFNA(MATCH(B:B,'Prisustvo 06_04'!$A:$A,0),0)=0,"",1) -> 1 | K87: =IF(_xlfn.IFNA(MATCH(B:B,'Prisustvo 13_04'!$A:$A,0),0)=0,"",1) | L87: =IF(_xlfn.IFNA(MATCH(B:B,'Prisustvo 27_04'!$A:$A,0),0)=0,"",1) -> 1 | M87: =IF(_xlfn.IFNA(MATCH(B:B,'Prisustvo 11_05'!$A:$A,0),0)=0,"",1) | N87: =IF(_xlfn.IFNA(MATCH(B:B,'Prisustvo 18_05'!$A:$A,0),0)=0,"",1) -> 1 | O87: =SUM(E87:N87) -> 7
A88: 86 | B88: Miloš Obrenović | 2019/0287 | C88: =LEFT(B88,LEN(B88)-12) -> Miloš Obrenović | D88: =RIGHT(B88,9) -> 2019/0287 | E88: =IF(_xlfn.IFNA(MATCH(B:B,'Prisustvo 02_03_21'!$A:$A,0),0)=0,"",1) | F88: =IF(_xlfn.IFNA(MATCH(B:B,'Prisustvo 09_03'!$A:$A,0),0)=0,"",1) -> 1 | G88: =IF(_xlfn.IFNA(MATCH(B:B,Prisustvo_16_03!$A:$A,0),0)=0,"",1) | H88: =IF(_xlfn.IFNA(MATCH(B:B,'Prisustvo 23_03'!$A:$A,0),0)=0,"",1) | I88: =IF(_xlfn.IFNA(MATCH(B:B,'Prisustvo 30_03'!$A:$A,0),0)=0,"",1) | J88: =IF(_xlfn.IFNA(MATCH(B:B,'Prisustvo 06_04'!$A:$A,0),0)=0,"",1) | K88: =IF(_xlfn.IFNA(MATCH(B:B,'Prisustvo 13_04'!$A:$A,0),0)=0,"",1) | L88: =IF(_xlfn.IFNA(MATCH(B:B,'Prisustvo 27_04'!$A:$A,0),0)=0,"",1) | M88: =IF(_xlfn.IFNA(MATCH(B:B,'Prisustvo 11_05'!$A:$A,0),0)=0,"",1) | N88: =IF(_xlfn.IFNA(MATCH(B:B,'Prisustvo 18_05'!$A:$A,0),0)=0,"",1) | O88: =SUM(E88:N88) -> 1
A89: 87 | B89: Miloš Peruničić | 2020/1087 | C89: =LEFT(B89,LEN(B89)-12) -> Miloš Peruničić | D89: =RIGHT(B89,9) -> 2020/1087 | E89: 1 | F89: =IF(_xlfn.IFNA(MATCH(B:B,'Prisustvo 09_03'!$A:$A,0),0)=0,"",1) -> 1 | G89: =IF(_xlfn.IFNA(MATCH(B:B,Prisustvo_16_03!$A:$A,0),0)=0,"",1) -> 1 | H89: =IF(_xlfn.IFNA(MATCH(B:B,'Prisustvo 23_03'!$A:$A,0),0)=0,"",1) -> 1 | I89: =IF(_xlfn.IFNA(MATCH(B:B,'Prisustvo 30_03'!$A:$A,0),0)=0,"",1) -> 1 | J89: =IF(_xlfn.IFNA(MATCH(B:B,'Prisustvo 06_04'!$A:$A,0),0)=0,"",1) | K89: =IF(_xlfn.IFNA(MATCH(B:B,'Prisustvo 13_04'!$A:$A,0),0)=0,"",1) | L89: =IF(_xlfn.IFNA(MATCH(B:B,'Prisustvo 27_04'!$A:$A,0),0)=0,"",1) | M89: =IF(_xlfn.IFNA(MATCH(B:B,'Prisustvo 11_05'!$A:$A,0),0)=0,"",1) | N89: =IF(_xlfn.IFNA(MATCH(B:B,'Prisustvo 18_05'!$A:$A,0),0)=0,"",1) | O89: =SUM(E89:N89) -> 5
A90: 88 | B90: Mina Graović | 2019/0312 | C90: =LEFT(B90,LEN(B90)-12) -> Mina Graović | D90: =RIGHT(B90,9) -> 2019/0312 | E90: =IF(_xlfn.IFNA(MATCH(B:B,'Prisustvo 02_03_21'!$A:$A,0),0)=0,"",1) | F90: =IF(_xlfn.IFNA(MATCH(B:B,'Prisustvo 09_03'!$A:$A,0),0)=0,"",1) -> 1 | G90: =IF(_xlfn.IFNA(MATCH(B:B,Prisustvo_16_03!$A:$A,0),0)=0,"",1) -> 1 | H90: =IF(_xlfn.IFNA(MATCH(B:B,'Prisustvo 23_03'!$A:$A,0),0)=0,"",1) | I90: =IF(_xlfn.IFNA(MATCH(B:B,'Prisustvo 30_03'!$A:$A,0),0)=0,"",1) -> 1 | J90: =IF(_xlfn.IFNA(MATCH(B:B,'Prisustvo 06_04'!$A:$A,0),0)=0,"",1) -> 1 | K90: =IF(_xlfn.IFNA(MATCH(B:B,'Prisustvo 13_04'!$A:$A,0),0)=0,"",1) | L90: =IF(_xlfn.IFNA(MATCH(B:B,'Prisustvo 27_04'!$A:$A,0),0)=0,"",1) | M90: =IF(_xlfn.IFNA(MATCH(B:B,'Prisustvo 11_05'!$A:$A,0),0)=0,"",1) | N90: =IF(_xlfn.IFNA(MATCH(B:B,'Prisustvo 18_05'!$A:$A,0),0)=0,"",1) | O90: =SUM(E90:N90) -> 4
A91: 89 | B91: Mina Jakovljević | 2019/0500 | C91: =LEFT(B91,LEN(B91)-12) -> Mina Jakovljević | D91: =RIGHT(B91,9) -> 2019/0500 | E91: =IF(_xlfn.IFNA(MATCH(B:B,'Prisustvo 02_03_21'!$A:$A,0),0)=0,"",1) | F91: =IF(_xlfn.IFNA(MATCH(B:B,'Prisustvo 09_03'!$A:$A,0),0)=0,"",1) -> 1 | G91: =IF(_xlfn.IFNA(MATCH(B:B,Prisustvo_16_03!$A:$A,0),0)=0,"",1) -> 1 | H91: =IF(_xlfn.IFNA(MATCH(B:B,'Prisustvo 23_03'!$A:$A,0),0)=0,"",1) -> 1 | I91: =IF(_xlfn.IFNA(MATCH(B:B,'Prisustvo 30_03'!$A:$A,0),0)=0,"",1) -> 1 | J91: =IF(_xlfn.IFNA(MATCH(B:B,'Prisustvo 06_04'!$A:$A,0),0)=0,"",1) | K91: =IF(_xlfn.IFNA(MATCH(B:B,'Prisustvo 13_04'!$A:$A,0),0)=0,"",1) -> 1 | L91: =IF(_xlfn.IFNA(MATCH(B:B,'Prisustvo 27_04'!$A:$A,0),0)=0,"",1) -> 1 | M91: =IF(_xlfn.IFNA(MATCH(B:B,'Prisustvo 11_05'!$A:$A,0),0)=0,"",1) | N91: =IF(_xlfn.IFNA(MATCH(B:B,'Prisustvo 18_05'!$A:$A,0),0)=0,"",1) | O91: =SUM(E91:N91) -> 6
A92: 90 | B92: Mina Marković | 2019/0176 | C92: =LEFT(B92,LEN(B92)-12) -> Mina Marković | D92: =RIGHT(B92,9) -> 2019/0176 | E92: 1 | F92: =IF(_xlfn.IFNA(MATCH(B:B,'Prisustvo 09_03'!$A:$A,0),0)=0,"",1) -> 1 | G92: =IF(_xlfn.IFNA(MATCH(B:B,Prisustvo_16_03!$A:$A,0),0)=0,"",1) -> 1 | H92: =IF(_xlfn.IFNA(MATCH(B:B,'Prisustvo 23_03'!$A:$A,0),0)=0,"",1) -> 1 | I92: =IF(_xlfn.IFNA(MATCH(B:B,'Prisustvo 30_03'!$A:$A,0),0)=0,"",1) | J92: =IF(_xlfn.IFNA(MATCH(B:B,'Prisustvo 06_04'!$A:$A,0),0)=0,"",1) -> 1 | K92: =IF(_xlfn.IFNA(MATCH(B:B,'Prisustvo 13_04'!$A:$A,0),0)=0,"",1) -> 1 | L92: =IF(_xlfn.IFNA(MATCH(B:B,'Prisustvo 27_04'!$A:$A,0),0)=0,"",1) -> 1 | M92: =IF(_xlfn.IFNA(MATCH(B:B,'Prisustvo 11_05'!$A:$A,0),0)=0,"",1) -> 1 | N92: =IF(_xlfn.IFNA(MATCH(B:B,'Prisustvo 18_05'!$A:$A,0),0)=0,"",1) -> 1 | O92: =SUM(E92:N92) -> 9
A93: 91 | B93: Nataša Jovičić | 2018/0477 | C93: =LEFT(B93,LEN(B93)-12) -> Nataša Jovičić | D93: =RIGHT(B93,9) -> 2018/0477 | E93: 1 | F93: =IF(_xlfn.IFNA(MATCH(B:B,'Prisustvo 09_03'!$A:$A,0),0)=0,"",1) -> 1 | G93: =IF(_xlfn.IFNA(MATCH(B:B,Prisustvo_16_03!$A:$A,0),0)=0,"",1) -> 1 | H93: =IF(_xlfn.IFNA(MATCH(B:B,'Prisustvo 23_03'!$A:$A,0),0)=0,"",1) -> 1 | I93: =IF(_xlfn.IFNA(MATCH(B:B,'Prisustvo 30_03'!$A:$A,0),0)=0,"",1) -> 1 | J93: =IF(_xlfn.IFNA(MATCH(B:B,'Prisustvo 06_04'!$A:$A,0),0)=0,"",1) -> 1 | K93: =IF(_xlfn.IFNA(MATCH(B:B,'Prisustvo 13_04'!$A:$A,0),0)=0,"",1) -> 1 | L93: =IF(_xlfn.IFNA(MATCH(B:B,'Prisustvo 27_04'!$A:$A,0),0)=0,"",1) -> 1 | M93: =IF(_xlfn.IFNA(MATCH(B:B,'Prisustvo 11_05'!$A:$A,0),0)=0,"",1) -> 1 | N93: =IF(_xlfn.IFNA(MATCH(B:B,'Prisustvo 18_05'!$A:$A,0),0)=0,"",1) | O93: =SUM(E93:N93) -> 9
A94: 92 | B94: Neda Cvetković | 2019/0078 | C94: =LEFT(B94,LEN(B94)-12) -> Neda Cvetković | D94: =RIGHT(B94,9) -> 2019/0078 | E94: 1 | F94: =IF(_xlfn.IFNA(MATCH(B:B,'Prisustvo 09_03'!$A:$A,0),0)=0,"",1) -> 1 | G94: =IF(_xlfn.IFNA(MATCH(B:B,Prisustvo_16_03!$A:$A,0),0)=0,"",1) -> 1 | H94: =IF(_xlfn.IFNA(MATCH(B:B,'Prisustvo 23_03'!$A:$A,0),0)=0,"",1) -> 1 | I94: =IF(_xlfn.IFNA(MATCH(B:B,'Prisustvo 30_03'!$A:$A,0),0)=0,"",1) -> 1 | J94: =IF(_xlfn.IFNA(MATCH(B:B,'Prisustvo 06_04'!$A:$A,0),0)=0,"",1) -> 1 | K94: =IF(_xlfn.IFNA(MATCH(B:B,'Prisustvo 13_04'!$A:$A,0),0)=0,"",1) -> 1 | L94: =IF(_xlfn.IFNA(MATCH(B:B,'Prisustvo 27_04'!$A:$A,0),0)=0,"",1) -> 1 | M94: =IF(_xlfn.IFNA(MATCH(B:B,'Prisustvo 11_05'!$A:$A,0),0)=0,"",1) | N94: =IF(_xlfn.IFNA(MATCH(B:B,'Prisustvo 18_05'!$A:$A,0),0)=0,"",1) | O94: =SUM(E94:N94) -> 8
A95: 93 | B95: Nemanja Dragićević | 2019/0065 | C95: =LEFT(B95,LEN(B95)-12) -> Nemanja Dragićević | D95: =RIGHT(B95,9) -> 2019/0065 | E95: =IF(_xlfn.IFNA(MATCH(B:B,'Prisustvo 02_03_21'!$A:$A,0),0)=0,"",1) | F95: =IF(_xlfn.IFNA(MATCH(B:B,'Prisustvo 09_03'!$A:$A,0),0)=0,"",1) -> 1 | G95: =IF(_xlfn.IFNA(MATCH(B:B,Prisustvo_16_03!$A:$A,0),0)=0,"",1) -> 1 | H95: =IF(_xlfn.IFNA(MATCH(B:B,'Prisustvo 23_03'!$A:$A,0),0)=0,"",1) -> 1 | I95: =IF(_xlfn.IFNA(MATCH(B:B,'Prisustvo 30_03'!$A:$A,0),0)=0,"",1) -> 1 | J95: =IF(_xlfn.IFNA(MATCH(B:B,'Prisustvo 06_04'!$A:$A,0),0)=0,"",1) -> 1 | K95: =IF(_xlfn.IFNA(MATCH(B:B,'Prisustvo 13_04'!$A:$A,0),0)=0,"",1) -> 1 | L95: =IF(_xlfn.IFNA(MATCH(B:B,'Prisustvo 27_04'!$A:$A,0),0)=0,"",1) -> 1 | M95: =IF(_xlfn.IFNA(MATCH(B:B,'Prisustvo 11_05'!$A:$A,0),0)=0,"",1) -> 1 | N95: =IF(_xlfn.IFNA(MATCH(B:B,'Prisustvo 18_05'!$A:$A,0),0)=0,"",1) -> 1 | O95: =SUM(E95:N95) -> 9
A96: 94 | B96: Nemanja Filipović | 2019/0388 | C96: =LEFT(B96,LEN(B96)-12) -> Nemanja Filipović | D96: =RIGHT(B96,9) -> 2019/0388 | E96: =IF(_xlfn.IFNA(MATCH(B:B,'Prisustvo 02_03_21'!$A:$A,0),0)=0,"",1) | F96: =IF(_xlfn.IFNA(MATCH(B:B,'Prisustvo 09_03'!$A:$A,0),0)=0,"",1) -> 1 | G96: =IF(_xlfn.IFNA(MATCH(B:B,Prisustvo_16_03!$A:$A,0),0)=0,"",1) -> 1 | H96: =IF(_xlfn.IFNA(MATCH(B:B,'Prisustvo 23_03'!$A:$A,0),0)=0,"",1) -> 1 | I96: =IF(_xlfn.IFNA(MATCH(B:B,'Prisustvo 30_03'!$A:$A,0),0)=0,"",1) -> 1 | J96: =IF(_xlfn.IFNA(MATCH(B:B,'Prisustvo 06_04'!$A:$A,0),0)=0,"",1) -> 1 | K96: =IF(_xlfn.IFNA(MATCH(B:B,'Prisustvo 13_04'!$A:$A,0),0)=0,"",1) -> 1 | L96: =IF(_xlfn.IFNA(MATCH(B:B,'Prisustvo 27_04'!$A:$A,0),0)=0,"",1) | M96: =IF(_xlfn.IFNA(MATCH(B:B,'Prisustvo 11_05'!$A:$A,0),0)=0,"",1) | N96: =IF(_xlfn.IFNA(MATCH(B:B,'Prisustvo 18_05'!$A:$A,0),0)=0,"",1) | O96: =SUM(E96:N96) -> 6
A97: 95 | B97: Nikola Drašković | 2020/1015 | C97: =LEFT(B97,LEN(B97)-12) -> Nikola Drašković | D97: =RIGHT(B97,9) -> 2020/1015 | E97: =IF(_xlfn.IFNA(MATCH(B:B,'Prisustvo 02_03_21'!$A:$A,0),0)=0,"",1) | F97: =IF(_xlfn.IFNA(MATCH(B:B,'Prisustvo 09_03'!$A:$A,0),0)=0,"",1) -> 1 | G97: =IF(_xlfn.IFNA(MATCH(B:B,Prisustvo_16_03!$A:$A,0),0)=0,"",1) -> 1 | H97: =IF(_xlfn.IFNA(MATCH(B:B,'Prisustvo 23_03'!$A:$A,0),0)=0,"",1) | I97: =IF(_xlfn.IFNA(MATCH(B:B,'Prisustvo 30_03'!$A:$A,0),0)=0,"",1) | J97: =IF(_xlfn.IFNA(MATCH(B:B,'Prisustvo 06_04'!$A:$A,0),0)=0,"",1) -> 1 | K97: =IF(_xlfn.IFNA(MATCH(B:B,'Prisustvo 13_04'!$A:$A,0),0)=0,"",1) | L97: =IF(_xlfn.IFNA(MATCH(B:B,'Prisustvo 27_04'!$A:$A,0),0)=0,"",1) -> 1 | M97: =IF(_xlfn.IFNA(MATCH(B:B,'Prisustvo 11_05'!$A:$A,0),0)=0,"",1) | N97: =IF(_xlfn.IFNA(MATCH(B:B,'Prisustvo 18_05'!$A:$A,0),0)=0,"",1) | O97: =SUM(E97:N97) -> 4
A98: 96 | B98: Nikola Dukić | 2020/1014 | C98: =LEFT(B98,LEN(B98)-12) -> Nikola Dukić | D98: =RIGHT(B98,9) -> 2020/1014 | E98: =IF(_xlfn.IFNA(MATCH(B:B,'Prisustvo 02_03_21'!$A:$A,0),0)=0,"",1) | F98: =IF(_xlfn.IFNA(MATCH(B:B,'Prisustvo 09_03'!$A:$A,0),0)=0,"",1) -> 1 | G98: =IF(_xlfn.IFNA(MATCH(B:B,Prisustvo_16_03!$A:$A,0),0)=0,"",1) | H98: =IF(_xlfn.IFNA(MATCH(B:B,'Prisustvo 23_03'!$A:$A,0),0)=0,"",1) -> 1 | I98: =IF(_xlfn.IFNA(MATCH(B:B,'Prisustvo 30_03'!$A:$A,0),0)=0,"",1) | J98: =IF(_xlfn.IFNA(MATCH(B:B,'Prisustvo 06_04'!$A:$A,0),0)=0,"",1) -> 1 | K98: =IF(_xlfn.IFNA(MATCH(B:B,'Prisustvo 13_04'!$A:$A,0),0)=0,"",1) | L98: =IF(_xlfn.IFNA(MATCH(B:B,'Prisustvo 27_04'!$A:$A,0),0)=0,"",1) -> 1 | M98: =IF(_xlfn.IFNA(MATCH(B:B,'Prisustvo 11_05'!$A:$A,0),0)=0,"",1) | N98: =IF(_xlfn.IFNA(MATCH(B:B,'Prisustvo 18_05'!$A:$A,0),0)=0,"",1) | O98: =SUM(E98:N98) -> 4
A99: 97 | B99: Nikola Grba | 2017/0351 | C99: =LEFT(B99,LEN(B99)-12) -> Nikola Grba | D99: =RIGHT(B99,9) -> 2017/0351 | E99: =IF(_xlfn.IFNA(MATCH(B:B,'Prisustvo 02_03_21'!$A:$A,0),0)=0,"",1) | F99: =IF(_xlfn.IFNA(MATCH(B:B,'Prisustvo 09_03'!$A:$A,0),0)=0,"",1) | G99: =IF(_xlfn.IFNA(MATCH(B:B,Prisustvo_16_03!$A:$A,0),0)=0,"",1) -> 1 | H99: =IF(_xlfn.IFNA(MATCH(B:B,'Prisustvo 23_03'!$A:$A,0),0)=0,"",1) -> 1 | I99: =IF(_xlfn.IFNA(MATCH(B:B,'Prisustvo 30_03'!$A:$A,0),0)=0,"",1) | J99: =IF(_xlfn.IFNA(MATCH(B:B,'Prisustvo 06_04'!$A:$A,0),0)=0,"",1) -> 1 | K99: =IF(_xlfn.IFNA(MATCH(B:B,'Prisustvo 13_04'!$A:$A,0),0)=0,"",1) | L99: =IF(_xlfn.IFNA(MATCH(B:B,'Prisustvo 27_04'!$A:$A,0),0)=0,"",1) | M99: =IF(_xlfn.IFNA(MATCH(B:B,'Prisustvo 11_05'!$A:$A,0),0)=0,"",1) | N99: =IF(_xlfn.IFNA(MATCH(B:B,'Prisustvo 18_05'!$A:$A,0),0)=0,"",1) | O99: =SUM(E99:N99) -> 3
A100: 98 | B100: Nikola Jelić | 2019/0121 | C100: =LEFT(B100,LEN(B100)-12) -> Nikola Jelić | D100: =RIGHT(B100,9) -> 2019/0121 | E100: 1 | F100: =IF(_xlfn.IFNA(MATCH(B:B,'Prisustvo 09_03'!$A:$A,0),0)=0,"",1) | G100: =IF(_xlfn.IFNA(MATCH(B:B,Prisustvo_16_03!$A:$A,0),0)=0,"",1) -> 1 | H100: =IF(_xlfn.IFNA(MATCH(B:B,'Prisustvo 23_03'!$A:$A,0),0)=0,"",1) -> 1 | I100: =IF(_xlfn.IFNA(MATCH(B:B,'Prisustvo 30_03'!$A:$A,0),0)=0,"",1) | J100: =IF(_xlfn.IFNA(MATCH(B:B,'Prisustvo 06_04'!$A:$A,0),0)=0,"",1) | K100: =IF(_xlfn.IFNA(MATCH(B:B,'Prisustvo 13_04'!$A:$A,0),0)=0,"",1) | L100: =IF(_xlfn.IFNA(MATCH(B:B,'Prisustvo 27_04'!$A:$A,0),0)=0,"",1) | M100: =IF(_xlfn.IFNA(MATCH(B:B,'Prisustvo 11_05'!$A:$A,0),0)=0,"",1) | N100: =IF(_xlfn.IFNA(MATCH(B:B,'Prisustvo 18_05'!$A:$A,0),0)=0,"",1) | O100: =SUM(E100:N100) -> 3
...

Sheet Prisustvo 18_05
A1: Full Name | B1: User Action | C1: Timestamp
A2: Rade P. Lazović | B2: Joined | C2: 5/18/2021, 2:08:49 PM
A3: Isidora Bojanić | 2019/0230 | B3: Joined | C3: 5/18/2021, 2:10:43 PM
A4: Andrijana Pantić | 2020/1036 | B4: Joined | C4: 5/18/2021, 2:11:34 PM
A5: Marko Ružić | 2019/1021 | B5: Joined | C5: 5/18/2021, 2:12:51 PM
A6: Luka Mijović | 2019/0280 | B6: Joined | C6: 5/18/2021, 2:12:58 PM
A7: Miljana Bogić | 2019/0273 | B7: Joined | C7: 5/18/2021, 2:13:29 PM
A8: Anja Drobnjak | 2018/0366 | B8: Joined | C8: 5/18/2021, 2:13:36 PM
A9: Anja Đorđević | 2019/0030 | B9: Joined | C9: 5/18/2021, 2:14:26 PM
A10: Isidora Vulić | 2019/0143 | B10: Joined | C10: 5/18/2021, 2:14:28 PM
A11: Dragana Momirski | 2019/0379 | B11: Joined | C11: 5/18/2021, 2:14:42 PM
A12: Vojislav Stevanović | 2018/0412 | B12: Joined | C12: 5/18/2021, 2:14:45 PM
... A52: Andrijana Čanić | 2019/0296 | B52: Joined | C52: 5/18/2021, 3:03:43 PM

Sheet Prisustvo 11_05
A1: Full Name | B1: User Action | C1: Timestamp
A2: Rade P. Lazović | B2: Joined | C2: 5/11/2021, 2:11:07 PM
A3: Siniša Stoparić | 2018/0312 | B3: Joined | C3: 5/11/2021, 2:12:04 PM
A4: Marko Ružić | 2019/1021 | B4: Joined | C4: 5/11/2021, 2:12:34 PM
A5: Marija Vrljanac | 2018/0047 | B5: Joined | C5: 5/11/2021, 2:12:47 PM
A6: Vasilija Rnić | 2019/0447 | B6: Joined | C6: 5/11/2021, 2:12:54 PM
A7: Andrijana Pantić | 2020/1036 | B7: Joined | C7: 5/11/2021, 2:13:01 PM
A8: Ana Stojić | 2020/1042 | B8: Joined | C8: 5/11/2021, 2:13:21 PM
A9: Nemanja Dragićević | 2019/0065 | B9: Joined | C9: 5/11/2021, 2:13:28 PM
A10: Veljko Uskoković | 2019/0080 | B10: Joined | C10: 5/11/2021, 2:13:29 PM
A11: Dragana Momirski | 2019/0379 | B11: Joined | C11: 5/11/2021, 2:13:34 PM
A12: Tina Jeremić | 2019/0319 | B12: Joined | C12: 5/11/2021, 2:13:37 PM
... A60: Aleksa Mirković | 2020/1011 | B60: Joined | C60: 5/11/2021, 3:46:27 PM

Sheet Prisustvo 27_04
A1: Full Name | B1: User Action | C1: Timestamp
A2: Rade P. Lazović | B2: Joined | C2: 4/27/2021, 2:08:08 PM
A3: Anastasija Golijanin | 2019/0301 | B3: Joined | C3: 4/27/2021, 2:08:48 PM
A4: Nikola Raičević | 2020/1045 | B4: Joined | C4: 4/27/2021, 2:08:52 PM
A5: Anja Mitrović | 2019/0368 | B5: Joined | C5: 4/27/2021, 2:09:07 PM
A6: Kristijan Crnoglavac | 2019/0387 | B6: Joined | C6: 4/27/2021, 2:09:47 PM
A7: Marko Ružić | 2019/1021 | B7: Joined | C7: 4/27/2021, 2:10:24 PM
A8: Ivan Rešetar | 2017/0453 | B8: Joined | C8: 4/27/2021, 2:10:30 PM
A9: Anja Đorđević | 2019/0030 | B9: Joined | C9: 4/27/2021, 2:11:03 PM
A10: Neda Cvetković | 2019/0078 | B10: Joined | C10: 4/27/2021, 2:11:03 PM
A11: Danilo Rakić | 2019/0425 | B11: Joined | C11: 4/27/2021, 2:11:31 PM
A12: Aleksa Radojičić | 2019/0165 | B12: Joined | C12: 4/27/2021, 2:12:23 PM
... A68: Jelena Delić | 2019/0391 | B68: Joined | C68: 4/27/2021, 2:52:02 PM

Sheet Prisustvo 13_04
A1: Full Name | B1: User Action | C1: Timestamp
A2: Rade P. Lazović | B2: Joined | C2: 4/13/2021, 2:10:46 PM
A3: Isidora Bojanić | 2019/0230 | B3: Joined | C3: 4/13/2021, 2:11:02 PM
A4: Nikola Raičević | 2020/1045 | B4: Joined | C4: 4/13/2021, 2:11:08 PM
A5: Anja Mitrović | 2019/0368 | B5: Joined | C5: 4/13/2021, 2:11:10 PM
A6: Nemanja Dragićević | 2019/0065 | B6: Joined | C6: 4/13/2021, 2:11:18 PM
A7: Ivan Rešetar | 2017/0453 | B7: Joined | C7: 4/13/2021, 2:11:24 PM
A8: Ana Bulatović | 2018/0424 | B8: Joined | C8: 4/13/2021, 2:11:29 PM
A9: Marko Ružić | 2019/1021 | B9: Joined | C9: 4/13/2021, 2:11:36 PM
A10: Neda Cvetković | 2019/0078 | B10: Joined | C10: 4/13/2021, 2:11:37 PM
A11: Dragana Momirski | 2019/0379 | B11: Joined | C11: 4/13/2021, 2:11:52 PM
A12: Tijana Rajić | 2017/0127 | B12: Joined | C12: 4/13/2021, 2:12:03 PM
... A78: Vasilija Rnić | 2019/0447 | B78: Joined | C78: 4/13/2021, 2:50:44 PM

Sheet Prisustvo 06_04
A1: Full Name | B1: User Action | C1: Timestamp
A2: Rade P. Lazović | B2: Joined | C2: 4/6/2021, 2:10:09 PM
A3: Luka Mijović | 2019/0280 | B3: Joined | C3: 4/6/2021, 2:10:31 PM
A4: Anja Đorđević | 2019/0030 | B4: Joined | C4: 4/6/2021, 2:10:40 PM
A5: Milan Mirković | 2019/0009 | B5: Joined | C5: 4/6/2021, 2:10:41 PM
A6: Aleksa Radojičić | 2019/0165 | B6: Joined | C6: 4/6/2021, 2:10:43 PM
A7: Milena Živković | 2019/0208 | B7: Joined | C7: 4/6/2021, 2:11:13 PM
A8: Nataša Jovičić | 2018/0477 | B8: Joined | C8: 4/6/2021, 2:11:31 PM
A9: Anđela Petrović | 2020/1040 | B9: Joined | C9: 4/6/2021, 2:11:33 PM
A10: Katarina Vujičić | 2019/1022 | B10: Joined | C10: 4/6/2021, 2:11:40 PM
A11: Kristijan Crnoglavac | 2019/0387 | B11: Joined | C11: 4/6/2021, 2:11:55 PM
A12: Tijana Marinković | 2018/0375 | B12: Joined | C12: 4/6/2021, 2:12:13 PM
... A85: Gorana Milošević | 2019/0481 | B85: Joined | C85: 4/6/2021, 2:57:16 PM

Sheet Prisustvo 30_03
A1: Full Name | B1: User Action | C1: Timestamp
A2: Rade P. Lazović | B2: Joined | C2: 3/30/2021, 2:10:15 PM
A3: Tina Jeremić | 2019/0319 | B3: Joined | C3: 3/30/2021, 2:10:37 PM
A4: Aleksandra Tanović | 2019/0187 | B4: Joined | C4: 3/30/2021, 2:10:39 PM
A5: Ivan Đorđević | 2018/0421 | B5: Joined | C5: 3/30/2021, 2:10:49 PM
A6: Isidora Bojanić | 2019/0230 | B6: Joined | C6: 3/30/2021, 2:10:49 PM
A7: Marija Bakić | 2017/0476 | B7: Joined | C7: 3/30/2021, 2:10:55 PM
A8: Nataša Jovičić | 2018/0477 | B8: Joined | C8: 3/30/2021, 2:11:01 PM
A9: Jovana Pavlović | 2018/0295 | B9: Joined | C9: 3/30/2021, 2:11:05 PM
A10: Katarina Ninković | 2019/0442 | B10: Joined | C10: 3/30/2021, 2:11:07 PM
A11: Marija Vrljanac | 2018/0047 | B11: Joined | C11: 3/30/2021, 2:11:12 PM
A12: Sara Španović | 2019/0196 | B12: Joined | C12: 3/30/2021, 2:11:13 PM
... A95: Mina Jakovljević | 2019/0500 | B95: Joined | C95: 3/30/2021, 3:34:50 PM

Sheet Prisustvo 23_03
A1: Full Name | B1: User Action | C1: Timestamp
A2: Rade P. Lazović | B2: Joined | C2: 3/23/2021, 2:10:19 PM
A3: Milan Mirković | 2019/0009 | B3: Joined | C3: 3/23/2021, 2:10:38 PM
A4: Nemanja Dragićević | 2019/0065 | B4: Joined | C4: 3/23/2021, 2:10:41 PM
A5: Marija Vrljanac | 2018/0047 | B5: Joined | C5: 3/23/2021, 2:10:45 PM
A6: Andrijana Mitić | 2018/0360 | B6: Joined | C6: 3/23/2021, 2:10:57 PM
A7: Anđela Petrović | 2020/1040 | B7: Joined | C7: 3/23/2021, 2:10:57 PM
A8: Aleksandra Tanović | 2019/0187 | B8: Joined | C8: 3/23/2021, 2:10:59 PM
A9: Neda Cvetković | 2019/0078 | B9: Joined | C9: 3/23/2021, 2:11:00 PM
A10: Nemanja Filipović | 2019/0388 | B10: Joined | C10: 3/23/2021, 2:11:04 PM
A11: Kristijan Crnoglavac | 2019/0387 | B11: Joined | C11: 3/23/2021, 2:11:12 PM
A12: Katarina Ninković | 2019/0442 | B12: Joined | C12: 3/23/2021, 2:11:17 PM
... A104: Irena Živković | 2019/0082 | B104: Joined | C104: 3/23/2021, 2:53:15 PM

Sheet Prisustvo_16_03
A1: Full Name | B1: User Action | C1: Timestamp
A2: Rade P. Lazović | B2: Joined | C2: 3/16/2021, 2:11:16 PM
A3: Mina Jakovljević | 2019/0500 | B3: Joined | C3: 3/16/2021, 2:11:37 PM
A4: Kosta Aćimović | 2019/0362 | B4: Joined | C4: 3/16/2021, 2:11:38 PM
A5: Luna Kureš | 2018/0417 | B5: Joined | C5: 3/16/2021, 2:11:45 PM
A6: Anja Stojanović | 2019/0052 | B6: Joined | C6: 3/16/2021, 2:11:46 PM
A7: Lazar Đorđević | 2018/0059 | B7: Joined | C7: 3/16/2021, 2:11:49 PM
A8: Isidora Bojanić | 2019/0230 | B8: Joined | C8: 3/16/2021, 2:11:53 PM
A9: Anja Mitrović | 2019/0368 | B9: Joined | C9: 3/16/2021, 2:11:54 PM
A10: Katarina Nešovanović | 2018/0482 | B10: Joined | C10: 3/16/2021, 2:12:07 PM
A11: Sanja Marković | 2018/0324 | B11: Joined | C11: 3/16/2021, 2:12:11 PM
A12: Marijana Rakić | 2019/0463 | B12: Joined | C12: 3/16/2021, 2:12:11 PM
... A105: Ivana Milidragović | 2019/0434 | B105: Joined | C105: 3/16/2021, 3:43:14 PM

Sheet Prisustvo 09_03
A1: Full Name | B1: User Action | C1: Timestamp
A2: Rade P. Lazović | B2: Joined | C2: 3/9/2021, 2:10:55 PM
A3: Veljko Uskoković | 2019/0080 | B3: Joined | C3: 3/9/2021, 2:11:12 PM
A4: Dušan Stoimenović | 2019/0102 | B4: Joined | C4: 3/9/2021, 2:11:17 PM
A5: Andrijana Pantić | 2020/1036 | B5: Joined | C5: 3/9/2021, 2:11:17 PM
A6: Milena Živković | 2019/0208 | B6: Joined | C6: 3/9/2021, 2:11:18 PM
A7: Anđela Stojanović | 2019/0345 | B7: Joined | C7: 3/9/2021, 2:11:20 PM
A8: Tijana Rajić | 2017/0127 | B8: Joined | C8: 3/9/2021, 2:11:22 PM
A9: Iva Mijailović | 2018/0490 | B9: Joined | C9: 3/9/2021, 2:11:22 PM
A10: Marija Bakić | 2017/0476 | B10: Joined | C10: 3/9/2021, 2:11:25 PM
A11: Katarina Vujičić | 2019/1022 | B11: Joined | C11: 3/9/2021, 2:11:27 PM
A12: Tijana Ćika | 2018/0439 | B12: Joined | C12: 3/9/2021, 2:11:27 PM
... A109: Vanja Vučković | 2019/0332 | B109: Joined | C109: 3/9/2021, 2:36:58 PM

Sheet Prisustvo 02_03_21
A1: Full Name | B1: User Action | C1: Timestamp
A2: Rade P. Lazović | B2: Joined | C2: 3/2/2021, 2:10:56 PM
A3: Kosta Aćimović | 2019/0362 | B3: Joined | C3: 3/2/2021, 2:11:14 PM
A4: Sara Drašković | 2019/0438 | B4: Joined | C4: 3/2/2021, 2:11:16 PM
A5: Pavle Kostić | 2019/0111 | B5: Joined | C5: 3/2/2021, 2:11:17 PM
A6: Sanja Marković | 2018/0324 | B6: Joined | C6: 3/2/2021, 2:11:17 PM
A7: Ivan Rešetar | 2017/0453 | B7: Joined | C7: 3/2/2021, 2:11:29 PM
A8: Andrijana Čanić | 2019/0296 | B8: Joined | C8: 3/2/2021, 2:11:30 PM
A9: Anja Drobnjak | 2018/0366 | B9: Joined | C9: 3/2/2021, 2:11:33 PM
A10: Isidora Vulić | 2019/0143 | B10: Joined | C10: 3/2/2021, 2:11:37 PM
A11: Luka Mijović | 2019/0280 | B11: Joined | C11: 3/2/2021, 2:11:38 PM
A12: Anđela Petrović | 2020/1040 | B12: Joined | C12: 3/2/2021, 2:11:40 PM
... A77: Aleksandra Mitić | 2019/0044 | B77: Joined | C77: 3/2/2021, 2:47:36 PM
