Workbook

Sheet akt
E1: =COUNT(E34:E159) -> 58 | F1: =COUNT(F34:F159) -> 81 | G1: =COUNT(G34:G159) -> 80 | H1: =COUNT(H34:H159) -> 76 | I1: =COUNT(I34:I159) -> 72 | J1: =COUNT(J34:J159) -> 60 | K1: =COUNT(K34:K159) -> 58 | L1: =COUNT(L34:L159) -> 49 | ... N1: =COUNT(N34:N159) -> 37
B2: Full Name | C2: Ime i prezime | D2: index | E2: 1t 2.3.21 | F2: 2t 9.3.21 | G2: 3t 16.3.21 | H2: 4t 23.3.21 | I2: 5t 30.3.21 | J2: 6t 6.4.21 | K2: 7t 13.4.21 | L2: 9t 27.4.21 | M2: 10t 11.5.21 | N2: 11t 18.5.22 | O2: ukupno
A3: 1 | B3: Aleksa Mirković | 2020/1011 | C3: =LEFT(B3,LEN(B3)-12) -> Aleksa Mirković | D3: =RIGHT(B3,9) -> 2020/1011 | E3: 1 | F3: =IF(_xlfn.IFNA(MATCH(B:B,'Prisustvo 09_03'!$A:$A,0),0)=0,"",1) -> 1 | G3: =IF(_xlfn.IFNA(MATCH(B:B,Prisustvo_16_03!$A:$A,0),0)=0,"",1) -> 1 | H3: =IF(_xlfn.IFNA(MATCH(B:B,'Prisustvo 23_03'!$A:$A,0),0)=0,"",1) | I3: =IF(_xlfn.IFNA(MATCH(B:B,'Prisustvo 30_03'!$A:$A,0),0)=0,"",1) -> 1 | J3: =IF(_xlfn.IFNA(MATCH(B:B,'Prisustvo 06_04'!$A:$A,0),0)=0,"",1) -> 1 | K3: =IF(_xlfn.IFNA(MATCH(B:B,'Prisustvo 13_04'!$A:$A,0),0)=0,"",1) | L3: =IF(_xlfn.IFNA(MATCH(B:B,'Prisustvo 27_04'!$A:$A,0),0)=0,"",1) -> 1 | M3: =IF(_xlfn.IFNA(MATCH(B:B,'Prisustvo 11_05'!$A:$A,0),0)=0,"",1) -> 1 | N3: =IF(_xlfn.IFNA(MATCH(B:B,'Prisustvo 18_05'!$A:$A,0),0)=0,"",1) | O3: =SUM(E3:N3) -> 7
A4: 2 | B4: Aleksa Radojičić | 2019/0165 | C4: =LEFT(B4,LEN(B4)-12) -> Aleksa Radojičić | D4: =RIGHT(B4,9) -> 2019/0165 | E4: 1 | F4: =IF(_xlfn.IFNA(MATCH(B:B,'Prisustvo 09_03'!$A:$A,0),0)=0,"",1) | G4: =IF(_xlfn.IFNA(MATCH(B:B,Prisustvo_16_03!$A:$A,0),0)=0,"",1) -> 1 | H4: =IF(_xlfn.IFNA(MATCH(B:B,'Prisustvo 23_03'!$A:$A,0),0)=0,"",1) -> 1 | I4: =IF(_xlfn.IFNA(MATCH(B:B,'Prisustvo 30_03'!$A:$A,0),0)=0,"",1) -> 1 | J4: =IF(_xlfn.IFNA(MATCH(B:B,'Prisustvo 06_04'!$A:$A,0),0)=0,"",1) -> 1 | K4: =IF(_xlfn.IFNA(MATCH(B:B,'Prisustvo 13_04'!$A:$A,0),0)=0,"",1) -> 1 | L4: =IF(_xlfn.IFNA(MATCH(B:B,'Prisustvo 27_04'!$A:$A,0),0)=0,"",1) -> 1 | M4: =IF(_xlfn.IFNA(MATCH(B:B,'Prisustvo 11_05'!$A:$A,0),0)=0,"",1) -> 1 | N4: =IF(_xlfn.IFNA(MATCH(B:B,'Prisustvo 18_05'!$A:$A,0),0)=0,"",1) -> 1 | O4: =SUM(E4:N4) -> 9
A5: 3 | B5: Aleksa Vukosavljević | 2018/0341 | C5: =LEFT(B5,LEN(B5)-12) -> Aleksa Vukosavljević | D5: =RIGHT(B5,9) -> 2018/0341 | E5: =IF(_xlfn.IFNA(MATCH(B:B,'Prisustvo 02_03_21'!$A:$A,0),0)=0,"",1) | F5: =IF(_xlfn.IFNA(MATCH(B:B,'Prisustvo 09_03'!$A:$A,0),0)=0,"",1) | G5: =IF(_xlfn.IFNA(MATCH(B:B,Prisustvo_16_03!$A:$A,0),0)=0,"",1) | H5: =IF(_xlfn.IFNA(MATCH(B:B,'Prisustvo 23_03'!$A:$A,0),0)=0,"",1) -> 1 | I5: =IF(_xlfn.IFNA(MATCH(B:B,'Prisustvo 30_03'!$A:$A,0),0)=0,"",1) | J5: =IF(_xlfn.IFNA(MATCH(B:B,'Prisustvo 06_04'!$A:$A,0),0)=0,"",1) | K5: =IF(_xlfn.IFNA(MATCH(B:B,'Prisustvo 13_04'!$A:$A,0),0)=0,"",1) | L5: =IF(_xlfn.IFNA(MATCH(B:B,'Prisustvo 27_04'!$A:$A,0),0)=0,"",1) | M5: =IF(_xlfn.IFNA(MATCH(B:B,'Prisustvo 11_05'!$A:$A,0),0)=0,"",1) | N5: =IF(_xlfn.IFNA(MATCH(B:B,'Prisustvo 18_05'!$A:$A,0),0)=0,"",1) | O5: =SUM(E5:N5) -> 1
A6: 4 | B6: Aleksa Vuruna | 2019/0363 | C6: =LEFT(B6,LEN(B6)-12) -> Aleksa Vuruna | D6: =RIGHT(B6,9) -> 2019/0363 | E6: =IF(_xlfn.IFNA(MATCH(B:B,'Prisustvo 02_03_21'!$A:$A,0),0)=0,"",1) | F6: =IF(_xlfn.IFNA(MATCH(B:B,'Prisustvo 09_03'!$A:$A,0),0)=0,"",1) | G6: =IF(_xlfn.IFNA(MATCH(B:B,Prisustvo_16_03!$A:$A,0),0)=0,"",1) | H6: =IF(_xlfn.IFNA(MATCH(B:B,'Prisustvo 23_03'!$A:$A,0),0)=0,"",1) | I6: =IF(_xlfn.IFNA(MATCH(B:B,'Prisustvo 30_03'!$A:$A,0),0)=0,"",1) -> 1 | J6: =IF(_xlfn.IFNA(MATCH(B:B,'Prisustvo 06_04'!$A:$A,0),0)=0,"",1) | K6: =IF(_xlfn.IFNA(MATCH(B:B,'Prisustvo 13_04'!$A:$A,0),0)=0,"",1) | L6: =IF(_xlfn.IFNA(MATCH(B:B,'Prisustvo 27_04'!$A:$A,0),0)=0,"",1) | M6: =IF(_xlfn.IFNA(MATCH(B:B,'Prisustvo 11_05'!$A:$A,0),0)=0,"",1) | N6: =IF(_xlfn.IFNA(MATCH(B:B,'Prisustvo 18_05'!$A:$A,0),0)=0,"",1) | O6: =SUM(E6:N6) -> 1
A7: 5 | B7: Aleksandra Mitić | 2019/0044 | C7: =LEFT(B7,LEN(B7)-12) -> Aleksandra Mitić | D7: =RIGHT(B7,9) -> 2019/0044 | E7: 1 | F7: =IF(_xlfn.IFNA(MATCH(B:B,'Prisustvo 09_03'!$A:$A,0),0)=0,"",1) -> 1 | G7: =IF(_xlfn.IFNA(MATCH(B:B,Prisustvo_16_03!$A:$A,0),0)=0,"",1) -> 1 | H7: =IF(_xlfn.IFNA(MATCH(B:B,'Prisustvo 23_03'!$A:$A,0),0)=0,"",1) -> 1 | I7: =IF(_xlfn.IFNA(MATCH(B:B,'Prisustvo 30_03'!$A:$A,0),0)=0,"",1) | J7: =IF(_xlfn.IFNA(MATCH(B:B,'Prisustvo 06_04'!$A:$A,0),0)=0,"",1) -> 1 | K7: =IF(_xlfn.IFNA(MATCH(B:B,'Prisustvo 13_04'!$A:$A,0),0)=0,"",1) -> 1 | L7: =IF(_xlfn.IFNA(MATCH(B:B,'Prisustvo 27_04'!$A:$A,0),0)=0,"",1) -> 1 | M7: =IF(_xlfn.IFNA(MATCH(B:B,'Prisustvo 11_05'!$A:$A,0),0)=0,"",1) -> 1 | N7: =IF(_xlfn.IFNA(MATCH(B:B,'Prisustvo 18_05'!$A:$A,0),0)=0,"",1) | O7: =SUM(E7:N7) -> 8
A8: 6 | B8: Aleksandra Tanović | 2019/0187 | C8: =LEFT(B8,LEN(B8)-12) -> Aleksandra Tanović | D8: =RIGHT(B8,9) -> 2019/0187 | E8: =IF(_xlfn.IFNA(MATCH(B:B,'Prisustvo 02_03_21'!$A:$A,0),0)=0,"",1) | F8: =IF(_xlfn.IFNA(MATCH(B:B,'Prisustvo 09_03'!$A:$A,0),0)=0,"",1) -> 1 | G8: =IF(_xlfn.IFNA(MATCH(B:B,Prisustvo_16_03!$A:$A,0),0)=0,"",1) -> 1 | H8: =IF(_xlfn.IFNA(MATCH(B:B,'Prisustvo 23_03'!$A:$A,0),0)=0,"",1) -> 1 | I8: =IF(_xlfn.IFNA(MATCH(B:B,'Prisustvo 30_03'!$A:$A,0),0)=0,"",1) -> 1 | J8: =IF(_xlfn.IFNA(MATCH(B:B,'Prisustvo 06_04'!$A:$A,0),0)=0,"",1) -> 1 | K8: =IF(_xlfn.IFNA(MATCH(B:B,'Prisustvo 13_04'!$A:$A,0),0)=0,"",1) -> 1 | L8: =IF(_xlfn.IFNA(MATCH(B:B,'Prisustvo 27_04'!$A:$A,0),0)=0,"",1) -> 1 | M8: =IF(_xlfn.IFNA(MATCH(B:B,'Prisustvo 11_05'!$A:$A,0),0)=0,"",1) -> 1 | N8: =IF(_xlfn.IFNA(MATCH(B:B,'Prisustvo 18_05'!$A:$A,0),0)=0,"",1) | O8: =SUM(E8:N8) -> 8
A9: 7 | B9: Ana Bulatović | 2018/0424 | C9: =LEFT(B9,LEN(B9)-12) -> Ana Bulatović | D9: =RIGHT(B9,9) -> 2018/0424 | E9: 1 | F9: =IF(_xlfn.IFNA(MATCH(B:B,'Prisustvo 09_03'!$A:$A,0),0)=0,"",1) -> 1 | G9: =IF(_xlfn.IFNA(MATCH(B:B,Prisustvo_16_03!$A:$A,0),0)=0,"",1) | H9: =IF(_xlfn.IFNA(MATCH(B:B,'Prisustvo 23_03'!$A:$A,0),0)=0,"",1) -> 1 | I9: =IF(_xlfn.IFNA(MATCH(B:B,'Prisustvo 30_03'!$A:$A,0),0)=0,"",1) -> 1 | J9: =IF(_xlfn.IFNA(MATCH(B:B,'Prisustvo 06_04'!$A:$A,0),0)=0,"",1) -> 1 | K9: =IF(_xlfn.IFNA(MATCH(B:B,'Prisustvo 13_04'!$A:$A,0),0)=0,"",1) -> 1 | L9: =IF(_xlfn.IFNA(MATCH(B:B,'Prisustvo 27_04'!$A:$A,0),0)=0,"",1) -> 1 | M9: =IF(_xlfn.IFNA(MATCH(B:B,'Prisustvo 11_05'!$A:$A,0),0)=0,"",1) -> 1 | N9: =IF(_xlfn.IFNA(MATCH(B:B,'Prisustvo 18_05'!$A:$A,0),0)=0,"",1) | O9: =SUM(E9:N9) -> 8
A10: 8 | B10: Ana Stojić | 2020/1042 | C10: =LEFT(B10,LEN(B10)-12) -> Ana Stojić | D10: =RIGHT(B10,9) -> 2020/1042 | E10: 1 | F10: =IF(_xlfn.IFNA(MATCH(B:B,'Prisustvo 09_03'!$A:$A,0),0)=0,"",1) -> 1 | G10: =IF(_xlfn.IFNA(MATCH(B:B,Prisustvo_16_03!$A:$A,0),0)=0,"",1) -> 1 | H10: =IF(_xlfn.IFNA(MATCH(B:B,'Prisustvo 23_03'!$A:$A,0),0)=0,"",1) -> 1 | I10: =IF(_xlfn.IFNA(MATCH(B:B,'Prisustvo 30_03'!$A:$A,0),0)=0,"",1) -> 1 | J10: =IF(_xlfn.IFNA(MATCH(B:B,'Prisustvo 06_04'!$A:$A,0),0)=0,"",1) -> 1 | K10: =IF(_xlfn.IFNA(MATCH(B:B,'Prisustvo 13_04'!$A:$A,0),0)=0,"",1) -> 1 | L10: =IF(_xlfn.IFNA(MATCH(B:B,'Prisustvo 27_04'!$A:$A,0),0)=0,"",1) | M10: =IF(_xlfn.IFNA(MATCH(B:B,'Prisustvo 11_05'!$A:$A,0),0)=0,"",1) -> 1 | N10: =IF(_xlfn.IFNA(MATCH(B:B,'Prisustvo 18_05'!$A:$A,0),0)=0,"",1) -> 1 | O10: =SUM(E10:N10) -> 9
A11: 9 | B11: Anastasija Golijanin | 2019/0301 | C11: =LEFT(B11,LEN(B11)-12) -> Anastasija Golijanin | D11: =RIGHT(B11,9) -> 2019/0301 | E11: =IF(_xlfn.IFNA(MATCH(B:B,'Prisustvo 02_03_21'!$A:$A,0),0)=0,"",1) | F11: =IF(_xlfn.IFNA(MATCH(B:B,'Prisustvo 09_03'!$A:$A,0),0)=0,"",1) -> 1 | G11: =IF(_xlfn.IFNA(MATCH(B:B,Prisustvo_16_03!$A:$A,0),0)=0,"",1) -> 1 | H11: =IF(_xlfn.IFNA(MATCH(B:B,'Prisustvo 23_03'!$A:$A,0),0)=0,"",1) -> 1 | I11: =IF(_xlfn.IFNA(MATCH(B:B,'Prisustvo 30_03'!$A:$A,0),0)=0,"",1) -> 1 | J11: =IF(_xlfn.IFNA(MATCH(B:B,'Prisustvo 06_04'!$A:$A,0),0)=0,"",1) -> 1 | K11: =IF(_xlfn.IFNA(MATCH(B:B,'Prisustvo 13_04'!$A:$A,0),0)=0,"",1) -> 1 | L11: =IF(_xlfn.IFNA(MATCH(B:B,'Prisustvo 27_04'!$A:$A,0),0)=0,"",1) -> 1 | M11: =IF(_xlfn.IFNA(MATCH(B:B,'Prisustvo 11_05'!$A:$A,0),0)=0,"",1) | N11: =IF(_xlfn.IFNA(MATCH(B:B,'Prisustvo 18_05'!$A:$A,0),0)=0,"",1) -> 1 | O11: =SUM(E11:N11) -> 8
A12: 10 | B12: Anđela Beloševac | 2019/0118 | C12: =LEFT(B12,LEN(B12)-12) -> Anđela Beloševac | D12: =RIGHT(B12,9) -> 2019/0118 | E12: 1 | F12: =IF(_xlfn.IFNA(MATCH(B:B,'Prisustvo 09_03'!$A:$A,0),0)=0,"",1) -> 1 | G12: =IF(_xlfn.IFNA(MATCH(B:B,Prisustvo_16_03!$A:$A,0),0)=0,"",1) -> 1 | H12: =IF(_xlfn.IFNA(MATCH(B:B,'Prisustvo 23_03'!$A:$A,0),0)=0,"",1) -> 1 | I12: =IF(_xlfn.IFNA(MATCH(B:B,'Prisustvo 30_03'!$A:$A,0),0)=0,"",1) -> 1 | J12: =IF(_xlfn.IFNA(MATCH(B:B,'Prisustvo 06_04'!$A:$A,0),0)=0,"",1) -> 1 | K12: =IF(_xlfn.IFNA(MATCH(B:B,'Prisustvo 13_04'!$A:$A,0),0)=0,"",1) -> 1 | L12: =IF(_xlfn.IFNA(MATCH(B:B,'Prisustvo 27_04'!$A:$A,0),0)=0,"",1) -> 1 | M12: =IF(_xlfn.IFNA(MATCH(B:B,'Prisustvo 11_05'!$A:$A,0),0)=0,"",1) | N12: =IF(_xlfn.IFNA(MATCH(B:B,'Prisustvo 18_05'!$A:$A,0),0)=0,"",1) -> 1 | O12: =SUM(E12:N12) -> 9
A13: 11 | B13: Anđela Jovanović | 2020/1046 | C13: =LEFT(B13,LEN(B13)-12) -> Anđela Jovanović | D13: =RIGHT(B13,9) -> 2020/1046 | E13: 1 | F13: =IF(_xlfn.IFNA(MATCH(B:B,'Prisustvo 09_03'!$A:$A,0),0)=0,"",1) -> 1 | G13: =IF(_xlfn.IFNA(MATCH(B:B,Prisustvo_16_03!$A:$A,0),0)=0,"",1) | H13: =IF(_xlfn.IFNA(MATCH(B:B,'Prisustvo 23_03'!$A:$A,0),0)=0,"",1) -> 1 | I13: =IF(_xlfn.IFNA(MATCH(B:B,'Prisustvo 30_03'!$A:$A,0),0)=0,"",1) -> 1 | J13: =IF(_xlfn.IFNA(MATCH(B:B,'Prisustvo 06_04'!$A:$A,0),0)=0,"",1) -> 1 | K13: =IF(_xlfn.IFNA(MATCH(B:B,'Prisustvo 13_04'!$A:$A,0),0)=0,"",1) | L13: =IF(_xlfn.IFNA(MATCH(B:B,'Prisustvo 27_04'!$A:$A,0),0)=0,"",1) -> 1 | M13: =IF(_xlfn.IFNA(MATCH(B:B,'Prisustvo 11_05'!$A:$A,0),0)=0,"",1) | N13: =IF(_xlfn.IFNA(MATCH(B:B,'Prisustvo 18_05'!$A:$A,0),0)=0,"",1) | O13: =SUM(E13:N13) -> 6
A14: 12 | B14: Anđela Petrović | 2020/1040 | C14: =LEFT(B14,LEN(B14)-12) -> Anđela Petrović | D14: =RIGHT(B14,9) -> 2020/1040 | E14: 1 | F14: =IF(_xlfn.IFNA(MATCH(B:B,'Prisustvo 09_03'!$A:$A,0),0)=0,"",1) -> 1 | G14: =IF(_xlfn.IFNA(MATCH(B:B,Prisustvo_16_03!$A:$A,0),0)=0,"",1) -> 1 | H14: =IF(_xlfn.IFNA(MATCH(B:B,'Prisustvo 23_03'!$A:$A,0),0)=0,"",1) -> 1 | I14: =IF(_xlfn.IFNA(MATCH(B:B,'Prisustvo 30_03'!$A:$A,0),0)=0,"",1) | J14: =IF(_xlfn.IFNA(MATCH(B:B,'Prisustvo 06_04'!$A:$A,0),0)=0,"",1) -> 1 | K14: =IF(_xlfn.IFNA(MATCH(B:B,'Prisustvo 13_04'!$A:$A,0),0)=0,"",1) -> 1 | L14: =IF(_xlfn.IFNA(MATCH(B:B,'Prisustvo 27_04'!$A:$A,0),0)=0,"",1) | M14: =IF(_xlfn.IFNA(MATCH(B:B,'Prisustvo 11_05'!$A:$A,0),0)=0,"",1) | N14: =IF(_xlfn.IFNA(MATCH(B:B,'Prisustvo 18_05'!$A:$A,0),0)=0,"",1) | O14: =SUM(E14:N14) -> 6
A15: 13 | B15: Anđela Stojanović | 2019/0345 | C15: =LEFT(B15,LEN(B15)-12) -> Anđela Stojanović | D15: =RIGHT(B15,9) -> 2019/0345 | E15: =IF(_xlfn.IFNA(MATCH(B:B,'Prisustvo 02_03_21'!$A:$A,0),0)=0,"",1) | F15: =IF(_xlfn.IFNA(MATCH(B:B,'Prisustvo 09_03'!$A:$A,0),0)=0,"",1) -> 1 | G15: =IF(_xlfn.IFNA(MATCH(B:B,Prisustvo_16_03!$A:$A,0),0)=0,"",1) -> 1 | H15: =IF(_xlfn.IFNA(MATCH(B:B,'Prisustvo 23_03'!$A:$A,0),0)=0,"",1) -> 1 | I15: =IF(_xlfn.IFNA(MATCH(B:B,'Prisustvo 30_03'!$A:$A,0),0)=0,"",1) | J15: =IF(_xlfn.IFNA(MATCH(B:B,'Prisustvo 06_04'!$A:$A,0),0)=0,"",1) -> 1 | K15: =IF(_xlfn.IFNA(MATCH(B:B,'Prisustvo 13_04'!$A:$A,0),0)=0,"",1) | L15: =IF(_xlfn.IFNA(MATCH(B:B,'Prisustvo 27_04'!$A:$A,0),0)=0,"",1) | M15: =IF(_xlfn.IFNA(MATCH(B:B,'Prisustvo 11_05'!$A:$A,0),0)=0,"",1) | N15: =IF(_xlfn.IFNA(MATCH(B:B,'Prisustvo 18_05'!$A:$A,0),0)=0,"",1) | O15: =SUM(E15:N15) -> 4
A16: 14 | B16: Anđela Trkulja | 2019/0219 | C16: =LEFT(B16,LEN(B16)-12) -> Anđela Trkulja | D16: =RIGHT(B16,9) -> 2019/0219 | E16: =IF(_xlfn.IFNA(MATCH(B:B,'Prisustvo 02_03_21'!$A:$A,0),0)=0,"",1) | F16: =IF(_xlfn.IFNA(MATCH(B:B,'Prisustvo 09_03'!$A:$A,0),0)=0,"",1) -> 1 | G16: =IF(_xlfn.IFNA(MATCH(B:B,Prisustvo_16_03!$A:$A,0),0)=0,"",1) | H16: =IF(_xlfn.IFNA(MATCH(B:B,'Prisustvo 23_03'!$A:$A,0),0)=0,"",1) | I16: =IF(_xlfn.IFNA(MATCH(B:B,'Prisustvo 30_03'!$A:$A,0),0)=0,"",1) | J16: =IF(_xlfn.IFNA(MATCH(B:B,'Prisustvo 06_04'!$A:$A,0),0)=0,"",1) | K16: =IF(_xlfn.IFNA(MATCH(B:B,'Prisustvo 13_04'!$A:$A,0),0)=0,"",1) | L16: =IF(_xlfn.IFNA(MATCH(B:B,'Prisustvo 27_04'!$A:$A,0),0)=0,"",1) | M16: =IF(_xlfn.IFNA(MATCH(B:B,'Prisustvo 11_05'!$A:$A,0),0)=0,"",1) | N16: =IF(_xlfn.IFNA(MATCH(B:B,'Prisustvo 18_05'!$A:$A,0),0)=0,"",1) | O16: =SUM(E16:N16) -> 1
A17: 15 | B17: Andrea Filipović | 2019/0292 | C17: =LEFT(B17,LEN(B17)-12) -> Andrea Filipović | D17: =RIGHT(B17,9) -> 2019/0292 | E17: =IF(_xlfn.IFNA(MATCH(B:B,'Prisustvo 02_03_21'!$A:$A,0),0)=0,"",1) | F17: =IF(_xlfn.IFNA(MATCH(B:B,'Prisustvo 09_03'!$A:$A,0),0)=0,"",1) -> 1 | G17: =IF(_xlfn.IFNA(MATCH(B:B,Prisustvo_16_03!$A:$A,0),0)=0,"",1) -> 1 | H17: =IF(_xlfn.IFNA(MATCH(B:B,'Prisustvo 23_03'!$A:$A,0),0)=0,"",1) -> 1 | I17: =IF(_xlfn.IFNA(MATCH(B:B,'Prisustvo 30_03'!$A:$A,0),0)=0,"",1) -> 1 | J17: =IF(_xlfn.IFNA(MATCH(B:B,'Prisustvo 06_04'!$A:$A,0),0)=0,"",1) -> 1 | K17: =IF(_xlfn.IFNA(MATCH(B:B,'Prisustvo 13_04'!$A:$A,0),0)=0,"",1) -> 1 | L17: =IF(_xlfn.IFNA(MATCH(B:B,'Prisustvo 27_04'!$A:$A,0),0)=0,"",1) | M17: =IF(_xlfn.IFNA(MATCH(B:B,'Prisustvo 11_05'!$A:$A,0),0)=0,"",1) -> 1 | N17: =IF(_xlfn.IFNA(MATCH(B:B,'Prisustvo 18_05'!$A:$A,0),0)=0,"",1) | O17: =SUM(E17:N17) -> 7
A18: 16 | B18: Andrej Pavlović | 2019/0233 | C18: =LEFT(B18,LEN(B18)-12) -> Andrej Pavlović | D18: =RIGHT(B18,9) -> 2019/0233 | E18: =IF(_xlfn.IFNA(MATCH(B:B,'Prisustvo 02_03_21'!$A:$A,0),0)=0,"",1) | F18: =IF(_xlfn.IFNA(MATCH(B:B,'Prisustvo 09_03'!$A:$A,0),0)=0,"",1) -> 1 | G18: =IF(_xlfn.IFNA(MATCH(B:B,Prisustvo_16_03!$A:$A,0),0)=0,"",1) -> 1 | H18: =IF(_xlfn.IFNA(MATCH(B:B,'Prisustvo 23_03'!$A:$A,0),0)=0,"",1) -> 1 | I18: =IF(_xlfn.IFNA(MATCH(B:B,'Prisustvo 30_03'!$A:$A,0),0)=0,"",1) -> 1 | J18: =IF(_xlfn.IFNA(MATCH(B:B,'Prisustvo 06_04'!$A:$A,0),0)=0,"",1) -> 1 | K18: =IF(_xlfn.IFNA(MATCH(B:B,'Prisustvo 13_04'!$A:$A,0),0)=0,"",1) -> 1 | L18: =IF(_xlfn.IFNA(MATCH(B:B,'Prisustvo 27_04'!$A:$A,0),0)=0,"",1) -> 1 | M18: =IF(_xlfn.IFNA(MATCH(B:B,'Prisustvo 11_05'!$A:$A,0),0)=0,"",1) -> 1 | N18: =IF(_xlfn.IFNA(MATCH(B:B,'Prisustvo 18_05'!$A:$A,0),0)=0,"",1) -> 1 | O18: =SUM(E18:N18) -> 9
A19: 17 | B19: Andrijana Čanić | 2019/0296 | C19: =LEFT(B19,LEN(B19)-12) -> Andrijana Čanić | D19: =RIGHT(B19,9) -> 2019/0296 | E19: 1 | F19: =IF(_xlfn.IFNA(MATCH(B:B,'Prisustvo 09_03'!$A:$A,0),0)=0,"",1) -> 1 | G19: =IF(_xlfn.IFNA(MATCH(B:B,Prisustvo_16_03!$A:$A,0),0)=0,"",1) -> 1 | H19: =IF(_xlfn.IFNA(MATCH(B:B,'Prisustvo 23_03'!$A:$A,0),0)=0,"",1) -> 1 | I19: =IF(_xlfn.IFNA(MATCH(B:B,'Prisustvo 30_03'!$A:$A,0),0)=0,"",1) -> 1 | J19: =IF(_xlfn.IFNA(MATCH(B:B,'Prisustvo 06_04'!$A:$A,0),0)=0,"",1) | K19: =IF(_xlfn.IFNA(MATCH(B:B,'Prisustvo 13_04'!$A:$A,0),0)=0,"",1) -> 1 | L19: =IF(_xlfn.IFNA(MATCH(B:B,'Prisustvo 27_04'!$A:$A,0),0)=0,"",1) | M19: =IF(_xlfn.IFNA(MATCH(B:B,'Prisustvo 11_05'!$A:$A,0),0)=0,"",1) -> 1 | N19: =IF(_xlfn.IFNA(MATCH(B:B,'Prisustvo 18_05'!$A:$A,0),0)=0,"",1) -> 1 | O19: =SUM(E19:N19) -> 8
A20: 18 | B20: Andrijana Mitić | 2018/0360 | C20: =LEFT(B20,LEN(B20)-12) -> Andrijana Mitić | D20: =RIGHT(B20,9) -> 2018/0360 | E20: =IF(_xlfn.IFNA(MATCH(B:B,'Prisustvo 02_03_21'!$A:$A,0),0)=0,"",1) | F20: =IF(_xlfn.IFNA(MATCH(B:B,'Prisustvo 09_03'!$A:$A,0),0)=0,"",1) -> 1 | G20: =IF(_xlfn.IFNA(MATCH(B:B,Prisustvo_16_03!$A:$A,0),0)=0,"",1) -> 1 | H20: =IF(_xlfn.IFNA(MATCH(B:B,'Prisustvo 23_03'!$A:$A,0),0)=0,"",1) -> 1 | I20: =IF(_xlfn.IFNA(MATCH(B:B,'Prisustvo 30_03'!$A:$A,0),0)=0,"",1) -> 1 | J20: =IF(_xlfn.IFNA(MATCH(B:B,'Prisustvo 06_04'!$A:$A,0),0)=0,"",1) -> 1 | K20: =IF(_xlfn.IFNA(MATCH(B:B,'Prisustvo 13_04'!$A:$A,0),0)=0,"",1) -> 1 | L20: =IF(_xlfn.IFNA(MATCH(B:B,'Prisustvo 27_04'!$A:$A,0),0)=0,"",1) -> 1 | M20: =IF(_xlfn.IFNA(MATCH(B:B,'Prisustvo 11_05'!$A:$A,0),0)=0,"",1) -> 1 | N20: =IF(_xlfn.IFNA(MATCH(B:B,'Prisustvo 18_05'!$A:$A,0),0)=0,"",1) -> 1 | O20: =SUM(E20:N20) -> 9
A21: 19 | B21: Andrijana Pantić | 2020/1036 | C21: =LEFT(B21,LEN(B21)-12) -> Andrijana Pantić | D21: =RIGHT(B21,9) -> 2020/1036 | E21: 1 | F21: =IF(_xlfn.IFNA(MATCH(B:B,'Prisustvo 09_03'!$A:$A,0),0)=0,"",1) -> 1 | G21: =IF(_xlfn.IFNA(MATCH(B:B,Prisustvo_16_03!$A:$A,0),0)=0,"",1) -> 1 | H21: =IF(_xlfn.IFNA(MATCH(B:B,'Prisustvo 23_03'!$A:$A,0),0)=0,"",1) -> 1 | I21: =IF(_xlfn.IFNA(MATCH(B:B,'Prisustvo 30_03'!$A:$A,0),0)=0,"",1) -> 1 | J21: =IF(_xlfn.IFNA(MATCH(B:B,'Prisustvo 06_04'!$A:$A,0),0)=0,"",1) -> 1 | K21: =IF(_xlfn.IFNA(MATCH(B:B,'Prisustvo 13_04'!$A:$A,0),0)=0,"",1) | L21: =IF(_xlfn.IFNA(MATCH(B:B,'Prisustvo 27_04'!$A:$A,0),0)=0,"",1) -> 1 | M21: =IF(_xlfn.IFNA(MATCH(B:B,'Prisustvo 11_05'!$A:$A,0),0)=0,"",1) -> 1 | N21: =IF(_xlfn.IFNA(MATCH(B:B,'Prisustvo 18_05'!$A:$A,0),0)=0,"",1) -> 1 | O21: =SUM(E21:N21) -> 9
A22: 20 | B22: Anja Čabarkapa | 2020/1091 | C22: =LEFT(B22,LEN(B22)-12) -> Anja Čabarkapa | D22: =RIGHT(B22,9) -> 2020/1091 | E22: 1 | F22: =IF(_xlfn.IFNA(MATCH(B:B,'Prisustvo 09_03'!$A:$A,0),0)=0,"",1) -> 1 | G22: =IF(_xlfn.IFNA(MATCH(B:B,Prisustvo_16_03!$A:$A,0),0)=0,"",1) -> 1 | H22: =IF(_xlfn.IFNA(MATCH(B:B,'Prisustvo 23_03'!$A:$A,0),0)=0,"",1) -> 1 | I22: =IF(_xlfn.IFNA(MATCH(B:B,'Prisustvo 30_03'!$A:$A,0),0)=0,"",1) -> 1 | J22: =IF(_xlfn.IFNA(MATCH(B:B,'Prisustvo 06_04'!$A:$A,0),0)=0,"",1) -> 1 | K22: =IF(_xlfn.IFNA(MATCH(B:B,'Prisustvo 13_04'!$A:$A,0),0)=0,"",1) -> 1 | L22: =IF(_xlfn.IFNA(MATCH(B:B,'Prisustvo 27_04'!$A:$A,0),0)=0,"",1) -> 1 | M22: =IF(_xlfn.IFNA(MATCH(B:B,'Prisustvo 11_05'!$A:$A,0),0)=0,"",1) -> 1 | N22: =IF(_xlfn.IFNA(MATCH(B:B,'Prisustvo 18_05'!$A:$A,0),0)=0,"",1) -> 1 | O22: =SUM(E22:N22) -> 10
A23: 21 | B23: Anja Đorđević | 2019/0030 | C23: =LEFT(B23,LEN(B23)-12) -> Anja Đorđević | D23: =RIGHT(B23,9) -> 2019/0030 | E23: 1 | F23: =IF(_xlfn.IFNA(MATCH(B:B,'Prisustvo 09_03'!$A:$A,0),0)=0,"",1) -> 1 | G23: =IF(_xlfn.IFNA(MATCH(B:B,Prisustvo_16_03!$A:$A,0),0)=0,"",1) -> 1 | H23: =IF(_xlfn.IFNA(MATCH(B:B,'Prisustvo 23_03'!$A:$A,0),0)=0,"",1) -> 1 | I23: =IF(_xlfn.IFNA(MATCH(B:B,'Prisustvo 30_03'!$A:$A,0),0)=0,"",1) -> 1 | J23: =IF(_xlfn.IFNA(MATCH(B:B,'Prisustvo 06_04'!$A:$A,0),0)=0,"",1) -> 1 | K23: =IF(_xlfn.IFNA(MATCH(B:B,'Prisustvo 13_04'!$A:$A,0),0)=0,"",1) -> 1 | L23: =IF(_xlfn.IFNA(MATCH(B:B,'Prisustvo 27_04'!$A:$A,0),0)=0,"",1) -> 1 | M23: =IF(_xlfn.IFNA(MATCH(B:B,'Prisustvo 11_05'!$A:$A,0),0)=0,"",1) -> 1 | N23: =IF(_xlfn.IFNA(MATCH(B:B,'Prisustvo 18_05'!$A:$A,0),0)=0,"",1) -> 1 | O23: =SUM(E23:N23) -> 10
A24: 22 | B24: Anja Drobnjak | 2018/0366 | C24: =LEFT(B24,LEN(B24)-12) -> Anja Drobnjak | D24: =RIGHT(B24,9) -> 2018/0366 | E24: 1 | F24: =IF(_xlfn.IFNA(MATCH(B:B,'Prisustvo 09_03'!$A:$A,0),0)=0,"",1) -> 1 | G24: =IF(_xlfn.IFNA(MATCH(B:B,Prisustvo_16_03!$A:$A,0),0)=0,"",1) -> 1 | H24: =IF(_xlfn.IFNA(MATCH(B:B,'Prisustvo 23_03'!$A:$A,0),0)=0,"",1) -> 1 | I24: =IF(_xlfn.IFNA(MATCH(B:B,'Prisustvo 30_03'!$A:$A,0),0)=0,"",1) | J24: =IF(_xlfn.IFNA(MATCH(B:B,'Prisustvo 06_04'!$A:$A,0),0)=0,"",1) -> 1 | K24: =IF(_xlfn.IFNA(MATCH(B:B,'Prisustvo 13_04'!$A:$A,0),0)=0,"",1) | L24: =IF(_xlfn.IFNA(MATCH(B:B,'Prisustvo 27_04'!$A:$A,0),0)=0,"",1) -> 1 | M24: =IF(_xlfn.IFNA(MATCH(B:B,'Prisustvo 11_05'!$A:$A,0),0)=0,"",1) -> 1 | N24: =IF(_xlfn.IFNA(MATCH(B:B,'Prisustvo 18_05'!$A:$A,0),0)=0,"",1) -> 1 | O24: =SUM(E24:N24) -> 8
A25: 23 | B25: Anja Mitrović | 2019/0368 | C25: =LEFT(B25,LEN(B25)-12) -> Anja Mitrović | D25: =RIGHT(B25,9) -> 2019/0368 | E25: 1 | F25: =IF(_xlfn.IFNA(MATCH(B:B,'Prisustvo 09_03'!$A:$A,0),0)=0,"",1) -> 1 | G25: =IF(_xlfn.IFNA(MATCH(B:B,Prisustvo_16_03!$A:$A,0),0)=0,"",1) -> 1 | H25: =IF(_xlfn.IFNA(MATCH(B:B,'Prisustvo 23_03'!$A:$A,0),0)=0,"",1) -> 1 | I25: =IF(_xlfn.IFNA(MATCH(B:B,'Prisustvo 30_03'!$A:$A,0),0)=0,"",1) -> 1 | J25: =IF(_xlfn.IFNA(MATCH(B:B,'Prisustvo 06_04'!$A:$A,0),0)=0,"",1) -> 1 | K25: =IF(_xlfn.IFNA(MATCH(B:B,'Prisustvo 13_04'!$A:$A,0),0)=0,"",1) -> 1 | L25: =IF(_xlfn.IFNA(MATCH(B:B,'Prisustvo 27_04'!$A:$A,0),0)=0,"",1) -> 1 | M25: =IF(_xlfn.IFNA(MATCH(B:B,'Prisustvo 11_05'!$A:$A,0),0)=0,"",1) | N25: =IF(_xlfn.IFNA(MATCH(B:B,'Prisustvo 18_05'!$A:$A,0),0)=0,"",1) -> 1 | O25: =SUM(E25:N25) -> 9
A26: 24 | B26: Anja Stojanović | 2019/0052 | C26: =LEFT(B26,LEN(B26)-12) -> Anja Stojanović | D26: =RIGHT(B26,9) -> 2019/0052 | E26: 1 | F26: =IF(_xlfn.IFNA(MATCH(B:B,'Prisustvo 09_03'!$A:$A,0),0)=0,"",1) -> 1 | G26: =IF(_xlfn.IFNA(MATCH(B:B,Prisustvo_16_03!$A:$A,0),0)=0,"",1) -> 1 | H26: =IF(_xlfn.IFNA(MATCH(B:B,'Prisustvo 23_03'!$A:$A,0),0)=0,"",1) -> 1 | I26: =IF(_xlfn.IFNA(MATCH(B:B,'Prisustvo 30_03'!$A:$A,0),0)=0,"",1) -> 1 | J26: =IF(_xlfn.IFNA(MATCH(B:B,'Prisustvo 06_04'!$A:$A,0),0)=0,"",1) -> 1 | K26: =IF(_xlfn.IFNA(MATCH(B:B,'Prisustvo 13_04'!$A:$A,0),0)=0,"",1) | L26: =IF(_xlfn.IFNA(MATCH(B:B,'Prisustvo 27_04'!$A:$A,0),0)=0,"",1) | M26: =IF(_xlfn.IFNA(MATCH(B:B,'Prisustvo 11_05'!$A:$A,0),0)=0,"",1) | N26: =IF(_xlfn.IFNA(MATCH(B:B,'Prisustvo 18_05'!$A:$A,0),0)=0,"",1) | O26: =SUM(E26:N26) -> 6
A27: 25 | B27: Anja Tomović | 2019/0295 | C27: =LEFT(B27,LEN(B27)-12) -> Anja Tomović | D27: =RIGHT(B27,9) -> 2019/0295 | E27: 1 | F27: =IF(_xlfn.IFNA(MATCH(B:B,'Prisustvo 09_03'!$A:$A,0),0)=0,"",1) -> 1 | G27: =IF(_xlfn.IFNA(MATCH(B:B,Prisustvo_16_03!$A:$A,0),0)=0,"",1) -> 1 | H27: =IF(_xlfn.IFNA(MATCH(B:B,'Prisustvo 23_03'!$A:$A,0),0)=0,"",1) -> 1 | I27: =IF(_xlfn.IFNA(MATCH(B:B,'Prisustvo 30_03'!$A:$A,0),0)=0,"",1) | J27: =IF(_xlfn.IFNA(MATCH(B:B,'Prisustvo 06_04'!$A:$A,0),0)=0,"",1) -> 1 | K27: =IF(_xlfn.IFNA(MATCH(B:B,'Prisustvo 13_04'!$A:$A,0),0)=0,"",1) | L27: =IF(_xlfn.IFNA(MATCH(B:B,'Prisustvo 27_04'!$A:$A,0),0)=0,"",1) | M27: =IF(_xlfn.IFNA(MATCH(B:B,'Prisustvo 11_05'!$A:$A,0),0)=0,"",1) | N27: =IF(_xlfn.IFNA(MATCH(B:B,'Prisustvo 18_05'!$A:$A,0),0)=0,"",1) | O27: =SUM(E27:N27) -> 5
A28: 26 | B28: Danijela Krstić | 2019/0455 | C28: =LEFT(B28,LEN(B28)-12) -> Danijela Krstić | D28: =RIGHT(B28,9) -> 2019/0455 | E28: =IF(_xlfn.IFNA(MATCH(B:B,'Prisustvo 02_03_21'!$A:$A,0),0)=0,"",1) | F28: =IF(_xlfn.IFNA(MATCH(B:B,'Prisustvo 09_03'!$A:$A,0),0)=0,"",1) -> 1 | G28: =IF(_xlfn.IFNA(MATCH(B:B,Prisustvo_16_03!$A:$A,0),0)=0,"",1) | H28: =IF(_xlfn.IFNA(MATCH(B:B,'Prisustvo 23_03'!$A:$A,0),0)=0,"",1) | I28: =IF(_xlfn.IFNA(MATCH(B:B,'Prisustvo 30_03'!$A:$A,0),0)=0,"",1) | J28: =IF(_xlfn.IFNA(MATCH(B:B,'Prisustvo 06_04'!$A:$A,0),0)=0,"",1) | K28: =IF(_xlfn.IFNA(MATCH(B:B,'Prisustvo 13_04'!$A:$A,0),0)=0,"",1) | L28: =IF(_xlfn.IFNA(MATCH(B:B,'Prisustvo 27_04'!$A:$A,0),0)=0,"",1) | M28: =IF(_xlfn.IFNA(MATCH(B:B,'Prisustvo 11_05'!$A:$A,0),0)=0,"",1) | N28: =IF(_xlfn.IFNA(MATCH(B:B,'Prisustvo 18_05'!$A:$A,0),0)=0,"",1) | O28: =SUM(E28:N28) -> 1
A29: 27 | B29: Danilo Rakić | 2019/0425 | C29: =LEFT(B29,LEN(B29)-12) -> Danilo Rakić | D29: =RIGHT(B29,9) -> 2019/0425 | E29: =IF(_xlfn.IFNA(MATCH(B:B,'Prisustvo 02_03_21'!$A:$A,0),0)=0,"",1) | F29: =IF(_xlfn.IFNA(MATCH(B:B,'Prisustvo 09_03'!$A:$A,0),0)=0,"",1) | G29: =IF(_xlfn.IFNA(MATCH(B:B,Prisustvo_16_03!$A:$A,0),0)=0,"",1) -> 1 | H29: =IF(_xlfn.IFNA(MATCH(B:B,'Prisustvo 23_03'!$A:$A,0),0)=0,"",1) -> 1 | I29: =IF(_xlfn.IFNA(MATCH(B:B,'Prisustvo 30_03'!$A:$A,0),0)=0,"",1) -> 1 | J29: =IF(_xlfn.IFNA(MATCH(B:B,'Prisustvo 06_04'!$A:$A,0),0)=0,"",1) | K29: =IF(_xlfn.IFNA(MATCH(B:B,'Prisustvo 13_04'!$A:$A,0),0)=0,"",1) -> 1 | L29: =IF(_xlfn.IFNA(MATCH(B:B,'Prisustvo 27_04'!$A:$A,0),0)=0,"",1) -> 1 | M29: =IF(_xlfn.IFNA(MATCH(B:B,'Prisustvo 11_05'!$A:$A,0),0)=0,"",1) -> 1 | N29: =IF(_xlfn.IFNA(MATCH(B:B,'Prisustvo 18_05'!$A:$A,0),0)=0,"",1) | O29: =SUM(E29:N29) -> 6
A30: 28 | B30: Dragana Momirski | 2019/0379 | C30: =LEFT(B30,LEN(B30)-12) -> Dragana Momirski | D30: =RIGHT(B30,9) -> 2019/0379 | E30: 1 | F30: =IF(_xlfn.IFNA(MATCH(B:B,'Prisustvo 09_03'!$A:$A,0),0)=0,"",1) -> 1 | G30: =IF(_xlfn.IFNA(MATCH(B:B,Prisustvo_16_03!$A:$A,0),0)=0,"",1) -> 1 | H30: =IF(_xlfn.IFNA(MATCH(B:B,'Prisustvo 23_03'!$A:$A,0),0)=0,"",1) -> 1 | I30: =IF(_xlfn.IFNA(MATCH(B:B,'Prisustvo 30_03'!$A:$A,0),0)=0,"",1) -> 1 | J30: =IF(_xlfn.IFNA(MATCH(B:B,'Prisustvo 06_04'!$A:$A,0),0)=0,"",1) -> 1 | K30: =IF(_xlfn.IFNA(MATCH(B:B,'Prisustvo 13_04'!$A:$A,0),0)=0,"",1) -> 1 | L30: =IF(_xlfn.IFNA(MATCH(B:B,'Prisustvo 27_04'!$A:$A,0),0)=0,"",1) -> 1 | M30: =IF(_xlfn.IFNA(MATCH(B:B,'Prisustvo 11_05'!$A:$A,0),0)=0,"",1) -> 1 | N30: =IF(_xlfn.IFNA(MATCH(B:B,'Prisustvo 18_05'!$A:$A,0),0)=0,"",1) -> 1 | O30: =SUM(E30:N30) -> 10
A31: 29 | B31: Đurđica Krsmanović | 2016/0252 | C31: =LEFT(B31,LEN(B31)-12) -> Đurđica Krsmanović | D31: =RIGHT(B31,9) -> 2016/0252 | E31: =IF(_xlfn.IFNA(MATCH(B:B,'Prisustvo 02_03_21'!$A:$A,0),0)=0,"",1) | F31: =IF(_xlfn.IFNA(MATCH(B:B,'Prisustvo 09_03'!$A:$A,0),0)=0,"",1) | G31: =IF(_xlfn.IFNA(MATCH(B:B,Prisustvo_16_03!$A:$A,0),0)=0,"",1) | H31: =IF(_xlfn.IFNA(MATCH(B:B,'Prisustvo 23_03'!$A:$A,0),0)=0,"",1) -> 1 | I31: =IF(_xlfn.IFNA(MATCH(B:B,'Prisustvo 30_03'!$A:$A,0),0)=0,"",1) | J31: =IF(_xlfn.IFNA(MATCH(B:B,'Prisustvo 06_04'!$A:$A,0),0)=0,"",1) | K31: =IF(_xlfn.IFNA(MATCH(B:B,'Prisustvo 13_04'!$A:$A,0),0)=0,"",1) | L31: =IF(_xlfn.IFNA(MATCH(B:B,'Prisustvo 27_04'!$A:$A,0),0)=0,"",1) | M31: =IF(_xlfn.IFNA(MATCH(B:B,'Prisustvo 11_05'!$A:$A,0),0)=0,"",1) | N31: =IF(_xlfn.IFNA(MATCH(B:B,'Prisustvo 18_05'!$A:$A,0),0)=0,"",1) | O31: =SUM(E31:N31) -> 1
A32: 30 | B32: Dušan Stoimenović | 2019/0102 | C32: =LEFT(B32,LEN(B32)-12) -> Dušan Stoimenović | D32: =RIGHT(B32,9) -> 2019/0102 | E32: =IF(_xlfn.IFNA(MATCH(B:B,'Prisustvo 02_03_21'!$A:$A,0),0)=0,"",1) | F32: =IF(_xlfn.IFNA(MATCH(B:B,'Prisustvo 09_03'!$A:$A,0),0)=0,"",1) -> 1 | G32: =IF(_xlfn.IFNA(MATCH(B:B,Prisustvo_16_03!$A:$A,0),0)=0,"",1) -> 1 | H32: =IF(_xlfn.IFNA(MATCH(B:B,'Prisustvo 23_03'!$A:$A,0),0)=0,"",1) -> 1 | I32: =IF(_xlfn.IFNA(MATCH(B:B,'Prisustvo 30_03'!$A:$A,0),0)=0,"",1) -> 1 | J32: =IF(_xlfn.IFNA(MATCH(B:B,'Prisustvo 06_04'!$A:$A,0),0)=0,"",1) -> 1 | K32: =IF(_xlfn.IFNA(MATCH(B:B,'Prisustvo 13_04'!$A:$A,0),0)=0,"",1) -> 1 | L32: =IF(_xlfn.IFNA(MATCH(B:B,'Prisustvo 27_04'!$A:$A,0),0)=0,"",1) | M32: =IF(_xlfn.IFNA(MATCH(B:B,'Prisustvo 11_05'!$A:$A,0),0)=0,"",1) | N32: =IF(_xlfn.IFNA(MATCH(B:B,'Prisustvo 18_05'!$A:$A,0),0)=0,"",1) | O32: =SUM(E32:N32) -> 6
A33: 31 | B33: Filip Petković | 2013/0182 | C33: =LEFT(B33,LEN(B33)-12) -> Filip Petković | D33: =RIGHT(B33,9) -> 2013/0182 | E33: =IF(_xlfn.IFNA(MATCH(B:B,'Prisustvo 02_03_21'!$A:$A,0),0)=0,"",1) | F33: =IF(_xlfn.IFNA(MATCH(B:B,'Prisustvo 09_03'!$A:$A,0),0)=0,"",1) -> 1 | G33: =IF(_xlfn.IFNA(MATCH(B:B,Prisustvo_16_03!$A:$A,0),0)=0,"",1) | H33: =IF(_xlfn.IFNA(MATCH(B:B,'Prisustvo 23_03'!$A:$A,0),0)=0,"",1) | I33: =IF(_xlfn.IFNA(MATCH(B:B,'Prisustvo 30_03'!$A:$A,0),0)=0,"",1) | J33: =IF(_xlfn.IFNA(MATCH(B:B,'Prisustvo 06_04'!$A:$A,0),0)=0,"",1) | K33: =IF(_xlfn.IFNA(MATCH(B:B,'Prisustvo 13_04'!$A:$A,0),0)=0,"",1) | L33: =IF(_xlfn.IFNA(MATCH(B:B,'Prisustvo 27_04'!$A:$A,0),0)=0,"",1) | M33: =IF(_xlfn.IFNA(MATCH(B:B,'Prisustvo 11_05'!$A:$A,0),0)=0,"",1) | N33: =IF(_xlfn.IFNA(MATCH(B:B,'Prisustvo 18_05'!$A:$A,0),0)=0,"",1) | O33: =SUM(E33:N33) -> 1
A34: 32 | B34: Gorana Milošević | 2019/0481 | C34: =LEFT(B34,LEN(B34)-12) -> Gorana Milošević | D34: =RIGHT(B34,9) -> 2019/0481 | E34: =IF(_xlfn.IFNA(MATCH(B:B,'Prisustvo 02_03_21'!$A:$A,0),0)=0,"",1) | F34: =IF(_xlfn.IFNA(MATCH(B:B,'Prisustvo 09_03'!$A:$A,0),0)=0,"",1) -> 1 | G34: =IF(_xlfn.IFNA(MATCH(B:B,Prisustvo_16_03!$A:$A,0),0)=0,"",1) -> 1 | H34: =IF(_xlfn.IFNA(MATCH(B:B,'Prisustvo 23_03'!$A:$A,0),0)=0,"",1) -> 1 | I34: =IF(_xlfn.IFNA(MATCH(B:B,'Prisustvo 30_03'!$A:$A,0),0)=0,"",1) | J34: =IF(_xlfn.IFNA(MATCH(B:B,'Prisustvo 06_04'!$A:$A,0),0)=0,"",1) -> 1 | K34: =IF(_xlfn.IFNA(MATCH(B:B,'Prisustvo 13_04'!$A:$A,0),0)=0,"",1) -> 1 | L34: =IF(_xlfn.IFNA(MATCH(B:B,'Prisustvo 27_04'!$A:$A,0),0)=0,"",1) | M34: =IF(_xlfn.IFNA(MATCH(B:B,'Prisustvo 11_05'!$A:$A,0),0)=0,"",1) | N34: =IF(_xlfn.IFNA(MATCH(B:B,'Prisustvo 18_05'!$A:$A,0),0)=0,"",1) | O34: =SUM(E34:N34) -> 5
A35: 33 | B35: Igor Trivić | 2019/0099 | C35: =LEFT(B35,LEN(B35)-12) -> Igor Trivić | D35: =RIGHT(B35,9) -> 2019/0099 | E35: 1 | F35: =IF(_xlfn.IFNA(MATCH(B:B,'Prisustvo 09_03'!$A:$A,0),0)=0,"",1) -> 1 | G35: =IF(_xlfn.IFNA(MATCH(B:B,Prisustvo_16_03!$A:$A,0),0)=0,"",1) -> 1 | H35: =IF(_xlfn.IFNA(MATCH(B:B,'Prisustvo 23_03'!$A:$A,0),0)=0,"",1) -> 1 | I35: =IF(_xlfn.IFNA(MATCH(B:B,'Prisustvo 30_03'!$A:$A,0),0)=0,"",1) -> 1 | J35: =IF(_xlfn.IFNA(MATCH(B:B,'Prisustvo 06_04'!$A:$A,0),0)=0,"",1) | K35: =IF(_xlfn.IFNA(MATCH(B:B,'Prisustvo 13_04'!$A:$A,0),0)=0,"",1) | L35: =IF(_xlfn.IFNA(MATCH(B:B,'Prisustvo 27_04'!$A:$A,0),0)=0,"",1) | M35: =IF(_xlfn.IFNA(MATCH(B:B,'Prisustvo 11_05'!$A:$A,0),0)=0,"",1) | N35: =IF(_xlfn.IFNA(MATCH(B:B,'Prisustvo 18_05'!$A:$A,0),0)=0,"",1) | O35: =SUM(E35:N35) -> 5
A36: 34 | B36: Ilija Dumanović | 2019/0105 | C36: =LEFT(B36,LEN(B36)-12) -> Ilija Dumanović | D36: =RIGHT(B36,9) -> 2019/0105 | E36: 1 | F36: =IF(_xlfn.IFNA(MATCH(B:B,'Prisustvo 09_03'!$A:$A,0),0)=0,"",1) -> 1 | G36: =IF(_xlfn.IFNA(MATCH(B:B,Prisustvo_16_03!$A:$A,0),0)=0,"",1) -> 1 | H36: =IF(_xlfn.IFNA(MATCH(B:B,'Prisustvo 23_03'!$A:$A,0),0)=0,"",1) -> 1 | I36: =IF(_xlfn.IFNA(MATCH(B:B,'Prisustvo 30_03'!$A:$A,0),0)=0,"",1) -> 1 | J36: =IF(_xlfn.IFNA(MATCH(B:B,'Prisustvo 06_04'!$A:$A,0),0)=0,"",1) -> 1 | K36: =IF(_xlfn.IFNA(MATCH(B:B,'Prisustvo 13_04'!$A:$A,0),0)=0,"",1) -> 1 | L36: =IF(_xlfn.IFNA(MATCH(B:B,'Prisustvo 27_04'!$A:$A,0),0)=0,"",1) -> 1 | M36: =IF(_xlfn.IFNA(MATCH(B:B,'Prisustvo 11_05'!$A:$A,0),0)=0,"",1) -> 1 | N36: =IF(_xlfn.IFNA(MATCH(B:B,'Prisustvo 18_05'!$A:$A,0),0)=0,"",1) -> 1 | O36: =SUM(E36:N36) -> 10
A37: 35 | B37: Ilija Milić | 2018/0251 | C37: =LEFT(B37,LEN(B37)-12) -> Ilija Milić | D37: =RIGHT(B37,9) -> 2018/0251 | E37: 1 | F37: =IF(_xlfn.IFNA(MATCH(B:B,'Prisustvo 09_03'!$A:$A,0),0)=0,"",1) -> 1 | G37: =IF(_xlfn.IFNA(MATCH(B:B,Prisustvo_16_03!$A:$A,0),0)=0,"",1) -> 1 | H37: =IF(_xlfn.IFNA(MATCH(B:B,'Prisustvo 23_03'!$A:$A,0),0)=0,"",1) -> 1 | I37: =IF(_xlfn.IFNA(MATCH(B:B,'Prisustvo 30_03'!$A:$A,0),0)=0,"",1) -> 1 | J37: =IF(_xlfn.IFNA(MATCH(B:B,'Prisustvo 06_04'!$A:$A,0),0)=0,"",1) | K37: =IF(_xlfn.IFNA(MATCH(B:B,'Prisustvo 13_04'!$A:$A,0),0)=0,"",1) | L37: =IF(_xlfn.IFNA(MATCH(B:B,'Prisustvo 27_04'!$A:$A,0),0)=0,"",1) | M37: =IF(_xlfn.IFNA(MATCH(B:B,'Prisustvo 11_05'!$A:$A,0),0)=0,"",1) | N37: =IF(_xlfn.IFNA(MATCH(B:B,'Prisustvo 18_05'!$A:$A,0),0)=0,"",1) | O37: =SUM(E37:N37) -> 5
A38: 36 | B38: Irena Živković | 2019/0082 | C38: =LEFT(B38,LEN(B38)-12) -> Irena Živković | D38: =RIGHT(B38,9) -> 2019/0082 | E38: 1 | F38: =IF(_xlfn.IFNA(MATCH(B:B,'Prisustvo 09_03'!$A:$A,0),0)=0,"",1) -> 1 | G38: =IF(_xlfn.IFNA(MATCH(B:B,Prisustvo_16_03!$A:$A,0),0)=0,"",1) -> 1 | H38: =IF(_xlfn.IFNA(MATCH(B:B,'Prisustvo 23_03'!$A:$A,0),0)=0,"",1) -> 1 | I38: =IF(_xlfn.IFNA(MATCH(B:B,'Prisustvo 30_03'!$A:$A,0),0)=0,"",1) -> 1 | J38: =IF(_xlfn.IFNA(MATCH(B:B,'Prisustvo 06_04'!$A:$A,0),0)=0,"",1) -> 1 | K38: =IF(_xlfn.IFNA(MATCH(B:B,'Prisustvo 13_04'!$A:$A,0),0)=0,"",1) | L38: =IF(_xlfn.IFNA(MATCH(B:B,'Prisustvo 27_04'!$A:$A,0),0)=0,"",1) -> 1 | M38: =IF(_xlfn.IFNA(MATCH(B:B,'Prisustvo 11_05'!$A:$A,0),0)=0,"",1) | N38: =IF(_xlfn.IFNA(MATCH(B:B,'Prisustvo 18_05'!$A:$A,0),0)=0,"",1) -> 1 | O38: =SUM(E38:N38) -> 8
A39: 37 | B39: Isidora Bašić | 2019/0260 | C39: =LEFT(B39,LEN(B39)-12) -> Isidora Bašić | D39: =RIGHT(B39,9) -> 2019/0260 | E39: 1 | F39: =IF(_xlfn.IFNA(MATCH(B:B,'Prisustvo 09_03'!$A:$A,0),0)=0,"",1) -> 1 | G39: =IF(_xlfn.IFNA(MATCH(B:B,Prisustvo_16_03!$A:$A,0),0)=0,"",1) -> 1 | H39: =IF(_xlfn.IFNA(MATCH(B:B,'Prisustvo 23_03'!$A:$A,0),0)=0,"",1) -> 1 | I39: =IF(_xlfn.IFNA(MATCH(B:B,'Prisustvo 30_03'!$A:$A,0),0)=0,"",1) -> 1 | J39: =IF(_xlfn.IFNA(MATCH(B:B,'Prisustvo 06_04'!$A:$A,0),0)=0,"",1) -> 1 | K39: =IF(_xlfn.IFNA(MATCH(B:B,'Prisustvo 13_04'!$A:$A,0),0)=0,"",1) -> 1 | L39: =IF(_xlfn.IFNA(MATCH(B:B,'Prisustvo 27_04'!$A:$A,0),0)=0,"",1) -> 1 | M39: =IF(_xlfn.IFNA(MATCH(B:B,'Prisustvo 11_05'!$A:$A,0),0)=0,"",1) | N39: =IF(_xlfn.IFNA(MATCH(B:B,'Prisustvo 18_05'!$A:$A,0),0)=0,"",1) -> 1 | O39: =SUM(E39:N39) -> 9
A40: 38 | B40: Isidora Bojanić | 2019/0230 | C40: =LEFT(B40,LEN(B40)-12) -> Isidora Bojanić | D40: =RIGHT(B40,9) -> 2019/0230 | E40: 1 | F40: =IF(_xlfn.IFNA(MATCH(B:B,'Prisustvo 09_03'!$A:$A,0),0)=0,"",1) -> 1 | G40: =IF(_xlfn.IFNA(MATCH(B:B,Prisustvo_16_03!$A:$A,0),0)=0,"",1) -> 1 | H40: =IF(_xlfn.IFNA(MATCH(B:B,'Prisustvo 23_03'!$A:$A,0),0)=0,"",1) -> 1 | I40: =IF(_xlfn.IFNA(MATCH(B:B,'Prisustvo 30_03'!$A:$A,0),0)=0,"",1) -> 1 | J40: =IF(_xlfn.IFNA(MATCH(B:B,'Prisustvo 06_04'!$A:$A,0),0)=0,"",1) -> 1 | K40: =IF(_xlfn.IFNA(MATCH(B:B,'Prisustvo 13_04'!$A:$A,0),0)=0,"",1) -> 1 | L40: =IF(_xlfn.IFNA(MATCH(B:B,'Prisustvo 27_04'!$A:$A,0),0)=0,"",1) -> 1 | M40: =IF(_xlfn.IFNA(MATCH(B:B,'Prisustvo 11_05'!$A:$A,0),0)=0,"",1) -> 1 | N40: =IF(_xlfn.IFNA(MATCH(B:B,'Prisustvo 18_05'!$A:$A,0),0)=0,"",1) -> 1 | O40: =SUM(E40:N40) -> 10
...

Sheet Prisustvo 18_05
A1: Full Name | B1: User Action | C1: Timestamp
A2: Rade P. Lazović | B2: Joined | C2: 5/18/2021, 2:08:49 PM
A3: Isidora Bojanić | 2019/0230 | B3: Joined | C3: 5/18/2021, 2:10:43 PM
A4: Andrijana Pantić | 2020/1036 | B4: Joined | C4: 5/18/2021, 2:11:34 PM
A5: Marko Ružić | 2019/1021 | B5: Joined | C5: 5/18/2021, 2:12:51 PM
A6: Luka Mijović | 2019/0280 | B6: Joined | C6: 5/18/2021, 2:12:58 PM
A7: Miljana Bogić | 2019/0273 | B7: Joined | C7: 5/18/2021, 2:13:29 PM
A8: Anja Drobnjak | 2018/0366 | B8: Joined | C8: 5/18/2021, 2:13:36 PM
A9: Anja Đorđević | 2019/0030 | B9: Joined | C9: 5/18/2021, 2:14:26 PM
A10: Isidora Vulić | 2019/0143 | B10: Joined | C10: 5/18/2021, 2:14:28 PM
A11: Dragana Momirski | 2019/0379 | B11: Joined | C11: 5/18/2021, 2:14:42 PM
A12: Vojislav Stevanović | 2018/0412 | B12: Joined | C12: 5/18/2021, 2:14:45 PM
... A52: Andrijana Čanić | 2019/0296 | B52: Joined | C52: 5/18/2021, 3:03:43 PM

Sheet Prisustvo 11_05
A1: Full Name | B1: User Action | C1: Timestamp
A2: Rade P. Lazović | B2: Joined | C2: 5/11/2021, 2:11:07 PM
A3: Siniša Stoparić | 2018/0312 | B3: Joined | C3: 5/11/2021, 2:12:04 PM
A4: Marko Ružić | 2019/1021 | B4: Joined | C4: 5/11/2021, 2:12:34 PM
A5: Marija Vrljanac | 2018/0047 | B5: Joined | C5: 5/11/2021, 2:12:47 PM
A6: Vasilija Rnić | 2019/0447 | B6: Joined | C6: 5/11/2021, 2:12:54 PM
A7: Andrijana Pantić | 2020/1036 | B7: Joined | C7: 5/11/2021, 2:13:01 PM
A8: Ana Stojić | 2020/1042 | B8: Joined | C8: 5/11/2021, 2:13:21 PM
A9: Nemanja Dragićević | 2019/0065 | B9: Joined | C9: 5/11/2021, 2:13:28 PM
A10: Veljko Uskoković | 2019/0080 | B10: Joined | C10: 5/11/2021, 2:13:29 PM
A11: Dragana Momirski | 2019/0379 | B11: Joined | C11: 5/11/2021, 2:13:34 PM
A12: Tina Jeremić | 2019/0319 | B12: Joined | C12: 5/11/2021, 2:13:37 PM
... A60: Aleksa Mirković | 2020/1011 | B60: Joined | C60: 5/11/2021, 3:46:27 PM

Sheet Prisustvo 27_04
A1: Full Name | B1: User Action | C1: Timestamp
A2: Rade P. Lazović | B2: Joined | C2: 4/27/2021, 2:08:08 PM
A3: Anastasija Golijanin | 2019/0301 | B3: Joined | C3: 4/27/2021, 2:08:48 PM
A4: Nikola Raičević | 2020/1045 | B4: Joined | C4: 4/27/2021, 2:08:52 PM
A5: Anja Mitrović | 2019/0368 | B5: Joined | C5: 4/27/2021, 2:09:07 PM
A6: Kristijan Crnoglavac | 2019/0387 | B6: Joined | C6: 4/27/2021, 2:09:47 PM
A7: Marko Ružić | 2019/1021 | B7: Joined | C7: 4/27/2021, 2:10:24 PM
A8: Ivan Rešetar | 2017/0453 | B8: Joined | C8: 4/27/2021, 2:10:30 PM
A9: Anja Đorđević | 2019/0030 | B9: Joined | C9: 4/27/2021, 2:11:03 PM
A10: Neda Cvetković | 2019/0078 | B10: Joined | C10: 4/27/2021, 2:11:03 PM
A11: Danilo Rakić | 2019/0425 | B11: Joined | C11: 4/27/2021, 2:11:31 PM
A12: Aleksa Radojičić | 2019/0165 | B12: Joined | C12: 4/27/2021, 2:12:23 PM
... A68: Jelena Delić | 2019/0391 | B68: Joined | C68: 4/27/2021, 2:52:02 PM

Sheet Prisustvo 13_04
A1: Full Name | B1: User Action | C1: Timestamp
A2: Rade P. Lazović | B2: Joined | C2: 4/13/2021, 2:10:46 PM
A3: Isidora Bojanić | 2019/0230 | B3: Joined | C3: 4/13/2021, 2:11:02 PM
A4: Nikola Raičević | 2020/1045 | B4: Joined | C4: 4/13/2021, 2:11:08 PM
A5: Anja Mitrović | 2019/0368 | B5: Joined | C5: 4/13/2021, 2:11:10 PM
A6: Nemanja Dragićević | 2019/0065 | B6: Joined | C6: 4/13/2021, 2:11:18 PM
A7: Ivan Rešetar | 2017/0453 | B7: Joined | C7: 4/13/2021, 2:11:24 PM
A8: Ana Bulatović | 2018/0424 | B8: Joined | C8: 4/13/2021, 2:11:29 PM
A9: Marko Ružić | 2019/1021 | B9: Joined | C9: 4/13/2021, 2:11:36 PM
A10: Neda Cvetković | 2019/0078 | B10: Joined | C10: 4/13/2021, 2:11:37 PM
A11: Dragana Momirski | 2019/0379 | B11: Joined | C11: 4/13/2021, 2:11:52 PM
A12: Tijana Rajić | 2017/0127 | B12: Joined | C12: 4/13/2021, 2:12:03 PM
... A78: Vasilija Rnić | 2019/0447 | B78: Joined | C78: 4/13/2021, 2:50:44 PM

Sheet Prisustvo 06_04
A1: Full Name | B1: User Action | C1: Timestamp
A2: Rade P. Lazović | B2: Joined | C2: 4/6/2021, 2:10:09 PM
A3: Luka Mijović | 2019/0280 | B3: Joined | C3: 4/6/2021, 2:10:31 PM
A4: Anja Đorđević | 2019/0030 | B4: Joined | C4: 4/6/2021, 2:10:40 PM
A5: Milan Mirković | 2019/0009 | B5: Joined | C5: 4/6/2021, 2:10:41 PM
A6: Aleksa Radojičić | 2019/0165 | B6: Joined | C6: 4/6/2021, 2:10:43 PM
A7: Milena Živković | 2019/0208 | B7: Joined | C7: 4/6/2021, 2:11:13 PM
A8: Nataša Jovičić | 2018/0477 | B8: Joined | C8: 4/6/2021, 2:11:31 PM
A9: Anđela Petrović | 2020/1040 | B9: Joined | C9: 4/6/2021, 2:11:33 PM
A10: Katarina Vujičić | 2019/1022 | B10: Joined | C10: 4/6/2021, 2:11:40 PM
A11: Kristijan Crnoglavac | 2019/0387 | B11: Joined | C11: 4/6/2021, 2:11:55 PM
A12: Tijana Marinković | 2018/0375 | B12: Joined | C12: 4/6/2021, 2:12:13 PM
... A85: Gorana Milošević | 2019/0481 | B85: Joined | C85: 4/6/2021, 2:57:16 PM

Sheet Prisustvo 30_03
A1: Full Name | B1: User Action | C1: Timestamp
A2: Rade P. Lazović | B2: Joined | C2: 3/30/2021, 2:10:15 PM
A3: Tina Jeremić | 2019/0319 | B3: Joined | C3: 3/30/2021, 2:10:37 PM
A4: Aleksandra Tanović | 2019/0187 | B4: Joined | C4: 3/30/2021, 2:10:39 PM
A5: Ivan Đorđević | 2018/0421 | B5: Joined | C5: 3/30/2021, 2:10:49 PM
A6: Isidora Bojanić | 2019/0230 | B6: Joined | C6: 3/30/2021, 2:10:49 PM
A7: Marija Bakić | 2017/0476 | B7: Joined | C7: 3/30/2021, 2:10:55 PM
A8: Nataša Jovičić | 2018/0477 | B8: Joined | C8: 3/30/2021, 2:11:01 PM
A9: Jovana Pavlović | 2018/0295 | B9: Joined | C9: 3/30/2021, 2:11:05 PM
A10: Katarina Ninković | 2019/0442 | B10: Joined | C10: 3/30/2021, 2:11:07 PM
A11: Marija Vrljanac | 2018/0047 | B11: Joined | C11: 3/30/2021, 2:11:12 PM
A12: Sara Španović | 2019/0196 | B12: Joined | C12: 3/30/2021, 2:11:13 PM
... A95: Mina Jakovljević | 2019/0500 | B95: Joined | C95: 3/30/2021, 3:34:50 PM

Sheet Prisustvo 23_03
A1: Full Name | B1: User Action | C1: Timestamp
A2: Rade P. Lazović | B2: Joined | C2: 3/23/2021, 2:10:19 PM
A3: Milan Mirković | 2019/0009 | B3: Joined | C3: 3/23/2021, 2:10:38 PM
A4: Nemanja Dragićević | 2019/0065 | B4: Joined | C4: 3/23/2021, 2:10:41 PM
A5: Marija Vrljanac | 2018/0047 | B5: Joined | C5: 3/23/2021, 2:10:45 PM
A6: Andrijana Mitić | 2018/0360 | B6: Joined | C6: 3/23/2021, 2:10:57 PM
A7: Anđela Petrović | 2020/1040 | B7: Joined | C7: 3/23/2021, 2:10:57 PM
A8: Aleksandra Tanović | 2019/0187 | B8: Joined | C8: 3/23/2021, 2:10:59 PM
A9: Neda Cvetković | 2019/0078 | B9: Joined | C9: 3/23/2021, 2:11:00 PM
A10: Nemanja Filipović | 2019/0388 | B10: Joined | C10: 3/23/2021, 2:11:04 PM
A11: Kristijan Crnoglavac | 2019/0387 | B11: Joined | C11: 3/23/2021, 2:11:12 PM
A12: Katarina Ninković | 2019/0442 | B12: Joined | C12: 3/23/2021, 2:11:17 PM
... A104: Irena Živković | 2019/0082 | B104: Joined | C104: 3/23/2021, 2:53:15 PM

Sheet Prisustvo_16_03
A1: Full Name | B1: User Action | C1: Timestamp
A2: Rade P. Lazović | B2: Joined | C2: 3/16/2021, 2:11:16 PM
A3: Mina Jakovljević | 2019/0500 | B3: Joined | C3: 3/16/2021, 2:11:37 PM
A4: Kosta Aćimović | 2019/0362 | B4: Joined | C4: 3/16/2021, 2:11:38 PM
A5: Luna Kureš | 2018/0417 | B5: Joined | C5: 3/16/2021, 2:11:45 PM
A6: Anja Stojanović | 2019/0052 | B6: Joined | C6: 3/16/2021, 2:11:46 PM
A7: Lazar Đorđević | 2018/0059 | B7: Joined | C7: 3/16/2021, 2:11:49 PM
A8: Isidora Bojanić | 2019/0230 | B8: Joined | C8: 3/16/2021, 2:11:53 PM
A9: Anja Mitrović | 2019/0368 | B9: Joined | C9: 3/16/2021, 2:11:54 PM
A10: Katarina Nešovanović | 2018/0482 | B10: Joined | C10: 3/16/2021, 2:12:07 PM
A11: Sanja Marković | 2018/0324 | B11: Joined | C11: 3/16/2021, 2:12:11 PM
A12: Marijana Rakić | 2019/0463 | B12: Joined | C12: 3/16/2021, 2:12:11 PM
... A105: Ivana Milidragović | 2019/0434 | B105: Joined | C105: 3/16/2021, 3:43:14 PM

Sheet Prisustvo 09_03
A1: Full Name | B1: User Action | C1: Timestamp
A2: Rade P. Lazović | B2: Joined | C2: 3/9/2021, 2:10:55 PM
A3: Veljko Uskoković | 2019/0080 | B3: Joined | C3: 3/9/2021, 2:11:12 PM
A4: Dušan Stoimenović | 2019/0102 | B4: Joined | C4: 3/9/2021, 2:11:17 PM
A5: Andrijana Pantić | 2020/1036 | B5: Joined | C5: 3/9/2021, 2:11:17 PM
A6: Milena Živković | 2019/0208 | B6: Joined | C6: 3/9/2021, 2:11:18 PM
A7: Anđela Stojanović | 2019/0345 | B7: Joined | C7: 3/9/2021, 2:11:20 PM
A8: Tijana Rajić | 2017/0127 | B8: Joined | C8: 3/9/2021, 2:11:22 PM
A9: Iva Mijailović | 2018/0490 | B9: Joined | C9: 3/9/2021, 2:11:22 PM
A10: Marija Bakić | 2017/0476 | B10: Joined | C10: 3/9/2021, 2:11:25 PM
A11: Katarina Vujičić | 2019/1022 | B11: Joined | C11: 3/9/2021, 2:11:27 PM
A12: Tijana Ćika | 2018/0439 | B12: Joined | C12: 3/9/2021, 2:11:27 PM
... A109: Vanja Vučković | 2019/0332 | B109: Joined | C109: 3/9/2021, 2:36:58 PM

Sheet Prisustvo 02_03_21
A1: Full Name | B1: User Action | C1: Timestamp
A2: Rade P. Lazović | B2: Joined | C2: 3/2/2021, 2:10:56 PM
A3: Kosta Aćimović | 2019/0362 | B3: Joined | C3: 3/2/2021, 2:11:14 PM
A4: Sara Drašković | 2019/0438 | B4: Joined | C4: 3/2/2021, 2:11:16 PM
A5: Pavle Kostić | 2019/0111 | B5: Joined | C5: 3/2/2021, 2:11:17 PM
A6: Sanja Marković | 2018/0324 | B6: Joined | C6: 3/2/2021, 2:11:17 PM
A7: Ivan Rešetar | 2017/0453 | B7: Joined | C7: 3/2/2021, 2:11:29 PM
A8: Andrijana Čanić | 2019/0296 | B8: Joined | C8: 3/2/2021, 2:11:30 PM
A9: Anja Drobnjak | 2018/0366 | B9: Joined | C9: 3/2/2021, 2:11:33 PM
A10: Isidora Vulić | 2019/0143 | B10: Joined | C10: 3/2/2021, 2:11:37 PM
A11: Luka Mijović | 2019/0280 | B11: Joined | C11: 3/2/2021, 2:11:38 PM
A12: Anđela Petrović | 2020/1040 | B12: Joined | C12: 3/2/2021, 2:11:40 PM
... A77: Aleksandra Mitić | 2019/0044 | B77: Joined | C77: 3/2/2021, 2:47:36 PM
